Back to Multiple platform build/check report for BioC 3.22:   simplified   long
ABCDEFGHIJKLMNO[P]QRSTUVWXYZ

This page was generated on 2025-05-23 12:09 -0400 (Fri, 23 May 2025).

HostnameOSArch (*)R versionInstalled pkgs
nebbiolo2Linux (Ubuntu 24.04.1 LTS)x86_644.5.0 (2025-04-11) -- "How About a Twenty-Six" 4753
palomino8Windows Server 2022 Datacenterx644.5.0 (2025-04-11 ucrt) -- "How About a Twenty-Six" 4528
lconwaymacOS 12.7.1 Montereyx86_644.5.0 Patched (2025-04-21 r88169) -- "How About a Twenty-Six" 4553
kjohnson3macOS 13.7.1 Venturaarm644.5.0 Patched (2025-04-21 r88169) -- "How About a Twenty-Six" 4493
taishanLinux (openEuler 24.03 LTS)aarch644.5.0 (2025-04-11) -- "How About a Twenty-Six" 4460
Click on any hostname to see more info about the system (e.g. compilers)      (*) as reported by 'uname -p', except on Windows and Mac OS X

Package 1558/2306HostnameOS / ArchINSTALLBUILDCHECKBUILD BIN
phyloseq 1.53.0  (landing page)
Paul J. McMurdie
Snapshot Date: 2025-05-22 13:25 -0400 (Thu, 22 May 2025)
git_url: https://git.bioconductor.org/packages/phyloseq
git_branch: devel
git_last_commit: 634d7e4
git_last_commit_date: 2025-04-15 10:12:24 -0400 (Tue, 15 Apr 2025)
nebbiolo2Linux (Ubuntu 24.04.1 LTS) / x86_64  OK    OK    WARNINGS  UNNEEDED, same version is already published
palomino8Windows Server 2022 Datacenter / x64  OK    OK    WARNINGS    OK  UNNEEDED, same version is already published
lconwaymacOS 12.7.1 Monterey / x86_64  OK    OK    WARNINGS    OK  UNNEEDED, same version is already published
kjohnson3macOS 13.7.1 Ventura / arm64  OK    ERROR  skippedskipped
taishanLinux (openEuler 24.03 LTS) / aarch64  OK    OK    WARNINGS  


BUILD BIN results for phyloseq on lconway

To the developers/maintainers of the phyloseq package:
- Allow up to 24 hours (and sometimes 48 hours) for your latest push to git@git.bioconductor.org:packages/phyloseq.git to reflect on this report. See Troubleshooting Build Report for more information.
- Use the following Renviron settings to reproduce errors and warnings.
- If 'R CMD check' started to fail recently on the Linux builder(s) over a missing dependency, add the missing dependency to 'Suggests:' in your DESCRIPTION file. See Renviron.bioc for more information.

raw results


Summary

Package: phyloseq
Version: 1.53.0
Command: rm -rf phyloseq.buildbin-libdir && mkdir phyloseq.buildbin-libdir && /Users/biocbuild/BBS/utils/build-universal.sh phyloseq_1.53.0.tar.gz /Library/Frameworks/R.framework/Resources/bin/R phyloseq.buildbin-libdir
StartedAt: 2025-05-23 00:45:06 -0400 (Fri, 23 May 2025)
EndedAt: 2025-05-23 00:45:46 -0400 (Fri, 23 May 2025)
EllapsedTime: 39.4 seconds
RetCode: 0
Status:   OK  
PackageFile: phyloseq_1.53.0.tgz
PackageFileSize: 6.329 MiB

Command output

##############################################################################
##############################################################################
###
### Running command:
###
###   rm -rf phyloseq.buildbin-libdir && mkdir phyloseq.buildbin-libdir && /Users/biocbuild/BBS/utils/build-universal.sh phyloseq_1.53.0.tar.gz /Library/Frameworks/R.framework/Resources/bin/R phyloseq.buildbin-libdir
###
##############################################################################
##############################################################################


>>>>>>> 
>>>>>>> INSTALLATION WITH 'R CMD INSTALL --preclean --no-multiarch --library=phyloseq.buildbin-libdir phyloseq_1.53.0.tar.gz'
>>>>>>> 

* installing *source* package ‘phyloseq’ ...
** this is package ‘phyloseq’ version ‘1.53.0’
** using staged installation
** R
** data
** inst
** byte-compile and prepare package for lazy loading
** help
*** installing help indices
** building package indices
** installing vignettes
** testing if installed package can be loaded from temporary location
** testing if installed package can be loaded from final location
** testing if installed package keeps a record of temporary installation path
* DONE (phyloseq)