Back to Multiple platform build/check report for BioC 3.21:   simplified   long
ABCDEFGHIJKLMNO[P]QRSTUVWXYZ

This page was generated on 2025-02-04 11:44 -0500 (Tue, 04 Feb 2025).

HostnameOSArch (*)R versionInstalled pkgs
nebbiolo1Linux (Ubuntu 24.04.1 LTS)x86_64R Under development (unstable) (2025-01-20 r87609) -- "Unsuffered Consequences" 4716
palomino7Windows Server 2022 Datacenterx64R Under development (unstable) (2025-01-21 r87610 ucrt) -- "Unsuffered Consequences" 4478
lconwaymacOS 12.7.1 Montereyx86_64R Under development (unstable) (2025-01-22 r87618) -- "Unsuffered Consequences" 4489
kjohnson3macOS 13.7.1 Venturaarm64R Under development (unstable) (2025-01-20 r87609) -- "Unsuffered Consequences" 4442
Click on any hostname to see more info about the system (e.g. compilers)      (*) as reported by 'uname -p', except on Windows and Mac OS X

Package 1519/2295HostnameOS / ArchINSTALLBUILDCHECKBUILD BIN
pcaMethods 1.99.0  (landing page)
Henning Redestig
Snapshot Date: 2025-02-03 13:40 -0500 (Mon, 03 Feb 2025)
git_url: https://git.bioconductor.org/packages/pcaMethods
git_branch: devel
git_last_commit: 8148736
git_last_commit_date: 2024-10-29 09:26:55 -0500 (Tue, 29 Oct 2024)
nebbiolo1Linux (Ubuntu 24.04.1 LTS) / x86_64  OK    OK    OK  UNNEEDED, same version is already published
palomino7Windows Server 2022 Datacenter / x64  OK    OK    OK    OK  UNNEEDED, same version is already published
lconwaymacOS 12.7.1 Monterey / x86_64  OK    OK    OK    OK  UNNEEDED, same version is already published
kjohnson3macOS 13.7.1 Ventura / arm64  OK    OK    OK    OK  UNNEEDED, same version is already published


CHECK results for pcaMethods on kjohnson3

To the developers/maintainers of the pcaMethods package:
- Allow up to 24 hours (and sometimes 48 hours) for your latest push to git@git.bioconductor.org:packages/pcaMethods.git to reflect on this report. See Troubleshooting Build Report for more information.
- Use the following Renviron settings to reproduce errors and warnings.
- If 'R CMD check' started to fail recently on the Linux builder(s) over a missing dependency, add the missing dependency to 'Suggests:' in your DESCRIPTION file. See Renviron.bioc for more information.

raw results


Summary

Package: pcaMethods
Version: 1.99.0
Command: /Library/Frameworks/R.framework/Resources/bin/R CMD check --install=check:pcaMethods.install-out.txt --library=/Library/Frameworks/R.framework/Resources/library --no-vignettes --timings pcaMethods_1.99.0.tar.gz
StartedAt: 2025-02-03 21:12:08 -0500 (Mon, 03 Feb 2025)
EndedAt: 2025-02-03 21:12:55 -0500 (Mon, 03 Feb 2025)
EllapsedTime: 46.5 seconds
RetCode: 0
Status:   OK  
CheckDir: pcaMethods.Rcheck
Warnings: 0

Command output

##############################################################################
##############################################################################
###
### Running command:
###
###   /Library/Frameworks/R.framework/Resources/bin/R CMD check --install=check:pcaMethods.install-out.txt --library=/Library/Frameworks/R.framework/Resources/library --no-vignettes --timings pcaMethods_1.99.0.tar.gz
###
##############################################################################
##############################################################################


* using log directory ‘/Users/biocbuild/bbs-3.21-bioc/meat/pcaMethods.Rcheck’
* using R Under development (unstable) (2025-01-20 r87609)
* using platform: aarch64-apple-darwin20
* R was compiled by
    Apple clang version 14.0.0 (clang-1400.0.29.202)
    GNU Fortran (GCC) 14.2.0
* running under: macOS Ventura 13.7.1
* using session charset: UTF-8
* using option ‘--no-vignettes’
* checking for file ‘pcaMethods/DESCRIPTION’ ... OK
* this is package ‘pcaMethods’ version ‘1.99.0’
* package encoding: UTF-8
* checking package namespace information ... OK
* checking package dependencies ... OK
* checking if this is a source package ... OK
* checking if there is a namespace ... OK
* checking for hidden files and directories ... OK
* checking for portable file names ... OK
* checking for sufficient/correct file permissions ... OK
* checking whether package ‘pcaMethods’ can be installed ... OK
* used C++ compiler: ‘Apple clang version 15.0.0 (clang-1500.1.0.2.5)’
* used SDK: ‘MacOSX11.3.sdk’
* checking installed package size ... OK
* checking package directory ... OK
* checking ‘build’ directory ... OK
* checking DESCRIPTION meta-information ... OK
* checking top-level files ... OK
* checking for left-over files ... OK
* checking index information ... OK
* checking package subdirectories ... OK
* checking code files for non-ASCII characters ... OK
* checking R files for syntax errors ... OK
* checking whether the package can be loaded ... OK
* checking whether the package can be loaded with stated dependencies ... OK
* checking whether the package can be unloaded cleanly ... OK
* checking whether the namespace can be loaded with stated dependencies ... OK
* checking whether the namespace can be unloaded cleanly ... OK
* checking dependencies in R code ... OK
* checking S3 generic/method consistency ... OK
* checking replacement functions ... OK
* checking foreign function calls ... OK
* checking R code for possible problems ... NOTE
BPCA_initmodel: no visible global function definition for ‘cov’
Q2: no visible global function definition for ‘txtProgressBar’
Q2: no visible global function definition for ‘setTxtProgressBar’
Q2: no visible global function definition for ‘cor’
RnipalsPca: no visible global function definition for ‘na.omit’
cvseg : <anonymous>: no visible global function definition for
  ‘na.omit’
llsImpute: no visible global function definition for ‘cor’
nlpca: no visible global function definition for ‘runif’
nlpca: no visible global function definition for ‘rnorm’
plot.pcaRes: no visible global function definition for ‘gray’
plot.pcaRes: no visible global function definition for ‘barplot’
plot.pcaRes: no visible global function definition for ‘legend’
plotPcs : panel: no visible global function definition for ‘abline’
plotPcs : panel: no visible global function definition for ‘lines’
plotPcs : panel: no visible global function definition for ‘points’
plotPcs : panel: no visible global function definition for ‘text’
plotPcs: no visible global function definition for ‘pairs’
ppca: no visible global function definition for ‘rnorm’
ppca: no visible global function definition for ‘cov’
robustSvd: no visible binding for global variable ‘median’
simpleEllipse: no visible global function definition for ‘qf’
svdImpute: no visible global function definition for ‘prcomp’
svdPca: no visible global function definition for ‘prcomp’
plot,pcaRes: no visible global function definition for ‘gray’
plot,pcaRes: no visible global function definition for ‘barplot’
plot,pcaRes: no visible global function definition for ‘legend’
slplot,pcaRes: no visible global function definition for ‘par’
slplot,pcaRes: no visible global function definition for ‘layout’
slplot,pcaRes: no visible global function definition for ‘abline’
slplot,pcaRes: no visible global function definition for ‘lines’
Undefined global functions or variables:
  abline barplot cor cov gray layout legend lines median na.omit pairs
  par points prcomp qf rnorm runif setTxtProgressBar text
  txtProgressBar
Consider adding
  importFrom("grDevices", "gray")
  importFrom("graphics", "abline", "barplot", "layout", "legend",
             "lines", "pairs", "par", "points", "text")
  importFrom("stats", "cor", "cov", "median", "na.omit", "prcomp", "qf",
             "rnorm", "runif")
  importFrom("utils", "setTxtProgressBar", "txtProgressBar")
to your NAMESPACE file.
* checking Rd files ... OK
* checking Rd metadata ... OK
* checking Rd cross-references ... OK
* checking for missing documentation entries ... OK
* checking for code/documentation mismatches ... OK
* checking Rd \usage sections ... OK
* checking Rd contents ... OK
* checking for unstated dependencies in examples ... OK
* checking contents of ‘data’ directory ... OK
* checking data for non-ASCII characters ... OK
* checking data for ASCII and uncompressed saves ... OK
* checking line endings in C/C++/Fortran sources/headers ... OK
* checking compiled code ... NOTE
Note: information on .o files is not available
* checking sizes of PDF files under ‘inst/doc’ ... OK
* checking files in ‘vignettes’ ... OK
* checking examples ... OK
Examples with CPU (user + system) or elapsed time > 5s
            user system elapsed
kEstimate 17.966  2.966  21.048
* checking for unstated dependencies in vignettes ... OK
* checking package vignettes ... OK
* checking running R code from vignettes ... SKIPPED
* checking re-building of vignette outputs ... SKIPPED
* checking PDF version of manual ... OK
* DONE

Status: 2 NOTEs
See
  ‘/Users/biocbuild/bbs-3.21-bioc/meat/pcaMethods.Rcheck/00check.log’
for details.


Installation output

pcaMethods.Rcheck/00install.out

##############################################################################
##############################################################################
###
### Running command:
###
###   /Library/Frameworks/R.framework/Resources/bin/R CMD INSTALL pcaMethods
###
##############################################################################
##############################################################################


* installing to library ‘/Library/Frameworks/R.framework/Versions/4.5-arm64/Resources/library’
* installing *source* package ‘pcaMethods’ ...
** this is package ‘pcaMethods’ version ‘1.99.0’
** using staged installation
** libs
using C++ compiler: ‘Apple clang version 15.0.0 (clang-1500.1.0.2.5)’
using SDK: ‘MacOSX11.3.sdk’
clang++ -arch arm64 -std=gnu++17 -I"/Library/Frameworks/R.framework/Resources/include" -DNDEBUG  -I'/Library/Frameworks/R.framework/Versions/4.5-arm64/Resources/library/Rcpp/include' -I/opt/R/arm64/include    -fPIC  -falign-functions=64 -Wall -g -O2  -DR_NO_REMAP -c RcppExports.cpp -o RcppExports.o
clang++ -arch arm64 -std=gnu++17 -I"/Library/Frameworks/R.framework/Resources/include" -DNDEBUG  -I'/Library/Frameworks/R.framework/Versions/4.5-arm64/Resources/library/Rcpp/include' -I/opt/R/arm64/include    -fPIC  -falign-functions=64 -Wall -g -O2  -DR_NO_REMAP -c nipals.cpp -o nipals.o
clang++ -arch arm64 -std=gnu++17 -dynamiclib -Wl,-headerpad_max_install_names -undefined dynamic_lookup -L/Library/Frameworks/R.framework/Resources/lib -L/opt/R/arm64/lib -o pcaMethods.so RcppExports.o nipals.o -F/Library/Frameworks/R.framework/.. -framework R -Wl,-framework -Wl,CoreFoundation
installing to /Library/Frameworks/R.framework/Versions/4.5-arm64/Resources/library/00LOCK-pcaMethods/00new/pcaMethods/libs
** R
** data
** inst
** byte-compile and prepare package for lazy loading
Creating a new generic function for ‘loadings’ in package ‘pcaMethods’
** help
*** installing help indices
** building package indices
** installing vignettes
** testing if installed package can be loaded from temporary location
** checking absolute paths in shared objects and dynamic libraries
** testing if installed package can be loaded from final location
** testing if installed package keeps a record of temporary installation path
* DONE (pcaMethods)

Tests output


Example timings

pcaMethods.Rcheck/pcaMethods-Ex.timings

nameusersystemelapsed
DModX-pcaRes-method0.0120.0030.015
Q20.0380.0020.040
R2VX-pcaRes-method0.0040.0000.004
RnipalsPca0.0910.0030.094
biplot-methods0.0020.0020.004
bpca0.2100.0200.229
cvseg0.0030.0000.003
fitted-methods0.0020.0000.002
kEstimate17.966 2.96621.048
kEstimateFast0.1150.0190.135
leverage-pcaRes-method0.0020.0010.004
llsImpute0.0520.0060.058
nipalsPca0.0040.0010.005
nlpca0.4200.0420.462
nni0.0350.0090.045
pca0.3960.0200.421
plot.pcaRes0.0910.0040.096
plotPcs0.0050.0020.007
ppca0.0490.0100.059
predict-methods0.0030.0010.003
prep0.0000.0000.001
rediduals-methods0.0020.0010.003
robustPca1.5210.2541.780
robustSvd3.3180.5853.918
slplot-pcaRes-method0.0060.0010.008
svdImpute0.0260.0030.029
svdPca0.0040.0010.005
wasna-pcaRes-method0.0100.0020.016