| Back to Multiple platform build/check report for BioC 3.22: simplified long |
|
This page was generated on 2025-08-15 12:07 -0400 (Fri, 15 Aug 2025).
| Hostname | OS | Arch (*) | R version | Installed pkgs |
|---|---|---|---|---|
| nebbiolo2 | Linux (Ubuntu 24.04.3 LTS) | x86_64 | 4.5.1 (2025-06-13) -- "Great Square Root" | 4818 |
| palomino8 | Windows Server 2022 Datacenter | x64 | 4.5.1 (2025-06-13 ucrt) -- "Great Square Root" | 4554 |
| lconway | macOS 12.7.1 Monterey | x86_64 | 4.5.1 (2025-06-13) -- "Great Square Root" | 4595 |
| kjohnson3 | macOS 13.7.7 Ventura | arm64 | 4.5.1 Patched (2025-06-14 r88325) -- "Great Square Root" | 4537 |
| taishan | Linux (openEuler 24.03 LTS) | aarch64 | 4.5.0 (2025-04-11) -- "How About a Twenty-Six" | 4535 |
| Click on any hostname to see more info about the system (e.g. compilers) (*) as reported by 'uname -p', except on Windows and Mac OS X | ||||
| Package 1530/2317 | Hostname | OS / Arch | INSTALL | BUILD | CHECK | BUILD BIN | ||||||||
| pathwayPCA 1.25.0 (landing page) Gabriel Odom
| nebbiolo2 | Linux (Ubuntu 24.04.3 LTS) / x86_64 | OK | OK | OK | |||||||||
| palomino8 | Windows Server 2022 Datacenter / x64 | OK | OK | OK | OK | |||||||||
| lconway | macOS 12.7.1 Monterey / x86_64 | OK | OK | OK | OK | |||||||||
| kjohnson3 | macOS 13.7.7 Ventura / arm64 | OK | OK | OK | OK | |||||||||
| taishan | Linux (openEuler 24.03 LTS) / aarch64 | OK | OK | OK | ||||||||||
|
To the developers/maintainers of the pathwayPCA package: - Allow up to 24 hours (and sometimes 48 hours) for your latest push to git@git.bioconductor.org:packages/pathwayPCA.git to reflect on this report. See Troubleshooting Build Report for more information. - Use the following Renviron settings to reproduce errors and warnings. - If 'R CMD check' started to fail recently on the Linux builder(s) over a missing dependency, add the missing dependency to 'Suggests:' in your DESCRIPTION file. See Renviron.bioc for more information. |
| Package: pathwayPCA |
| Version: 1.25.0 |
| Command: F:\biocbuild\bbs-3.22-bioc\R\bin\R.exe CMD check --no-multiarch --install=check:pathwayPCA.install-out.txt --library=F:\biocbuild\bbs-3.22-bioc\R\library --no-vignettes --timings pathwayPCA_1.25.0.tar.gz |
| StartedAt: 2025-08-15 06:15:21 -0400 (Fri, 15 Aug 2025) |
| EndedAt: 2025-08-15 06:18:32 -0400 (Fri, 15 Aug 2025) |
| EllapsedTime: 190.9 seconds |
| RetCode: 0 |
| Status: OK |
| CheckDir: pathwayPCA.Rcheck |
| Warnings: 0 |
##############################################################################
##############################################################################
###
### Running command:
###
### F:\biocbuild\bbs-3.22-bioc\R\bin\R.exe CMD check --no-multiarch --install=check:pathwayPCA.install-out.txt --library=F:\biocbuild\bbs-3.22-bioc\R\library --no-vignettes --timings pathwayPCA_1.25.0.tar.gz
###
##############################################################################
##############################################################################
* using log directory 'F:/biocbuild/bbs-3.22-bioc/meat/pathwayPCA.Rcheck'
* using R version 4.5.1 (2025-06-13 ucrt)
* using platform: x86_64-w64-mingw32
* R was compiled by
gcc.exe (GCC) 14.2.0
GNU Fortran (GCC) 14.2.0
* running under: Windows Server 2022 x64 (build 20348)
* using session charset: UTF-8
* using option '--no-vignettes'
* checking for file 'pathwayPCA/DESCRIPTION' ... OK
* checking extension type ... Package
* this is package 'pathwayPCA' version '1.25.0'
* package encoding: UTF-8
* checking package namespace information ... OK
* checking package dependencies ... OK
* checking if this is a source package ... OK
* checking if there is a namespace ... OK
* checking for hidden files and directories ... OK
* checking for portable file names ... OK
* checking whether package 'pathwayPCA' can be installed ... OK
* checking installed package size ... OK
* checking package directory ... OK
* checking 'build' directory ... OK
* checking DESCRIPTION meta-information ... OK
* checking top-level files ... OK
* checking for left-over files ... OK
* checking index information ... OK
* checking package subdirectories ... OK
* checking code files for non-ASCII characters ... OK
* checking R files for syntax errors ... OK
* checking whether the package can be loaded ... OK
* checking whether the package can be loaded with stated dependencies ... OK
* checking whether the package can be unloaded cleanly ... OK
* checking whether the namespace can be loaded with stated dependencies ... OK
* checking whether the namespace can be unloaded cleanly ... OK
* checking dependencies in R code ... OK
* checking S3 generic/method consistency ... OK
* checking replacement functions ... OK
* checking foreign function calls ... OK
* checking R code for possible problems ... OK
* checking Rd files ... NOTE
checkRd: (-1) AESPCA_pVals.Rd:76: Lost braces in \itemize; \value handles \item{}{} directly
checkRd: (-1) AESPCA_pVals.Rd:78-80: Lost braces in \itemize; \value handles \item{}{} directly
checkRd: (-1) AESPCA_pVals.Rd:81-83: Lost braces in \itemize; \value handles \item{}{} directly
checkRd: (-1) AESPCA_pVals.Rd:84-85: Lost braces in \itemize; \value handles \item{}{} directly
checkRd: (-1) AESPCA_pVals.Rd:86: Lost braces in \itemize; \value handles \item{}{} directly
checkRd: (-1) AESPCA_pVals.Rd:87-88: Lost braces in \itemize; \value handles \item{}{} directly
checkRd: (-1) ControlFDR.Rd:88-90: Lost braces in \itemize; meant \describe ?
checkRd: (-1) ControlFDR.Rd:91-93: Lost braces in \itemize; meant \describe ?
checkRd: (-1) ControlFDR.Rd:94-98: Lost braces in \itemize; meant \describe ?
checkRd: (-1) ControlFDR.Rd:99-105: Lost braces in \itemize; meant \describe ?
checkRd: (-1) ControlFDR.Rd:106-107: Lost braces in \itemize; meant \describe ?
checkRd: (-1) ControlFDR.Rd:108-109: Lost braces in \itemize; meant \describe ?
checkRd: (-1) ControlFDR.Rd:110-112: Lost braces in \itemize; meant \describe ?
checkRd: (-1) ControlFDR.Rd:113-115: Lost braces in \itemize; meant \describe ?
checkRd: (-1) ControlFDR.Rd:116-118: Lost braces in \itemize; meant \describe ?
checkRd: (-1) ControlFDR.Rd:49-52: Lost braces in \itemize; \value handles \item{}{} directly
checkRd: (-1) ControlFDR.Rd:53-56: Lost braces in \itemize; \value handles \item{}{} directly
checkRd: (-1) ControlFDR.Rd:57-60: Lost braces in \itemize; \value handles \item{}{} directly
checkRd: (-1) ControlFDR.Rd:61-64: Lost braces in \itemize; \value handles \item{}{} directly
checkRd: (-1) CreateOmics.Rd:23-29: Lost braces in \itemize; meant \describe ?
checkRd: (-1) CreateOmics.Rd:30-31: Lost braces in \itemize; meant \describe ?
checkRd: (-1) CreateOmics.Rd:32-34: Lost braces in \itemize; meant \describe ?
checkRd: (-1) CreateOmicsPathway.Rd:42-48: Lost braces in \itemize; meant \describe ?
checkRd: (-1) CreateOmicsPathway.Rd:49-50: Lost braces in \itemize; meant \describe ?
checkRd: (-1) CreateOmicsPathway.Rd:51-53: Lost braces in \itemize; meant \describe ?
checkRd: (-1) JoinPhenoAssay.Rd:17-19: Lost braces in \itemize; \value handles \item{}{} directly
checkRd: (-1) JoinPhenoAssay.Rd:20-21: Lost braces in \itemize; \value handles \item{}{} directly
checkRd: (-1) JoinPhenoAssay.Rd:22-23: Lost braces in \itemize; \value handles \item{}{} directly
checkRd: (-1) OmicsCateg-class.Rd:19-25: Lost braces in \itemize; meant \describe ?
checkRd: (-1) OmicsCateg-class.Rd:26-27: Lost braces in \itemize; meant \describe ?
checkRd: (-1) OmicsCateg-class.Rd:28-30: Lost braces in \itemize; meant \describe ?
checkRd: (-1) OmicsCateg-class.Rd:31-34: Lost braces in \itemize; meant \describe ?
checkRd: (-1) OmicsPathway-class.Rd:20-26: Lost braces in \itemize; meant \describe ?
checkRd: (-1) OmicsPathway-class.Rd:27-28: Lost braces in \itemize; meant \describe ?
checkRd: (-1) OmicsPathway-class.Rd:29-31: Lost braces in \itemize; meant \describe ?
checkRd: (-1) OmicsPathway-class.Rd:32-35: Lost braces in \itemize; meant \describe ?
checkRd: (-1) OmicsReg-class.Rd:19-25: Lost braces in \itemize; meant \describe ?
checkRd: (-1) OmicsReg-class.Rd:26-27: Lost braces in \itemize; meant \describe ?
checkRd: (-1) OmicsReg-class.Rd:28-30: Lost braces in \itemize; meant \describe ?
checkRd: (-1) OmicsReg-class.Rd:31-34: Lost braces in \itemize; meant \describe ?
checkRd: (-1) OmicsSurv-class.Rd:19-25: Lost braces in \itemize; meant \describe ?
checkRd: (-1) OmicsSurv-class.Rd:26-27: Lost braces in \itemize; meant \describe ?
checkRd: (-1) OmicsSurv-class.Rd:28-30: Lost braces in \itemize; meant \describe ?
checkRd: (-1) OmicsSurv-class.Rd:31-34: Lost braces in \itemize; meant \describe ?
checkRd: (-1) OptimGumbelMixParams.Rd:28-30: Lost braces in \itemize; meant \describe ?
checkRd: (-1) OptimGumbelMixParams.Rd:31-32: Lost braces in \itemize; meant \describe ?
checkRd: (-1) OptimGumbelMixParams.Rd:33-34: Lost braces in \itemize; meant \describe ?
checkRd: (-1) OptimGumbelMixParams.Rd:35-36: Lost braces in \itemize; meant \describe ?
checkRd: (-1) OptimGumbelMixParams.Rd:37-38: Lost braces in \itemize; meant \describe ?
checkRd: (-1) SubsetPathwayCollection.Rd:36: Lost braces
36 | object, then create a new one with the code{\link{CreatePathwayCollection}}
| ^
checkRd: (-1) SuperPCA_pVals.Rd:66: Lost braces in \itemize; \value handles \item{}{} directly
checkRd: (-1) SuperPCA_pVals.Rd:68-70: Lost braces in \itemize; \value handles \item{}{} directly
checkRd: (-1) SuperPCA_pVals.Rd:71-72: Lost braces in \itemize; \value handles \item{}{} directly
checkRd: (-1) SuperPCA_pVals.Rd:73: Lost braces in \itemize; \value handles \item{}{} directly
checkRd: (-1) SuperPCA_pVals.Rd:74-75: Lost braces in \itemize; \value handles \item{}{} directly
checkRd: (-1) TabulatepValues.Rd:28-29: Lost braces in \itemize; meant \describe ?
checkRd: (-1) TabulatepValues.Rd:30-31: Lost braces in \itemize; meant \describe ?
checkRd: (-1) TabulatepValues.Rd:32-35: Lost braces in \itemize; meant \describe ?
checkRd: (-1) TabulatepValues.Rd:53: Lost braces in \itemize; \value handles \item{}{} directly
checkRd: (-1) TabulatepValues.Rd:55-57: Lost braces in \itemize; \value handles \item{}{} directly
checkRd: (-1) TabulatepValues.Rd:58-59: Lost braces in \itemize; \value handles \item{}{} directly
checkRd: (-1) TabulatepValues.Rd:60-61: Lost braces in \itemize; \value handles \item{}{} directly
checkRd: (-1) TabulatepValues.Rd:62: Lost braces in \itemize; \value handles \item{}{} directly
checkRd: (-1) TabulatepValues.Rd:63-64: Lost braces in \itemize; \value handles \item{}{} directly
checkRd: (-1) aespca.Rd:33-34: Lost braces in \itemize; \value handles \item{}{} directly
checkRd: (-1) aespca.Rd:35-36: Lost braces in \itemize; \value handles \item{}{} directly
checkRd: (-1) aespca.Rd:37-38: Lost braces in \itemize; \value handles \item{}{} directly
checkRd: (-1) aespca.Rd:39-40: Lost braces in \itemize; \value handles \item{}{} directly
checkRd: (-1) colon_pathwayCollection.Rd:10-12: Lost braces in \itemize; meant \describe ?
checkRd: (-1) colon_pathwayCollection.Rd:13-14: Lost braces in \itemize; meant \describe ?
checkRd: (-1) coxTrain_fun.Rd:22-24: Lost braces in \itemize; \value handles \item{}{} directly
checkRd: (-1) coxTrain_fun.Rd:25-26: Lost braces in \itemize; \value handles \item{}{} directly
checkRd: (-1) coxTrain_fun.Rd:27-28: Lost braces in \itemize; \value handles \item{}{} directly
checkRd: (-1) coxTrain_fun.Rd:29-31: Lost braces in \itemize; \value handles \item{}{} directly
checkRd: (-1) getPathPCLs.Rd:29: Lost braces in \itemize; \value handles \item{}{} directly
checkRd: (-1) getPathPCLs.Rd:30-31: Lost braces in \itemize; \value handles \item{}{} directly
checkRd: (-1) getPathPCLs.Rd:32-33: Lost braces in \itemize; \value handles \item{}{} directly
checkRd: (-1) getPathPCLs.Rd:34: Lost braces in \itemize; \value handles \item{}{} directly
checkRd: (-1) getPathpVals.Rd:39-40: Lost braces in \itemize; \value handles \item{}{} directly
checkRd: (-1) getPathpVals.Rd:41-43: Lost braces in \itemize; \value handles \item{}{} directly
checkRd: (-1) getPathpVals.Rd:44-45: Lost braces in \itemize; \value handles \item{}{} directly
checkRd: (-1) getPathpVals.Rd:46-48: Lost braces in \itemize; \value handles \item{}{} directly
checkRd: (-1) getPathpVals.Rd:49-50: Lost braces in \itemize; \value handles \item{}{} directly
checkRd: (-1) mysvd.Rd:24-25: Lost braces in \itemize; \value handles \item{}{} directly
checkRd: (-1) mysvd.Rd:26-27: Lost braces in \itemize; \value handles \item{}{} directly
checkRd: (-1) mysvd.Rd:28-29: Lost braces in \itemize; \value handles \item{}{} directly
checkRd: (-1) mysvd.Rd:30-31: Lost braces in \itemize; \value handles \item{}{} directly
checkRd: (-1) olsTrain_fun.Rd:21-22: Lost braces in \itemize; \value handles \item{}{} directly
checkRd: (-1) olsTrain_fun.Rd:23: Lost braces in \itemize; \value handles \item{}{} directly
checkRd: (-1) olsTrain_fun.Rd:24-25: Lost braces in \itemize; \value handles \item{}{} directly
checkRd: (-1) olsTrain_fun.Rd:26-27: Lost braces in \itemize; \value handles \item{}{} directly
checkRd: (-1) pathwayPCA-package.Rd:15-17: Lost braces in \itemize; meant \describe ?
checkRd: (-1) pathwayPCA-package.Rd:18-20: Lost braces in \itemize; meant \describe ?
checkRd: (-1) pathwayPCA-package.Rd:21-23: Lost braces in \itemize; meant \describe ?
checkRd: (-1) pathwayPCA-package.Rd:24-26: Lost braces in \itemize; meant \describe ?
checkRd: (-1) read_gmt.Rd:40-43: Lost braces in \itemize; \value handles \item{}{} directly
checkRd: (-1) read_gmt.Rd:44-45: Lost braces in \itemize; \value handles \item{}{} directly
checkRd: (-1) read_gmt.Rd:46-50: Lost braces in \itemize; \value handles \item{}{} directly
checkRd: (-1) superpc.st.Rd:23: Lost braces in \itemize; meant \describe ?
checkRd: (-1) superpc.st.Rd:24: Lost braces in \itemize; meant \describe ?
checkRd: (-1) superpc.st.Rd:25-27: Lost braces in \itemize; meant \describe ?
checkRd: (-1) superpc.st.Rd:28-29: Lost braces in \itemize; meant \describe ?
checkRd: (-1) superpc.st.Rd:53-54: Lost braces in \itemize; \value handles \item{}{} directly
checkRd: (-1) superpc.st.Rd:55-56: Lost braces in \itemize; \value handles \item{}{} directly
checkRd: (-1) superpc.st.Rd:57-61: Lost braces in \itemize; \value handles \item{}{} directly
checkRd: (-1) superpc.st.Rd:62-63: Lost braces in \itemize; \value handles \item{}{} directly
checkRd: (-1) superpc.st.Rd:64-65: Lost braces in \itemize; \value handles \item{}{} directly
checkRd: (-1) superpc.train.Rd:16: Lost braces in \itemize; meant \describe ?
checkRd: (-1) superpc.train.Rd:17: Lost braces in \itemize; meant \describe ?
checkRd: (-1) superpc.train.Rd:18-20: Lost braces in \itemize; meant \describe ?
checkRd: (-1) superpc.train.Rd:21-22: Lost braces in \itemize; meant \describe ?
checkRd: (-1) superpc.train.Rd:35-38: Lost braces in \itemize; \value handles \item{}{} directly
checkRd: (-1) superpc.train.Rd:39: Lost braces in \itemize; \value handles \item{}{} directly
checkRd: (-1) superpc.train.Rd:40-41: Lost braces in \itemize; \value handles \item{}{} directly
checkRd: (-1) superpc.train.Rd:42-43: Lost braces in \itemize; \value handles \item{}{} directly
checkRd: (-1) wikipwsHS_Entrez_pathwayCollection.Rd:10-13: Lost braces in \itemize; meant \describe ?
checkRd: (-1) wikipwsHS_Entrez_pathwayCollection.Rd:14-15: Lost braces in \itemize; meant \describe ?
checkRd: (-1) wikipwsHS_Entrez_pathwayCollection.Rd:16-17: Lost braces in \itemize; meant \describe ?
checkRd: (-1) wikipwsHS_Symbol_pathwayCollection.Rd:10-13: Lost braces in \itemize; meant \describe ?
checkRd: (-1) wikipwsHS_Symbol_pathwayCollection.Rd:14-15: Lost braces in \itemize; meant \describe ?
checkRd: (-1) wikipwsHS_Symbol_pathwayCollection.Rd:16-17: Lost braces in \itemize; meant \describe ?
checkRd: (-1) write_gmt.Rd:13-17: Lost braces in \itemize; meant \describe ?
checkRd: (-1) write_gmt.Rd:18-19: Lost braces in \itemize; meant \describe ?
checkRd: (-1) write_gmt.Rd:20-25: Lost braces in \itemize; meant \describe ?
* checking Rd metadata ... OK
* checking Rd cross-references ... OK
* checking for missing documentation entries ... OK
* checking for code/documentation mismatches ... OK
* checking Rd \usage sections ... OK
* checking Rd contents ... OK
* checking for unstated dependencies in examples ... OK
* checking contents of 'data' directory ... OK
* checking data for non-ASCII characters ... OK
* checking data for ASCII and uncompressed saves ... OK
* checking files in 'vignettes' ... OK
* checking examples ... OK
Examples with CPU (user + system) or elapsed time > 5s
user system elapsed
SE2Tidy 12.47 0.36 12.84
LoadOntoPCs 0.52 0.23 7.50
AESPCA_pVals 0.38 0.28 7.33
ExtractAESPCs 0.39 0.19 5.52
getPathPCLs 0.38 0.06 8.37
getPathpVals 0.31 0.06 8.78
SuperPCA_pVals 0.30 0.05 6.19
* checking for unstated dependencies in 'tests' ... OK
* checking tests ...
Running 'testthat.R'
OK
* checking for unstated dependencies in vignettes ... OK
* checking package vignettes ... OK
* checking running R code from vignettes ... SKIPPED
* checking re-building of vignette outputs ... SKIPPED
* checking PDF version of manual ... OK
* DONE
Status: 1 NOTE
See
'F:/biocbuild/bbs-3.22-bioc/meat/pathwayPCA.Rcheck/00check.log'
for details.
pathwayPCA.Rcheck/00install.out
############################################################################## ############################################################################## ### ### Running command: ### ### F:\biocbuild\bbs-3.22-bioc\R\bin\R.exe CMD INSTALL pathwayPCA ### ############################################################################## ############################################################################## * installing to library 'F:/biocbuild/bbs-3.22-bioc/R/library' * installing *source* package 'pathwayPCA' ... ** this is package 'pathwayPCA' version '1.25.0' ** using staged installation ** R ** data ** inst ** byte-compile and prepare package for lazy loading ** help *** installing help indices ** building package indices ** installing vignettes ** testing if installed package can be loaded from temporary location ** testing if installed package can be loaded from final location ** testing if installed package keeps a record of temporary installation path * DONE (pathwayPCA)
pathwayPCA.Rcheck/tests/testthat.Rout
R version 4.5.1 (2025-06-13 ucrt) -- "Great Square Root"
Copyright (C) 2025 The R Foundation for Statistical Computing
Platform: x86_64-w64-mingw32/x64
R is free software and comes with ABSOLUTELY NO WARRANTY.
You are welcome to redistribute it under certain conditions.
Type 'license()' or 'licence()' for distribution details.
R is a collaborative project with many contributors.
Type 'contributors()' for more information and
'citation()' on how to cite R or R packages in publications.
Type 'demo()' for some demos, 'help()' for on-line help, or
'help.start()' for an HTML browser interface to help.
Type 'q()' to quit R.
> library(testthat)
> library(pathwayPCA)
>
> test_check("pathwayPCA")
[ FAIL 0 | WARN 0 | SKIP 0 | PASS 47 ]
>
> proc.time()
user system elapsed
17.09 1.29 46.82
pathwayPCA.Rcheck/pathwayPCA-Ex.timings
| name | user | system | elapsed | |
| AESPCA_pVals | 0.38 | 0.28 | 7.33 | |
| CheckAssay | 0 | 0 | 0 | |
| CheckPwyColl | 0 | 0 | 0 | |
| CheckSampleIDs | 0 | 0 | 0 | |
| Contains | 0 | 0 | 0 | |
| ControlFDR | 0 | 0 | 0 | |
| CreateOmics | 0.39 | 0.05 | 0.44 | |
| CreateOmicsPathway | 0.16 | 0.03 | 0.19 | |
| CreatePathwayCollection | 0.00 | 0.02 | 0.01 | |
| ExtractAESPCs | 0.39 | 0.19 | 5.52 | |
| GumbelMixpValues | 0 | 0 | 0 | |
| IntersectOmicsPwyCollct | 0 | 0 | 0 | |
| JoinPhenoAssay | 0 | 0 | 0 | |
| LoadOntoPCs | 0.52 | 0.23 | 7.50 | |
| OptimGumbelMixParams | 0 | 0 | 0 | |
| PathwaytValues | 0 | 0 | 0 | |
| PermTestCateg | 0 | 0 | 0 | |
| PermTestReg | 0 | 0 | 0 | |
| PermTestSurv | 0 | 0 | 0 | |
| SE2Tidy | 12.47 | 0.36 | 12.84 | |
| SubsetPathwayCollection | 0.01 | 0.00 | 0.02 | |
| SubsetPathwayData | 0.39 | 0.06 | 0.45 | |
| SuperPCA_pVals | 0.30 | 0.05 | 6.19 | |
| TabulatepValues | 0 | 0 | 0 | |
| TransposeAssay | 0.06 | 0.03 | 0.10 | |
| WhichPathways | 0.01 | 0.02 | 0.03 | |
| aespca | 0 | 0 | 0 | |
| coxTrain_fun | 0 | 0 | 0 | |
| getPathPCLs | 0.38 | 0.06 | 8.37 | |
| getPathpVals | 0.31 | 0.06 | 8.78 | |
| get_set_OmicsPathway | 1.36 | 0.42 | 1.78 | |
| get_set_OmicsRegCateg | 0.28 | 0.00 | 0.29 | |
| get_set_OmicsSurv | 0.31 | 0.02 | 0.32 | |
| glmTrain_fun | 0 | 0 | 0 | |
| lars.lsa | 0 | 0 | 0 | |
| mysvd | 0 | 0 | 0 | |
| normalize | 0 | 0 | 0 | |
| olsTrain_fun | 0 | 0 | 0 | |
| pathway_tControl | 0 | 0 | 0 | |
| pathway_tScores | 0 | 0 | 0 | |
| permuteSamps | 0 | 0 | 0 | |
| print.pathwayCollection | 0.02 | 0.00 | 0.01 | |
| read_gmt | 0.12 | 0.00 | 0.13 | |
| show-OmicsPathway-method | 0.33 | 0.03 | 0.36 | |
| superpc.st | 0 | 0 | 0 | |
| superpc.train | 0 | 0 | 0 | |
| write_gmt | 0 | 0 | 0 | |