Back to Multiple platform build/check report for BioC 3.22:   simplified   long
ABCDEFGHIJKLMNO[P]QRSTUVWXYZ

This page was generated on 2025-05-08 12:10 -0400 (Thu, 08 May 2025).

HostnameOSArch (*)R versionInstalled pkgs
nebbiolo2Linux (Ubuntu 24.04.1 LTS)x86_644.5.0 (2025-04-11) -- "How About a Twenty-Six" 4746
palomino8Windows Server 2022 Datacenterx644.5.0 (2025-04-11 ucrt) -- "How About a Twenty-Six" 4508
lconwaymacOS 12.7.1 Montereyx86_644.5.0 Patched (2025-04-21 r88169) -- "How About a Twenty-Six" 4547
kjohnson3macOS 13.7.1 Venturaarm644.5.0 Patched (2025-04-21 r88169) -- "How About a Twenty-Six" 4488
taishanLinux (openEuler 24.03 LTS)aarch644.5.0 (2025-04-11) -- "How About a Twenty-Six" 4441
Click on any hostname to see more info about the system (e.g. compilers)      (*) as reported by 'uname -p', except on Windows and Mac OS X

Package 1516/2304HostnameOS / ArchINSTALLBUILDCHECKBUILD BIN
pathlinkR 1.5.0  (landing page)
Travis Blimkie
Snapshot Date: 2025-05-07 13:00 -0400 (Wed, 07 May 2025)
git_url: https://git.bioconductor.org/packages/pathlinkR
git_branch: devel
git_last_commit: 4b3b70b
git_last_commit_date: 2025-04-15 13:25:26 -0400 (Tue, 15 Apr 2025)
nebbiolo2Linux (Ubuntu 24.04.1 LTS) / x86_64  OK    OK    OK  UNNEEDED, same version is already published
palomino8Windows Server 2022 Datacenter / x64  OK    OK    OK    OK  UNNEEDED, same version is already published
lconwaymacOS 12.7.1 Monterey / x86_64  OK    OK    OK    OK  UNNEEDED, same version is already published
kjohnson3macOS 13.7.1 Ventura / arm64  OK    OK    OK    OK  UNNEEDED, same version is already published
taishanLinux (openEuler 24.03 LTS) / aarch64  OK    OK    OK  


CHECK results for pathlinkR on kjohnson3

To the developers/maintainers of the pathlinkR package:
- Allow up to 24 hours (and sometimes 48 hours) for your latest push to git@git.bioconductor.org:packages/pathlinkR.git to reflect on this report. See Troubleshooting Build Report for more information.
- Use the following Renviron settings to reproduce errors and warnings.
- If 'R CMD check' started to fail recently on the Linux builder(s) over a missing dependency, add the missing dependency to 'Suggests:' in your DESCRIPTION file. See Renviron.bioc for more information.

raw results


Summary

Package: pathlinkR
Version: 1.5.0
Command: /Library/Frameworks/R.framework/Resources/bin/R CMD check --install=check:pathlinkR.install-out.txt --library=/Library/Frameworks/R.framework/Resources/library --no-vignettes --timings pathlinkR_1.5.0.tar.gz
StartedAt: 2025-05-07 21:05:32 -0400 (Wed, 07 May 2025)
EndedAt: 2025-05-07 21:07:57 -0400 (Wed, 07 May 2025)
EllapsedTime: 145.7 seconds
RetCode: 0
Status:   OK  
CheckDir: pathlinkR.Rcheck
Warnings: 0

Command output

##############################################################################
##############################################################################
###
### Running command:
###
###   /Library/Frameworks/R.framework/Resources/bin/R CMD check --install=check:pathlinkR.install-out.txt --library=/Library/Frameworks/R.framework/Resources/library --no-vignettes --timings pathlinkR_1.5.0.tar.gz
###
##############################################################################
##############################################################################


* using log directory ‘/Users/biocbuild/bbs-3.22-bioc/meat/pathlinkR.Rcheck’
* using R version 4.5.0 Patched (2025-04-21 r88169)
* using platform: aarch64-apple-darwin20
* R was compiled by
    Apple clang version 16.0.0 (clang-1600.0.26.6)
    GNU Fortran (GCC) 14.2.0
* running under: macOS Ventura 13.7.1
* using session charset: UTF-8
* using option ‘--no-vignettes’
* checking for file ‘pathlinkR/DESCRIPTION’ ... OK
* checking extension type ... Package
* this is package ‘pathlinkR’ version ‘1.5.0’
* package encoding: UTF-8
* checking package namespace information ... OK
* checking package dependencies ... OK
* checking if this is a source package ... OK
* checking if there is a namespace ... OK
* checking for hidden files and directories ... OK
* checking for portable file names ... OK
* checking for sufficient/correct file permissions ... OK
* checking whether package ‘pathlinkR’ can be installed ... OK
* checking installed package size ... OK
* checking package directory ... OK
* checking ‘build’ directory ... OK
* checking DESCRIPTION meta-information ... OK
* checking top-level files ... OK
* checking for left-over files ... OK
* checking index information ... OK
* checking package subdirectories ... OK
* checking code files for non-ASCII characters ... OK
* checking R files for syntax errors ... OK
* checking whether the package can be loaded ... OK
* checking whether the package can be loaded with stated dependencies ... OK
* checking whether the package can be unloaded cleanly ... OK
* checking whether the namespace can be loaded with stated dependencies ... OK
* checking whether the namespace can be unloaded cleanly ... OK
* checking whether startup messages can be suppressed ... OK
* checking dependencies in R code ... OK
* checking S3 generic/method consistency ... OK
* checking replacement functions ... OK
* checking foreign function calls ... OK
* checking R code for possible problems ... OK
* checking Rd files ... OK
* checking Rd metadata ... OK
* checking Rd cross-references ... OK
* checking for missing documentation entries ... OK
* checking for code/documentation mismatches ... OK
* checking Rd \usage sections ... OK
* checking Rd contents ... OK
* checking for unstated dependencies in examples ... OK
* checking contents of ‘data’ directory ... OK
* checking data for non-ASCII characters ... OK
* checking data for ASCII and uncompressed saves ... OK
* checking files in ‘vignettes’ ... OK
* checking examples ... OK
* checking for unstated dependencies in ‘tests’ ... OK
* checking tests ...
  Running ‘testthat.R’
 OK
* checking for unstated dependencies in vignettes ... OK
* checking package vignettes ... OK
* checking running R code from vignettes ... SKIPPED
* checking re-building of vignette outputs ... SKIPPED
* checking PDF version of manual ... OK
* DONE

Status: OK


Installation output

pathlinkR.Rcheck/00install.out

##############################################################################
##############################################################################
###
### Running command:
###
###   /Library/Frameworks/R.framework/Resources/bin/R CMD INSTALL pathlinkR
###
##############################################################################
##############################################################################


* installing to library ‘/Library/Frameworks/R.framework/Versions/4.5-arm64/Resources/library’
* installing *source* package ‘pathlinkR’ ...
** this is package ‘pathlinkR’ version ‘1.5.0’
** using staged installation
** R
** data
** inst
** byte-compile and prepare package for lazy loading
** help
*** installing help indices
*** copying figures
** building package indices
** installing vignettes
** testing if installed package can be loaded from temporary location
** testing if installed package can be loaded from final location
** testing if installed package keeps a record of temporary installation path
* DONE (pathlinkR)

Tests output

pathlinkR.Rcheck/tests/testthat.Rout


R version 4.5.0 Patched (2025-04-21 r88169) -- "How About a Twenty-Six"
Copyright (C) 2025 The R Foundation for Statistical Computing
Platform: aarch64-apple-darwin20

R is free software and comes with ABSOLUTELY NO WARRANTY.
You are welcome to redistribute it under certain conditions.
Type 'license()' or 'licence()' for distribution details.

R is a collaborative project with many contributors.
Type 'contributors()' for more information and
'citation()' on how to cite R or R packages in publications.

Type 'demo()' for some demos, 'help()' for on-line help, or
'help.start()' for an HTML browser interface to help.
Type 'q()' to quit R.

> # This file is part of the standard setup for testthat.
> # It is recommended that you do not modify it.
> #
> # Where should you do additional test configuration?
> # Learn more about the roles of various files in:
> # * https://r-pkgs.org/tests.html
> # * https://testthat.r-lib.org/reference/test_package.html#special-files
> 
> library(testthat)
> library(pathlinkR)
Thanks for using pathlinkR v1.5.0! If you encounter any
bugs or problems, please submit an issue at the Github page:
https://github.com/hancockinformatics/pathlinkR/issues
> 
> test_check("pathlinkR")
Loading required namespace: DESeq2
[ FAIL 0 | WARN 0 | SKIP 10 | PASS 32 ]

══ Skipped tests (10) ══════════════════════════════════════════════════════════
• On CRAN (10): 'test-eruption.R:10:5', 'test-pathnetGGraph.R:29:5',
  'test-pathnetVisNetwork.R:29:5', 'test-pathwayPlots.R:6:5',
  'test-pathwayPlots.R:25:5', 'test-pathwayPlots.R:44:5',
  'test-plotFoldChange.R:6:5', 'test-ppiPlotNetwork.R:15:5',
  'test-ppiPlotNetwork.R:39:5', 'test-ppiPlotNetwork.R:73:5'

[ FAIL 0 | WARN 0 | SKIP 10 | PASS 32 ]
> 
> proc.time()
   user  system elapsed 
 70.669   6.109  77.141 

Example timings

pathlinkR.Rcheck/pathlinkR-Ex.timings

nameusersystemelapsed
eruption2.6070.0992.717
getPathwayDistances0.9850.0191.030
pathnetCreate0.2930.0150.328
pathnetFoundation0.2390.0110.251
pathnetGGraph0.4860.0260.516
pathnetVisNetwork0.7210.0330.763
pathwayEnrichment1.2660.0971.370
pathwayPlots0.5960.0120.634
plotFoldChange0.4710.0160.504
ppiBuildNetwork0.3460.0110.358
ppiCleanNetwork0.0150.0010.017
ppiEnrichNetwork0.8610.0250.916
ppiExtractSubnetwork1.4740.0301.507
ppiPlotNetwork1.4040.0401.452