Back to Multiple platform build/check report for BioC 3.22:   simplified   long
ABCDEFGHIJKLMN[O]PQRSTUVWXYZ

This page was generated on 2025-05-19 12:08 -0400 (Mon, 19 May 2025).

HostnameOSArch (*)R versionInstalled pkgs
nebbiolo2Linux (Ubuntu 24.04.1 LTS)x86_644.5.0 (2025-04-11) -- "How About a Twenty-Six" 4749
palomino8Windows Server 2022 Datacenterx644.5.0 (2025-04-11 ucrt) -- "How About a Twenty-Six" 4511
lconwaymacOS 12.7.1 Montereyx86_644.5.0 Patched (2025-04-21 r88169) -- "How About a Twenty-Six" 4548
kjohnson3macOS 13.7.1 Venturaarm644.5.0 Patched (2025-04-21 r88169) -- "How About a Twenty-Six" 4489
taishanLinux (openEuler 24.03 LTS)aarch644.5.0 (2025-04-11) -- "How About a Twenty-Six" 4453
Click on any hostname to see more info about the system (e.g. compilers)      (*) as reported by 'uname -p', except on Windows and Mac OS X

Package 1478/2304HostnameOS / ArchINSTALLBUILDCHECKBUILD BIN
oppar 1.37.0  (landing page)
Soroor Hediyeh zadeh
Snapshot Date: 2025-05-18 13:25 -0400 (Sun, 18 May 2025)
git_url: https://git.bioconductor.org/packages/oppar
git_branch: devel
git_last_commit: 126a383
git_last_commit_date: 2025-04-15 11:01:06 -0400 (Tue, 15 Apr 2025)
nebbiolo2Linux (Ubuntu 24.04.1 LTS) / x86_64  OK    OK    WARNINGS  UNNEEDED, same version is already published
palomino8Windows Server 2022 Datacenter / x64  OK    OK    WARNINGS    OK  UNNEEDED, same version is already published
lconwaymacOS 12.7.1 Monterey / x86_64  OK    OK    WARNINGS    OK  UNNEEDED, same version is already published
kjohnson3macOS 13.7.1 Ventura / arm64  OK    OK    WARNINGS    OK  NO, package depends on 'GSVA' which is only available as a source package that needs compilation
taishanLinux (openEuler 24.03 LTS) / aarch64  OK    OK    WARNINGS  


BUILD BIN results for oppar on lconway

To the developers/maintainers of the oppar package:
- Allow up to 24 hours (and sometimes 48 hours) for your latest push to git@git.bioconductor.org:packages/oppar.git to reflect on this report. See Troubleshooting Build Report for more information.
- Use the following Renviron settings to reproduce errors and warnings.
- If 'R CMD check' started to fail recently on the Linux builder(s) over a missing dependency, add the missing dependency to 'Suggests:' in your DESCRIPTION file. See Renviron.bioc for more information.

raw results


Summary

Package: oppar
Version: 1.37.0
Command: rm -rf oppar.buildbin-libdir && mkdir oppar.buildbin-libdir && /Users/biocbuild/BBS/utils/build-universal.sh oppar_1.37.0.tar.gz /Library/Frameworks/R.framework/Resources/bin/R oppar.buildbin-libdir
StartedAt: 2025-05-19 00:39:58 -0400 (Mon, 19 May 2025)
EndedAt: 2025-05-19 00:40:53 -0400 (Mon, 19 May 2025)
EllapsedTime: 54.9 seconds
RetCode: 0
Status:   OK  
PackageFile: oppar_1.37.0.tgz
PackageFileSize: 5.262 MiB

Command output

##############################################################################
##############################################################################
###
### Running command:
###
###   rm -rf oppar.buildbin-libdir && mkdir oppar.buildbin-libdir && /Users/biocbuild/BBS/utils/build-universal.sh oppar_1.37.0.tar.gz /Library/Frameworks/R.framework/Resources/bin/R oppar.buildbin-libdir
###
##############################################################################
##############################################################################


>>>>>>> 
>>>>>>> INSTALLATION WITH 'R CMD INSTALL --preclean --no-multiarch --library=oppar.buildbin-libdir oppar_1.37.0.tar.gz'
>>>>>>> 

* installing *source* package ‘oppar’ ...
** this is package ‘oppar’ version ‘1.37.0’
** using staged installation
** libs
using C compiler: ‘Apple clang version 14.0.0 (clang-1400.0.29.202)’
using SDK: ‘MacOSX11.3.sdk’
clang -arch x86_64 -I"/Library/Frameworks/R.framework/Resources/include" -DNDEBUG   -I/opt/R/x86_64/include    -fPIC  -falign-functions=64 -Wall -g -O2  -c R_init_oppar.c -o R_init_oppar.o
clang -arch x86_64 -I"/Library/Frameworks/R.framework/Resources/include" -DNDEBUG   -I/opt/R/x86_64/include    -fPIC  -falign-functions=64 -Wall -g -O2  -c kernel_estimation.c -o kernel_estimation.o
clang -arch x86_64 -I"/Library/Frameworks/R.framework/Resources/include" -DNDEBUG   -I/opt/R/x86_64/include    -fPIC  -falign-functions=64 -Wall -g -O2  -c ks_test.c -o ks_test.o
ks_test.c:22:9: warning: unused variable 'mx_value' [-Wunused-variable]
        double mx_value = 0.0;
               ^
1 warning generated.
clang -arch x86_64 -dynamiclib -Wl,-headerpad_max_install_names -undefined dynamic_lookup -L/Library/Frameworks/R.framework/Resources/lib -L/opt/R/x86_64/lib -o oppar.so R_init_oppar.o kernel_estimation.o ks_test.o -F/Library/Frameworks/R.framework/.. -framework R
installing to /Users/biocbuild/bbs-3.22-bioc/meat/oppar.buildbin-libdir/00LOCK-oppar/00new/oppar/libs
** R
** data
*** moving datasets to lazyload DB
** inst
** byte-compile and prepare package for lazy loading
Creating a new generic function for ‘gsva’ in package ‘oppar’
** help
*** installing help indices
** building package indices
** installing vignettes
** testing if installed package can be loaded from temporary location
Warning: multiple methods tables found for ‘gsva’
** checking absolute paths in shared objects and dynamic libraries
** testing if installed package can be loaded from final location
Warning: multiple methods tables found for ‘gsva’
** testing if installed package keeps a record of temporary installation path
* DONE (oppar)


>>>>>>> 
>>>>>>> FIXING PATHS TO DYNAMIC LIBRARIES FOR oppar.buildbin-libdir/oppar/libs/oppar.so
>>>>>>> 

>>>>>>> Paths before fix:
oppar.buildbin-libdir/oppar/libs/oppar.so:
	oppar.so (compatibility version 0.0.0, current version 0.0.0)
	/Library/Frameworks/R.framework/Versions/4.5-x86_64/Resources/lib/libR.dylib (compatibility version 4.5.0, current version 4.5.0)
	/usr/lib/libSystem.B.dylib (compatibility version 1.0.0, current version 1292.100.5)

>>>>>>> Fix with install_name_tool:
install_name_tool -change "/usr/local/lib/libgcc_s.1.1.dylib" "/Library/Frameworks/R.framework/Versions/4.5-x86_64/Resources/lib/libgcc_s.1.1.dylib" "oppar.buildbin-libdir/oppar/libs/oppar.so"
install_name_tool -change "/usr/local/lib/libgfortran.5.dylib" "/Library/Frameworks/R.framework/Versions/4.5-x86_64/Resources/lib/libgfortran.5.dylib" "oppar.buildbin-libdir/oppar/libs/oppar.so"
install_name_tool -change "/usr/local/lib/libquadmath.0.dylib" "/Library/Frameworks/R.framework/Versions/4.5-x86_64/Resources/lib/libquadmath.0.dylib" "oppar.buildbin-libdir/oppar/libs/oppar.so"

>>>>>>> Paths after fix:
oppar.buildbin-libdir/oppar/libs/oppar.so:
	oppar.so (compatibility version 0.0.0, current version 0.0.0)
	/Library/Frameworks/R.framework/Versions/4.5-x86_64/Resources/lib/libR.dylib (compatibility version 4.5.0, current version 4.5.0)
	/usr/lib/libSystem.B.dylib (compatibility version 1.0.0, current version 1292.100.5)