Back to Multiple platform build/check report for BioC 3.22:   simplified   long
ABCDEFGHIJKLMN[O]PQRSTUVWXYZ

This page was generated on 2025-10-09 12:07 -0400 (Thu, 09 Oct 2025).

HostnameOSArch (*)R versionInstalled pkgs
nebbiolo2Linux (Ubuntu 24.04.3 LTS)x86_644.5.1 Patched (2025-08-23 r88802) -- "Great Square Root" 4854
lconwaymacOS 12.7.1 Montereyx86_644.5.1 Patched (2025-09-10 r88807) -- "Great Square Root" 4642
kjohnson3macOS 13.7.7 Venturaarm644.5.1 Patched (2025-09-10 r88807) -- "Great Square Root" 4587
taishanLinux (openEuler 24.03 LTS)aarch644.5.0 (2025-04-11) -- "How About a Twenty-Six" 4584
Click on any hostname to see more info about the system (e.g. compilers)      (*) as reported by 'uname -p', except on Windows and Mac OS X

Package 1479/2341HostnameOS / ArchINSTALLBUILDCHECKBUILD BIN
omada 1.11.0  (landing page)
Sokratis Kariotis
Snapshot Date: 2025-10-08 14:17 -0400 (Wed, 08 Oct 2025)
git_url: https://git.bioconductor.org/packages/omada
git_branch: devel
git_last_commit: a4bccc1
git_last_commit_date: 2025-04-15 12:55:16 -0400 (Tue, 15 Apr 2025)
nebbiolo2Linux (Ubuntu 24.04.3 LTS) / x86_64  OK    OK    OK  UNNEEDED, same version is already published
lconwaymacOS 12.7.1 Monterey / x86_64  OK    OK    OK    OK  UNNEEDED, same version is already published
kjohnson3macOS 13.7.7 Ventura / arm64  OK    OK    OK    OK  UNNEEDED, same version is already published
taishanLinux (openEuler 24.03 LTS) / aarch64  OK    OK    OK  


CHECK results for omada on taishan

To the developers/maintainers of the omada package:
- Allow up to 24 hours (and sometimes 48 hours) for your latest push to git@git.bioconductor.org:packages/omada.git to reflect on this report. See Troubleshooting Build Report for more information.
- Use the following Renviron settings to reproduce errors and warnings.
- If 'R CMD check' started to fail recently on the Linux builder(s) over a missing dependency, add the missing dependency to 'Suggests:' in your DESCRIPTION file. See Renviron.bioc for more information.
- See Martin Grigorov's blog post for how to debug Linux ARM64 related issues on a x86_64 host.

raw results


Summary

Package: omada
Version: 1.11.0
Command: /home/biocbuild/R/R/bin/R CMD check --install=check:omada.install-out.txt --library=/home/biocbuild/R/R/site-library --no-vignettes --timings omada_1.11.0.tar.gz
StartedAt: 2025-10-07 10:24:21 -0000 (Tue, 07 Oct 2025)
EndedAt: 2025-10-07 10:37:37 -0000 (Tue, 07 Oct 2025)
EllapsedTime: 795.4 seconds
RetCode: 0
Status:   OK  
CheckDir: omada.Rcheck
Warnings: 0

Command output

##############################################################################
##############################################################################
###
### Running command:
###
###   /home/biocbuild/R/R/bin/R CMD check --install=check:omada.install-out.txt --library=/home/biocbuild/R/R/site-library --no-vignettes --timings omada_1.11.0.tar.gz
###
##############################################################################
##############################################################################


* using log directory ‘/home/biocbuild/bbs-3.22-bioc/meat/omada.Rcheck’
* using R version 4.5.0 (2025-04-11)
* using platform: aarch64-unknown-linux-gnu
* R was compiled by
    aarch64-unknown-linux-gnu-gcc (GCC) 14.2.0
    GNU Fortran (GCC) 14.2.0
* running under: openEuler 24.03 (LTS)
* using session charset: UTF-8
* using option ‘--no-vignettes’
* checking for file ‘omada/DESCRIPTION’ ... OK
* checking extension type ... Package
* this is package ‘omada’ version ‘1.11.0’
* package encoding: UTF-8
* checking package namespace information ... OK
* checking package dependencies ... INFO
Depends: includes the non-default packages:
  'pdfCluster', 'kernlab', 'fpc', 'Rcpp', 'diceR', 'ggplot2',
  'reshape', 'genieclust', 'clValid', 'glmnet', 'dplyr'
Adding so many packages to the search path is excessive and importing
selectively is preferable.
* checking if this is a source package ... OK
* checking if there is a namespace ... OK
* checking for hidden files and directories ... OK
* checking for portable file names ... OK
* checking for sufficient/correct file permissions ... OK
* checking whether package ‘omada’ can be installed ... OK
* checking installed package size ... OK
* checking package directory ... OK
* checking ‘build’ directory ... OK
* checking DESCRIPTION meta-information ... OK
* checking top-level files ... NOTE
File
  LICENSE
is not mentioned in the DESCRIPTION file.
* checking for left-over files ... OK
* checking index information ... OK
* checking package subdirectories ... OK
* checking code files for non-ASCII characters ... OK
* checking R files for syntax errors ... OK
* checking whether the package can be loaded ... OK
* checking whether the package can be loaded with stated dependencies ... OK
* checking whether the package can be unloaded cleanly ... OK
* checking whether the namespace can be loaded with stated dependencies ... OK
* checking whether the namespace can be unloaded cleanly ... OK
* checking loading without being on the library search path ... OK
* checking dependencies in R code ... NOTE
Packages in Depends field not imported from:
  ‘Rcpp’ ‘dplyr’ ‘genieclust’ ‘glmnet’ ‘kernlab’ ‘reshape’
  These packages need to be imported from (in the NAMESPACE file)
  for when this namespace is loaded but not attached.
* checking S3 generic/method consistency ... OK
* checking replacement functions ... OK
* checking foreign function calls ... OK
* checking R code for possible problems ... NOTE
Index.15and28: no visible global function definition for ‘dist’
Index.15and28: no visible global function definition for ‘as.dist’
Index.sPlussMoins: no visible global function definition for ‘dist’
Index.sPlussMoins: no visible global function definition for ‘as.dist’
Index.sPlussMoins: no visible global function definition for ‘median’
Indice.cindex: no visible global function definition for ‘dist’
clusterVoting: no visible global function definition for ‘calinhara’
clusterVoting: no visible global function definition for
  ‘generalised_dunn_index’
clusterVoting: no visible global function definition for
  ‘silhouette_index’
clusterVoting: no visible global function definition for
  ‘negated_davies_bouldin_index’
clusterVoting: no visible binding for global variable ‘k’
clusterVoting: no visible binding for global variable ‘Frequency’
clusteringMethodSelection: no visible binding for global variable
  ‘value’
clusteringMethodSelection: no visible binding for global variable
  ‘methods’
featureSelection: no visible binding for global variable ‘featureSet’
featureSelection: no visible binding for global variable ‘means’
Undefined global functions or variables:
  Frequency as.dist calinhara dist featureSet generalised_dunn_index k
  means median methods negated_davies_bouldin_index silhouette_index
  value
Consider adding
  importFrom("stats", "as.dist", "dist", "median")
  importFrom("utils", "methods")
to your NAMESPACE file.
* checking Rd files ... OK
* checking Rd metadata ... OK
* checking Rd cross-references ... OK
* checking for missing documentation entries ... OK
* checking for code/documentation mismatches ... OK
* checking Rd \usage sections ... OK
* checking Rd contents ... OK
* checking for unstated dependencies in examples ... OK
* checking contents of ‘data’ directory ... OK
* checking data for non-ASCII characters ... OK
* checking LazyData ... OK
* checking data for ASCII and uncompressed saves ... OK
* checking files in ‘vignettes’ ... OK
* checking examples ... OK
Examples with CPU (user + system) or elapsed time > 5s
                                                   user system elapsed
get_feature_selection_optimal_number_of_features 48.269  0.116  48.507
get_feature_selection_scores                     47.817  0.120  48.046
get_partition_agreement_scores                   36.847  0.103  37.046
plot_partition_agreement                         35.579  0.100  35.766
plot_feature_selection                           34.505  0.088  34.672
get_cluster_voting_scores                        34.033  0.152  34.277
get_cluster_voting_metric_votes                  33.619  0.120  33.832
get_cluster_voting_k_votes                       33.567  0.165  33.825
get_feature_selection_optimal_features           33.293  0.095  33.470
get_sample_memberships                           32.839  0.100  33.022
get_cluster_voting_memberships                   31.949  0.118  32.146
omada                                            26.787  0.104  26.958
plot_cluster_voting                              25.266  0.067  25.387
get_optimal_number_of_features                   11.627  0.012  11.666
plot_average_stabilities                         11.619  0.016  11.665
get_optimal_features                             10.740  0.048  10.814
get_optimal_stability_score                       9.797  0.016   9.837
get_optimal_parameter_used                        9.361  0.020   9.403
get_optimal_memberships                           9.065  0.004   9.090
featureSelection                                  8.164  0.028   8.210
get_average_feature_k_stabilities                 5.619  0.008   5.641
clusterVoting                                     5.402  0.056   5.473
* checking for unstated dependencies in ‘tests’ ... OK
* checking tests ...
  Running ‘testthat.R’
 OK
* checking for unstated dependencies in vignettes ... OK
* checking package vignettes ... OK
* checking running R code from vignettes ... SKIPPED
* checking re-building of vignette outputs ... SKIPPED
* checking PDF version of manual ... OK
* DONE

Status: 3 NOTEs
See
  ‘/home/biocbuild/bbs-3.22-bioc/meat/omada.Rcheck/00check.log’
for details.


Installation output

omada.Rcheck/00install.out

##############################################################################
##############################################################################
###
### Running command:
###
###   /home/biocbuild/R/R/bin/R CMD INSTALL omada
###
##############################################################################
##############################################################################


* installing to library ‘/home/biocbuild/R/R-4.5.0/site-library’
* installing *source* package ‘omada’ ...
** this is package ‘omada’ version ‘1.11.0’
** using staged installation
** R
** data
*** moving datasets to lazyload DB
** inst
** byte-compile and prepare package for lazy loading
** help
*** installing help indices
** building package indices
** installing vignettes
** testing if installed package can be loaded from temporary location
** testing if installed package can be loaded from final location
** testing if installed package keeps a record of temporary installation path
* DONE (omada)

Tests output

omada.Rcheck/tests/testthat.Rout


R version 4.5.0 (2025-04-11) -- "How About a Twenty-Six"
Copyright (C) 2025 The R Foundation for Statistical Computing
Platform: aarch64-unknown-linux-gnu

R is free software and comes with ABSOLUTELY NO WARRANTY.
You are welcome to redistribute it under certain conditions.
Type 'license()' or 'licence()' for distribution details.

R is a collaborative project with many contributors.
Type 'contributors()' for more information and
'citation()' on how to cite R or R packages in publications.

Type 'demo()' for some demos, 'help()' for on-line help, or
'help.start()' for an HTML browser interface to help.
Type 'q()' to quit R.

> library(testthat)
> library(omada)
Loading required package: pdfCluster
pdfCluster 1.0-4
Loading required package: kernlab
Loading required package: fpc
Loading required package: Rcpp
Loading required package: diceR
Loading required package: ggplot2

Attaching package: 'ggplot2'

The following object is masked from 'package:kernlab':

    alpha

Loading required package: reshape
Loading required package: genieclust
Loading required package: clValid
Loading required package: cluster
Loading required package: glmnet
Loading required package: Matrix

Attaching package: 'Matrix'

The following object is masked from 'package:reshape':

    expand

Loaded glmnet 4.1-10
Loading required package: dplyr

Attaching package: 'dplyr'

The following object is masked from 'package:reshape':

    rename

The following object is masked from 'package:pdfCluster':

    groups

The following object is masked from 'package:testthat':

    matches

The following objects are masked from 'package:stats':

    filter, lag

The following objects are masked from 'package:base':

    intersect, setdiff, setequal, union

> 
> test_check("omada")
[ FAIL 0 | WARN 1 | SKIP 0 | PASS 38 ]

[ FAIL 0 | WARN 1 | SKIP 0 | PASS 38 ]
> 
> proc.time()
   user  system elapsed 
101.619   0.963 145.978 

Example timings

omada.Rcheck/omada-Ex.timings

nameusersystemelapsed
clusterVoting5.4020.0565.473
clusteringMethodSelection1.8300.0281.863
feasibilityAnalysis1.6620.0511.717
feasibilityAnalysisDataBased3.2960.0393.344
featureSelection8.1640.0288.210
get_agreement_scores0.1550.0080.163
get_average_feature_k_stabilities5.6190.0085.641
get_average_stabilities_per_k1.1940.0121.209
get_average_stability1.1910.0041.199
get_cluster_memberships_k1.3180.0441.365
get_cluster_voting_k_votes33.567 0.16533.825
get_cluster_voting_memberships31.949 0.11832.146
get_cluster_voting_metric_votes33.619 0.12033.832
get_cluster_voting_scores34.033 0.15234.277
get_feature_selection_optimal_features33.293 0.09533.470
get_feature_selection_optimal_number_of_features48.269 0.11648.507
get_feature_selection_scores47.817 0.12048.046
get_generated_dataset3.4590.0203.488
get_internal_metric_scores1.3330.0041.340
get_max_stability1.1270.0081.138
get_metric_votes_k1.3280.0241.355
get_optimal_features10.740 0.04810.814
get_optimal_memberships9.0650.0049.090
get_optimal_number_of_features11.627 0.01211.666
get_optimal_parameter_used9.3610.0209.403
get_optimal_stability_score9.7970.0169.837
get_partition_agreement_scores36.847 0.10337.046
get_sample_memberships32.839 0.10033.022
get_vote_frequencies_k1.6080.0081.620
omada26.787 0.10426.958
optimalClustering0.4800.0040.485
partitionAgreement0.6690.0160.687
plot_average_stabilities11.619 0.01611.665
plot_cluster_voting25.266 0.06725.387
plot_feature_selection34.505 0.08834.672
plot_partition_agreement35.579 0.10035.766
plot_vote_frequencies1.6370.0081.648
toy_gene_memberships0.0140.0040.019
toy_genes0.0000.0010.001