Back to Multiple platform build/check report for BioC 3.23:   simplified   long
ABCDEFGHIJKLMN[O]PQRSTUVWXYZ

This page was generated on 2025-11-17 11:39 -0500 (Mon, 17 Nov 2025).

HostnameOSArch (*)R versionInstalled pkgs
nebbiolo1Linux (Ubuntu 24.04.3 LTS)x86_64R Under development (unstable) (2025-10-20 r88955) -- "Unsuffered Consequences" 4826
lconwaymacOS 12.7.6 Montereyx86_64R Under development (unstable) (2025-10-21 r88958) -- "Unsuffered Consequences" 4491
kjohnson3macOS 13.7.7 Venturaarm64R Under development (unstable) (2025-11-04 r88984) -- "Unsuffered Consequences" 4562
Click on any hostname to see more info about the system (e.g. compilers)      (*) as reported by 'uname -p', except on Windows and Mac OS X

Package 1469/2325HostnameOS / ArchINSTALLBUILDCHECKBUILD BIN
oligo 1.75.0  (landing page)
Benilton Carvalho
Snapshot Date: 2025-11-16 13:40 -0500 (Sun, 16 Nov 2025)
git_url: https://git.bioconductor.org/packages/oligo
git_branch: devel
git_last_commit: e5c4ecd
git_last_commit_date: 2025-10-29 09:56:42 -0500 (Wed, 29 Oct 2025)
nebbiolo1Linux (Ubuntu 24.04.3 LTS) / x86_64  OK    OK    OK  UNNEEDED, same version is already published
lconwaymacOS 12.7.6 Monterey / x86_64  OK    OK    OK    OK  NO, package depends on 'Biobase' which is only available as a source package that needs compilation
kjohnson3macOS 13.7.7 Ventura / arm64  OK    OK    OK    OK  UNNEEDED, same version is already published


BUILD BIN results for oligo on lconway

To the developers/maintainers of the oligo package:
- Allow up to 24 hours (and sometimes 48 hours) for your latest push to git@git.bioconductor.org:packages/oligo.git to reflect on this report. See Troubleshooting Build Report for more information.
- Use the following Renviron settings to reproduce errors and warnings.
- If 'R CMD check' started to fail recently on the Linux builder(s) over a missing dependency, add the missing dependency to 'Suggests:' in your DESCRIPTION file. See Renviron.bioc for more information.

raw results


Summary

Package: oligo
Version: 1.75.0
Command: rm -rf oligo.buildbin-libdir && mkdir oligo.buildbin-libdir && /Users/biocbuild/BBS/utils/build-universal.sh oligo_1.75.0.tar.gz /Library/Frameworks/R.framework/Resources/bin/R oligo.buildbin-libdir
StartedAt: 2025-11-17 07:08:13 -0500 (Mon, 17 Nov 2025)
EndedAt: 2025-11-17 07:09:19 -0500 (Mon, 17 Nov 2025)
EllapsedTime: 66.2 seconds
RetCode: 0
Status:   OK  
PackageFile: oligo_1.75.0.tgz
PackageFileSize: 27.83 MiB

Command output

##############################################################################
##############################################################################
###
### Running command:
###
###   rm -rf oligo.buildbin-libdir && mkdir oligo.buildbin-libdir && /Users/biocbuild/BBS/utils/build-universal.sh oligo_1.75.0.tar.gz /Library/Frameworks/R.framework/Resources/bin/R oligo.buildbin-libdir
###
##############################################################################
##############################################################################


>>>>>>> 
>>>>>>> INSTALLATION WITH 'R CMD INSTALL --preclean --no-multiarch --library=oligo.buildbin-libdir oligo_1.75.0.tar.gz'
>>>>>>> 

* installing *source* package ‘oligo’ ...
** this is package ‘oligo’ version ‘1.75.0’
** using staged installation
creating cache ./config.cache
checking how to run the C preprocessor... clang -arch x86_64 -E
checking for main in -lz... yes
checking for zlib.h... yes
checking if zlib version >= 1.1.3... yes
updating cache ./config.cache
creating ./config.status
creating src/Makevars
** libs
using C compiler: ‘Apple clang version 14.0.3 (clang-1403.0.22.14.1)’
using SDK: ‘MacOSX11.3.1.sdk’
clang -arch x86_64 -I"/Library/Frameworks/R.framework/Resources/include" -DNDEBUG -DHAVE_ZLIB=1  -I'/Library/Frameworks/R.framework/Versions/4.6-x86_64/Resources/library/preprocessCore/include' -I/opt/R/x86_64/include   -falign-functions=64 -Wall -g -O2 -fPIC  -falign-functions=64 -Wall -g -O2  -c DABG.c -o DABG.o
clang -arch x86_64 -I"/Library/Frameworks/R.framework/Resources/include" -DNDEBUG -DHAVE_ZLIB=1  -I'/Library/Frameworks/R.framework/Versions/4.6-x86_64/Resources/library/preprocessCore/include' -I/opt/R/x86_64/include   -falign-functions=64 -Wall -g -O2 -fPIC  -falign-functions=64 -Wall -g -O2  -c ParserGzXYS.c -o ParserGzXYS.o
clang -arch x86_64 -I"/Library/Frameworks/R.framework/Resources/include" -DNDEBUG -DHAVE_ZLIB=1  -I'/Library/Frameworks/R.framework/Versions/4.6-x86_64/Resources/library/preprocessCore/include' -I/opt/R/x86_64/include   -falign-functions=64 -Wall -g -O2 -fPIC  -falign-functions=64 -Wall -g -O2  -c ParserXYS.c -o ParserXYS.o
clang -arch x86_64 -I"/Library/Frameworks/R.framework/Resources/include" -DNDEBUG -DHAVE_ZLIB=1  -I'/Library/Frameworks/R.framework/Versions/4.6-x86_64/Resources/library/preprocessCore/include' -I/opt/R/x86_64/include   -falign-functions=64 -Wall -g -O2 -fPIC  -falign-functions=64 -Wall -g -O2  -c baseProfile.c -o baseProfile.o
clang -arch x86_64 -I"/Library/Frameworks/R.framework/Resources/include" -DNDEBUG -DHAVE_ZLIB=1  -I'/Library/Frameworks/R.framework/Versions/4.6-x86_64/Resources/library/preprocessCore/include' -I/opt/R/x86_64/include   -falign-functions=64 -Wall -g -O2 -fPIC  -falign-functions=64 -Wall -g -O2  -c basecontent.c -o basecontent.o
clang -arch x86_64 -I"/Library/Frameworks/R.framework/Resources/include" -DNDEBUG -DHAVE_ZLIB=1  -I'/Library/Frameworks/R.framework/Versions/4.6-x86_64/Resources/library/preprocessCore/include' -I/opt/R/x86_64/include   -falign-functions=64 -Wall -g -O2 -fPIC  -falign-functions=64 -Wall -g -O2  -c chipbackground.c -o chipbackground.o
clang -arch x86_64 -I"/Library/Frameworks/R.framework/Resources/include" -DNDEBUG -DHAVE_ZLIB=1  -I'/Library/Frameworks/R.framework/Versions/4.6-x86_64/Resources/library/preprocessCore/include' -I/opt/R/x86_64/include   -falign-functions=64 -Wall -g -O2 -fPIC  -falign-functions=64 -Wall -g -O2  -c mas5calls.c -o mas5calls.o
clang -arch x86_64 -I"/Library/Frameworks/R.framework/Resources/include" -DNDEBUG -DHAVE_ZLIB=1  -I'/Library/Frameworks/R.framework/Versions/4.6-x86_64/Resources/library/preprocessCore/include' -I/opt/R/x86_64/include   -falign-functions=64 -Wall -g -O2 -fPIC  -falign-functions=64 -Wall -g -O2  -c rma2.c -o rma2.o
clang -arch x86_64 -I"/Library/Frameworks/R.framework/Resources/include" -DNDEBUG -DHAVE_ZLIB=1  -I'/Library/Frameworks/R.framework/Versions/4.6-x86_64/Resources/library/preprocessCore/include' -I/opt/R/x86_64/include   -falign-functions=64 -Wall -g -O2 -fPIC  -falign-functions=64 -Wall -g -O2  -c rma_common.c -o rma_common.o
clang -arch x86_64 -I"/Library/Frameworks/R.framework/Resources/include" -DNDEBUG -DHAVE_ZLIB=1  -I'/Library/Frameworks/R.framework/Versions/4.6-x86_64/Resources/library/preprocessCore/include' -I/opt/R/x86_64/include   -falign-functions=64 -Wall -g -O2 -fPIC  -falign-functions=64 -Wall -g -O2  -c trimmed.c -o trimmed.o
trimmed.c:49:13: warning: variable 'n1' set but not used [-Wunused-but-set-variable]
  int i, j, n1, n2, n3;
            ^
trimmed.c:49:17: warning: variable 'n2' set but not used [-Wunused-but-set-variable]
  int i, j, n1, n2, n3;
                ^
trimmed.c:49:21: warning: variable 'n3' set but not used [-Wunused-but-set-variable]
  int i, j, n1, n2, n3;
                    ^
3 warnings generated.
clang -arch x86_64 -dynamiclib -Wl,-headerpad_max_install_names -undefined dynamic_lookup -L/Library/Frameworks/R.framework/Resources/lib -L/opt/R/x86_64/lib -o oligo.so DABG.o ParserGzXYS.o ParserXYS.o baseProfile.o basecontent.o chipbackground.o mas5calls.o rma2.o rma_common.o trimmed.o -lz -F/Library/Frameworks/R.framework/.. -framework R
installing to /Users/biocbuild/bbs-3.23-bioc/meat/oligo.buildbin-libdir/00LOCK-oligo/00new/oligo/libs
** R
** inst
** byte-compile and prepare package for lazy loading
Note: in method for ‘pm<-’ with signature
‘object="TilingFeatureSet",subset="ANY",target="ANY",value="array"’:
expanding the signature to include omitted arguments in definition:
subset = "missing", target = "missing"
Note: in method for ‘mm<-’ with signature
‘object="TilingFeatureSet",subset="ANY",target="ANY",value="array"’:
expanding the signature to include omitted arguments in definition:
subset = "missing", target = "missing"
** help
*** installing help indices
** building package indices
** installing vignettes
** testing if installed package can be loaded from temporary location
** checking absolute paths in shared objects and dynamic libraries
** testing if installed package can be loaded from final location
** testing if installed package keeps a record of temporary installation path
* DONE (oligo)


>>>>>>> 
>>>>>>> FIXING PATHS TO DYNAMIC LIBRARIES FOR oligo.buildbin-libdir/oligo/libs/oligo.so
>>>>>>> 

>>>>>>> Paths before fix:
oligo.buildbin-libdir/oligo/libs/oligo.so:
	oligo.so (compatibility version 0.0.0, current version 0.0.0)
	/usr/lib/libz.1.dylib (compatibility version 1.0.0, current version 1.2.11)
	/Library/Frameworks/R.framework/Versions/4.6-x86_64/Resources/lib/libR.dylib (compatibility version 4.6.0, current version 4.6.0)
	/usr/lib/libSystem.B.dylib (compatibility version 1.0.0, current version 1292.100.5)

>>>>>>> Fix with install_name_tool:
install_name_tool -change "/usr/local/lib/libgcc_s.1.1.dylib" "/Library/Frameworks/R.framework/Versions/4.6-x86_64/Resources/lib/libgcc_s.1.1.dylib" "oligo.buildbin-libdir/oligo/libs/oligo.so"
install_name_tool -change "/usr/local/lib/libgfortran.5.dylib" "/Library/Frameworks/R.framework/Versions/4.6-x86_64/Resources/lib/libgfortran.5.dylib" "oligo.buildbin-libdir/oligo/libs/oligo.so"
install_name_tool -change "/usr/local/lib/libquadmath.0.dylib" "/Library/Frameworks/R.framework/Versions/4.6-x86_64/Resources/lib/libquadmath.0.dylib" "oligo.buildbin-libdir/oligo/libs/oligo.so"

>>>>>>> Paths after fix:
oligo.buildbin-libdir/oligo/libs/oligo.so:
	oligo.so (compatibility version 0.0.0, current version 0.0.0)
	/usr/lib/libz.1.dylib (compatibility version 1.0.0, current version 1.2.11)
	/Library/Frameworks/R.framework/Versions/4.6-x86_64/Resources/lib/libR.dylib (compatibility version 4.6.0, current version 4.6.0)
	/usr/lib/libSystem.B.dylib (compatibility version 1.0.0, current version 1292.100.5)