Back to Build/check report for BioC 3.23:   simplified   long
ABCDEFGHIJKLMN[O]PQRSTUVWXYZ

This page was generated on 2025-11-06 11:32 -0500 (Thu, 06 Nov 2025).

HostnameOSArch (*)R versionInstalled pkgs
nebbiolo1Linux (Ubuntu 24.04.3 LTS)x86_64R Under development (unstable) (2025-10-20 r88955) -- "Unsuffered Consequences" 4818
Click on any hostname to see more info about the system (e.g. compilers)      (*) as reported by 'uname -p', except on Windows and Mac OS X

All results for package oligo


To the developers/maintainers of the oligo package:
- Allow up to 24 hours (and sometimes 48 hours) for your latest push to git@git.bioconductor.org:packages/oligo.git to reflect on this report. See Troubleshooting Build Report for more information.
- Use the following Renviron settings to reproduce errors and warnings.
- If 'R CMD check' started to fail recently on the Linux builder(s) over a missing dependency, add the missing dependency to 'Suggests:' in your DESCRIPTION file. See Renviron.bioc for more information.

raw results

Package 1467/2323HostnameOS / ArchINSTALLBUILDCHECKBUILD BIN
oligo 1.75.0  (landing page)
Benilton Carvalho
Snapshot Date: 2025-11-05 13:40 -0500 (Wed, 05 Nov 2025)
git_url: https://git.bioconductor.org/packages/oligo
git_branch: devel
git_last_commit: e5c4ecd
git_last_commit_date: 2025-10-29 09:56:42 -0500 (Wed, 29 Oct 2025)
nebbiolo1Linux (Ubuntu 24.04.3 LTS) / x86_64  OK    OK    OK  UNNEEDED, same version is already published



Results for Bioconductor software packages that depend directly on package oligo

QUICK STATSOS / ArchINSTALLBUILDCHECKBUILD BIN
nebbiolo1Linux (Ubuntu 24.04.3 LTS) / x86_64
008
008
0107
Package 1/8HostnameOS / ArchINSTALLBUILDCHECKBUILD BIN
ArrayExpress 1.71.0  (landing page)
Jose Marugan
git_last_commit: 4a25159
git_last_commit_date: 2025-10-29 10:01:28 -0500
nebbiolo1Linux (Ubuntu 24.04.3 LTS) / x86_64  OK    OK    ERROR  
Package 2/8HostnameOS / ArchINSTALLBUILDCHECKBUILD BIN
cn.farms 1.59.0  (landing page)
Andreas Mitterecker
git_last_commit: cd33296
git_last_commit_date: 2025-10-29 10:07:06 -0500
nebbiolo1Linux (Ubuntu 24.04.3 LTS) / x86_64  OK    OK    OK  UNNEEDED, same version is already published
Package 3/8HostnameOS / ArchINSTALLBUILDCHECKBUILD BIN
frma 1.63.0  (landing page)
Matthew N. McCall
git_last_commit: 06e0f3f
git_last_commit_date: 2025-10-29 10:04:08 -0500
nebbiolo1Linux (Ubuntu 24.04.3 LTS) / x86_64  OK    OK    OK  UNNEEDED, same version is already published
Package 4/8HostnameOS / ArchINSTALLBUILDCHECKBUILD BIN
ITALICS 2.71.0  (landing page)
Guillem Rigaill
git_last_commit: afe983f
git_last_commit_date: 2025-10-29 10:01:06 -0500
nebbiolo1Linux (Ubuntu 24.04.3 LTS) / x86_64  OK    OK    OK  UNNEEDED, same version is already published
Package 5/8HostnameOS / ArchINSTALLBUILDCHECKBUILD BIN
mimager 1.35.0  (landing page)
Aaron Wolen
git_last_commit: 86a8e49
git_last_commit_date: 2025-10-29 10:36:18 -0500
nebbiolo1Linux (Ubuntu 24.04.3 LTS) / x86_64  OK    OK    OK  UNNEEDED, same version is already published
Package 6/8HostnameOS / ArchINSTALLBUILDCHECKBUILD BIN
pdInfoBuilder 1.75.0  (landing page)
Benilton Carvalho
git_last_commit: 81fd205
git_last_commit_date: 2025-10-29 09:58:52 -0500
nebbiolo1Linux (Ubuntu 24.04.3 LTS) / x86_64  OK    OK    OK  UNNEEDED, same version is already published
Package 7/8HostnameOS / ArchINSTALLBUILDCHECKBUILD BIN
puma 3.53.0  (landing page)
Xuejun Liu
git_last_commit: fdcbc97
git_last_commit_date: 2025-10-29 09:59:30 -0500
nebbiolo1Linux (Ubuntu 24.04.3 LTS) / x86_64  OK    OK    OK  UNNEEDED, same version is already published
Package 8/8HostnameOS / ArchINSTALLBUILDCHECKBUILD BIN
SCAN.UPC 2.53.0  (landing page)
Stephen R. Piccolo
git_last_commit: 89643cf
git_last_commit_date: 2025-10-29 10:12:17 -0500
nebbiolo1Linux (Ubuntu 24.04.3 LTS) / x86_64  OK    OK    OK  UNNEEDED, same version is already published