| Back to Multiple platform build/check report for BioC 3.22: simplified long |
|
This page was generated on 2025-10-21 12:07 -0400 (Tue, 21 Oct 2025).
| Hostname | OS | Arch (*) | R version | Installed pkgs |
|---|---|---|---|---|
| nebbiolo2 | Linux (Ubuntu 24.04.3 LTS) | x86_64 | 4.5.1 Patched (2025-08-23 r88802) -- "Great Square Root" | 4887 |
| lconway | macOS 12.7.6 Monterey | x86_64 | 4.5.1 Patched (2025-09-10 r88807) -- "Great Square Root" | 4677 |
| kjohnson3 | macOS 13.7.7 Ventura | arm64 | 4.5.1 Patched (2025-09-10 r88807) -- "Great Square Root" | 4622 |
| taishan | Linux (openEuler 24.03 LTS) | aarch64 | 4.5.0 (2025-04-11) -- "How About a Twenty-Six" | 4642 |
| Click on any hostname to see more info about the system (e.g. compilers) (*) as reported by 'uname -p', except on Windows and Mac OS X | ||||
| Package 1470/2353 | Hostname | OS / Arch | INSTALL | BUILD | CHECK | BUILD BIN | ||||||||
| npGSEA 1.45.0 (landing page) Jessica Larson
| nebbiolo2 | Linux (Ubuntu 24.04.3 LTS) / x86_64 | OK | OK | OK | |||||||||
| lconway | macOS 12.7.6 Monterey / x86_64 | OK | OK | OK | OK | |||||||||
| kjohnson3 | macOS 13.7.7 Ventura / arm64 | OK | OK | OK | OK | |||||||||
| taishan | Linux (openEuler 24.03 LTS) / aarch64 | OK | OK | OK | ||||||||||
|
To the developers/maintainers of the npGSEA package: - Allow up to 24 hours (and sometimes 48 hours) for your latest push to git@git.bioconductor.org:packages/npGSEA.git to reflect on this report. See Troubleshooting Build Report for more information. - Use the following Renviron settings to reproduce errors and warnings. - If 'R CMD check' started to fail recently on the Linux builder(s) over a missing dependency, add the missing dependency to 'Suggests:' in your DESCRIPTION file. See Renviron.bioc for more information. - See Martin Grigorov's blog post for how to debug Linux ARM64 related issues on a x86_64 host. |
| Package: npGSEA |
| Version: 1.45.0 |
| Command: /home/biocbuild/R/R/bin/R CMD check --install=check:npGSEA.install-out.txt --library=/home/biocbuild/R/R/site-library --no-vignettes --timings npGSEA_1.45.0.tar.gz |
| StartedAt: 2025-10-17 11:45:20 -0000 (Fri, 17 Oct 2025) |
| EndedAt: 2025-10-17 11:47:25 -0000 (Fri, 17 Oct 2025) |
| EllapsedTime: 125.1 seconds |
| RetCode: 0 |
| Status: OK |
| CheckDir: npGSEA.Rcheck |
| Warnings: 0 |
##############################################################################
##############################################################################
###
### Running command:
###
### /home/biocbuild/R/R/bin/R CMD check --install=check:npGSEA.install-out.txt --library=/home/biocbuild/R/R/site-library --no-vignettes --timings npGSEA_1.45.0.tar.gz
###
##############################################################################
##############################################################################
* using log directory ‘/home/biocbuild/bbs-3.22-bioc/meat/npGSEA.Rcheck’
* using R version 4.5.0 (2025-04-11)
* using platform: aarch64-unknown-linux-gnu
* R was compiled by
aarch64-unknown-linux-gnu-gcc (GCC) 14.2.0
GNU Fortran (GCC) 14.2.0
* running under: openEuler 24.03 (LTS)
* using session charset: UTF-8
* using option ‘--no-vignettes’
* checking for file ‘npGSEA/DESCRIPTION’ ... OK
* checking extension type ... Package
* this is package ‘npGSEA’ version ‘1.45.0’
* checking package namespace information ... OK
* checking package dependencies ... OK
* checking if this is a source package ... OK
* checking if there is a namespace ... OK
* checking for hidden files and directories ... OK
* checking for portable file names ... OK
* checking for sufficient/correct file permissions ... OK
* checking whether package ‘npGSEA’ can be installed ... OK
* checking installed package size ... OK
* checking package directory ... OK
* checking ‘build’ directory ... OK
* checking DESCRIPTION meta-information ... OK
* checking top-level files ... OK
* checking for left-over files ... OK
* checking index information ... OK
* checking package subdirectories ... OK
* checking code files for non-ASCII characters ... OK
* checking R files for syntax errors ... OK
* checking whether the package can be loaded ... OK
* checking whether the package can be loaded with stated dependencies ... OK
* checking whether the package can be unloaded cleanly ... OK
* checking whether the namespace can be loaded with stated dependencies ... OK
* checking whether the namespace can be unloaded cleanly ... OK
* checking loading without being on the library search path ... OK
* checking dependencies in R code ... OK
* checking S3 generic/method consistency ... OK
* checking replacement functions ... OK
* checking foreign function calls ... OK
* checking R code for possible problems ... NOTE
.prepXYZ: no visible global function definition for ‘sd’
Undefined global functions or variables:
sd
Consider adding
importFrom("stats", "sd")
to your NAMESPACE file.
* checking Rd files ... OK
* checking Rd metadata ... OK
* checking Rd cross-references ... OK
* checking for missing documentation entries ... OK
* checking for code/documentation mismatches ... OK
* checking Rd \usage sections ... OK
* checking Rd contents ... OK
* checking for unstated dependencies in examples ... OK
* checking files in ‘vignettes’ ... OK
* checking examples ... OK
* checking for unstated dependencies in vignettes ... OK
* checking package vignettes ... OK
* checking running R code from vignettes ... SKIPPED
* checking re-building of vignette outputs ... SKIPPED
* checking PDF version of manual ... OK
* DONE
Status: 1 NOTE
See
‘/home/biocbuild/bbs-3.22-bioc/meat/npGSEA.Rcheck/00check.log’
for details.
npGSEA.Rcheck/00install.out
############################################################################## ############################################################################## ### ### Running command: ### ### /home/biocbuild/R/R/bin/R CMD INSTALL npGSEA ### ############################################################################## ############################################################################## * installing to library ‘/home/biocbuild/R/R-4.5.0/site-library’ * installing *source* package ‘npGSEA’ ... ** this is package ‘npGSEA’ version ‘1.45.0’ ** using staged installation ** R ** inst ** byte-compile and prepare package for lazy loading No methods found in package ‘BiocGenerics’ for request: ‘unlist’ when loading ‘npGSEA’ ** help *** installing help indices ** building package indices ** installing vignettes ** testing if installed package can be loaded from temporary location No methods found in package ‘BiocGenerics’ for request: ‘unlist’ when loading ‘npGSEA’ ** testing if installed package can be loaded from final location No methods found in package ‘BiocGenerics’ for request: ‘unlist’ when loading ‘npGSEA’ ** testing if installed package keeps a record of temporary installation path * DONE (npGSEA)
npGSEA.Rcheck/npGSEA-Ex.timings
| name | user | system | elapsed | |
| DF-methods | 0.017 | 0.000 | 0.019 | |
| alphaValue-methods | 0.002 | 0.004 | 0.006 | |
| betaHats-methods | 0.004 | 0.000 | 0.004 | |
| betaStat-methods | 0.004 | 0.000 | 0.004 | |
| betaValue-methods | 0.004 | 0.000 | 0.003 | |
| chiSqStat-methods | 0.008 | 0.000 | 0.008 | |
| geneSetName-methods | 0.003 | 0.000 | 0.003 | |
| getIncidence | 0.001 | 0.000 | 0.001 | |
| npGSEA | 0.003 | 0.000 | 0.003 | |
| npGSEAPlot-methods | 0.003 | 0.000 | 0.003 | |
| npGSEAResultBeta-class | 0.001 | 0.000 | 0.001 | |
| npGSEAResultBetaCollection-class | 0.001 | 0.000 | 0.001 | |
| npGSEAResultChiSq-class | 0.001 | 0.000 | 0.000 | |
| npGSEAResultChiSqCollection-class | 0.001 | 0.000 | 0.001 | |
| npGSEAResultNorm-class | 0.000 | 0.000 | 0.001 | |
| npGSEAResultNormCollection-class | 0.001 | 0.000 | 0.000 | |
| pLeft-methods | 0.003 | 0.000 | 0.003 | |
| pRight-methods | 0.003 | 0.000 | 0.002 | |
| pTwoSided-methods | 0.003 | 0.000 | 0.003 | |
| pValues-methods | 0.003 | 0.000 | 0.003 | |
| show-methods | 0.003 | 0.000 | 0.002 | |
| sigmaSq-methods | 0.003 | 0.000 | 0.003 | |
| stat-methods | 0.003 | 0.000 | 0.003 | |
| xSet-methods | 0.004 | 0.000 | 0.005 | |
| zStat-methods | 0.003 | 0.000 | 0.003 | |