| Back to Build/check report for BioC 3.23: simplified long |
|
This page was generated on 2025-11-08 11:32 -0500 (Sat, 08 Nov 2025).
| Hostname | OS | Arch (*) | R version | Installed pkgs |
|---|---|---|---|---|
| nebbiolo1 | Linux (Ubuntu 24.04.3 LTS) | x86_64 | R Under development (unstable) (2025-10-20 r88955) -- "Unsuffered Consequences" | 4821 |
| Click on any hostname to see more info about the system (e.g. compilers) (*) as reported by 'uname -p', except on Windows and Mac OS X | ||||
| Package 1453/2323 | Hostname | OS / Arch | INSTALL | BUILD | CHECK | BUILD BIN | ||||||||
| notameViz 1.1.0 (landing page) Vilhelm Suksi
| nebbiolo1 | Linux (Ubuntu 24.04.3 LTS) / x86_64 | OK | OK | OK | |||||||||
|
To the developers/maintainers of the notameViz package: - Allow up to 24 hours (and sometimes 48 hours) for your latest push to git@git.bioconductor.org:packages/notameViz.git to reflect on this report. See Troubleshooting Build Report for more information. - Use the following Renviron settings to reproduce errors and warnings. - If 'R CMD check' started to fail recently on the Linux builder(s) over a missing dependency, add the missing dependency to 'Suggests:' in your DESCRIPTION file. See Renviron.bioc for more information. |
| Package: notameViz |
| Version: 1.1.0 |
| Command: /home/biocbuild/bbs-3.23-bioc/R/bin/R CMD check --install=check:notameViz.install-out.txt --library=/home/biocbuild/bbs-3.23-bioc/R/site-library --timings notameViz_1.1.0.tar.gz |
| StartedAt: 2025-11-08 02:05:46 -0500 (Sat, 08 Nov 2025) |
| EndedAt: 2025-11-08 02:10:41 -0500 (Sat, 08 Nov 2025) |
| EllapsedTime: 294.5 seconds |
| RetCode: 0 |
| Status: OK |
| CheckDir: notameViz.Rcheck |
| Warnings: 0 |
##############################################################################
##############################################################################
###
### Running command:
###
### /home/biocbuild/bbs-3.23-bioc/R/bin/R CMD check --install=check:notameViz.install-out.txt --library=/home/biocbuild/bbs-3.23-bioc/R/site-library --timings notameViz_1.1.0.tar.gz
###
##############################################################################
##############################################################################
* using log directory ‘/home/biocbuild/bbs-3.23-bioc/meat/notameViz.Rcheck’
* using R Under development (unstable) (2025-10-20 r88955)
* using platform: x86_64-pc-linux-gnu
* R was compiled by
gcc (Ubuntu 13.3.0-6ubuntu2~24.04) 13.3.0
GNU Fortran (Ubuntu 13.3.0-6ubuntu2~24.04) 13.3.0
* running under: Ubuntu 24.04.3 LTS
* using session charset: UTF-8
* checking for file ‘notameViz/DESCRIPTION’ ... OK
* checking extension type ... Package
* this is package ‘notameViz’ version ‘1.1.0’
* package encoding: UTF-8
* checking package namespace information ... OK
* checking package dependencies ... OK
* checking if this is a source package ... OK
* checking if there is a namespace ... OK
* checking for hidden files and directories ... OK
* checking for portable file names ... OK
* checking for sufficient/correct file permissions ... OK
* checking whether package ‘notameViz’ can be installed ... OK
* checking installed package size ... OK
* checking package directory ... OK
* checking ‘build’ directory ... OK
* checking DESCRIPTION meta-information ... NOTE
License stub is invalid DCF.
* checking top-level files ... OK
* checking for left-over files ... OK
* checking index information ... OK
* checking package subdirectories ... OK
* checking code files for non-ASCII characters ... OK
* checking R files for syntax errors ... OK
* checking whether the package can be loaded ... OK
* checking whether the package can be loaded with stated dependencies ... OK
* checking whether the package can be unloaded cleanly ... OK
* checking whether the namespace can be loaded with stated dependencies ... OK
* checking whether the namespace can be unloaded cleanly ... OK
* checking loading without being on the library search path ... OK
* checking dependencies in R code ... OK
* checking S3 generic/method consistency ... OK
* checking replacement functions ... OK
* checking foreign function calls ... OK
* checking R code for possible problems ... OK
* checking Rd files ... OK
* checking Rd metadata ... OK
* checking Rd cross-references ... NOTE
Found the following Rd file(s) with Rd \link{} targets missing package
anchors:
save_dc_plots.Rd: correct_drift
Please provide package anchors for all Rd \link{} targets not in the
package itself and the base packages.
* checking for missing documentation entries ... OK
* checking for code/documentation mismatches ... OK
* checking Rd \usage sections ... OK
* checking Rd contents ... OK
* checking for unstated dependencies in examples ... OK
* checking files in ‘vignettes’ ... OK
* checking examples ... OK
Examples with CPU (user + system) or elapsed time > 5s
user system elapsed
plot_injection_lm 11.568 4.898 5.192
save_QC_plots 11.423 2.405 10.327
save_batch_plots 8.916 0.111 9.028
manhattan_plot 6.364 1.292 4.595
save_group_boxplots 7.479 0.170 7.649
save_group_lineplots 6.899 0.119 7.018
plot_effect_heatmap 4.932 1.533 3.153
save_beeswarm_plots 5.894 0.045 5.928
mz_rt_plot 4.519 1.387 2.747
* checking for unstated dependencies in ‘tests’ ... OK
* checking tests ...
Running ‘testthat.R’
OK
* checking for unstated dependencies in vignettes ... OK
* checking package vignettes ... OK
* checking re-building of vignette outputs ... OK
* checking PDF version of manual ... OK
* DONE
Status: 2 NOTEs
See
‘/home/biocbuild/bbs-3.23-bioc/meat/notameViz.Rcheck/00check.log’
for details.
notameViz.Rcheck/00install.out
############################################################################## ############################################################################## ### ### Running command: ### ### /home/biocbuild/bbs-3.23-bioc/R/bin/R CMD INSTALL notameViz ### ############################################################################## ############################################################################## * installing to library ‘/home/biocbuild/bbs-3.23-bioc/R/site-library’ * installing *source* package ‘notameViz’ ... ** this is package ‘notameViz’ version ‘1.1.0’ ** using staged installation ** R ** inst ** byte-compile and prepare package for lazy loading ** help *** installing help indices ** building package indices ** installing vignettes ** testing if installed package can be loaded from temporary location ** testing if installed package can be loaded from final location ** testing if installed package keeps a record of temporary installation path * DONE (notameViz)
notameViz.Rcheck/tests/testthat.Rout
R Under development (unstable) (2025-10-20 r88955) -- "Unsuffered Consequences"
Copyright (C) 2025 The R Foundation for Statistical Computing
Platform: x86_64-pc-linux-gnu
R is free software and comes with ABSOLUTELY NO WARRANTY.
You are welcome to redistribute it under certain conditions.
Type 'license()' or 'licence()' for distribution details.
R is a collaborative project with many contributors.
Type 'contributors()' for more information and
'citation()' on how to cite R or R packages in publications.
Type 'demo()' for some demos, 'help()' for on-line help, or
'help.start()' for an HTML browser interface to help.
Type 'q()' to quit R.
> library(testthat)
> library(notameViz)
Loading required package: ggplot2
Loading required package: SummarizedExperiment
Loading required package: MatrixGenerics
Loading required package: matrixStats
Attaching package: 'MatrixGenerics'
The following objects are masked from 'package:matrixStats':
colAlls, colAnyNAs, colAnys, colAvgsPerRowSet, colCollapse,
colCounts, colCummaxs, colCummins, colCumprods, colCumsums,
colDiffs, colIQRDiffs, colIQRs, colLogSumExps, colMadDiffs,
colMads, colMaxs, colMeans2, colMedians, colMins, colOrderStats,
colProds, colQuantiles, colRanges, colRanks, colSdDiffs, colSds,
colSums2, colTabulates, colVarDiffs, colVars, colWeightedMads,
colWeightedMeans, colWeightedMedians, colWeightedSds,
colWeightedVars, rowAlls, rowAnyNAs, rowAnys, rowAvgsPerColSet,
rowCollapse, rowCounts, rowCummaxs, rowCummins, rowCumprods,
rowCumsums, rowDiffs, rowIQRDiffs, rowIQRs, rowLogSumExps,
rowMadDiffs, rowMads, rowMaxs, rowMeans2, rowMedians, rowMins,
rowOrderStats, rowProds, rowQuantiles, rowRanges, rowRanks,
rowSdDiffs, rowSds, rowSums2, rowTabulates, rowVarDiffs, rowVars,
rowWeightedMads, rowWeightedMeans, rowWeightedMedians,
rowWeightedSds, rowWeightedVars
Loading required package: GenomicRanges
Loading required package: stats4
Loading required package: BiocGenerics
Loading required package: generics
Attaching package: 'generics'
The following objects are masked from 'package:base':
as.difftime, as.factor, as.ordered, intersect, is.element, setdiff,
setequal, union
Attaching package: 'BiocGenerics'
The following objects are masked from 'package:stats':
IQR, mad, sd, var, xtabs
The following objects are masked from 'package:base':
Filter, Find, Map, Position, Reduce, anyDuplicated, aperm, append,
as.data.frame, basename, cbind, colnames, dirname, do.call,
duplicated, eval, evalq, get, grep, grepl, is.unsorted, lapply,
mapply, match, mget, order, paste, pmax, pmax.int, pmin, pmin.int,
rank, rbind, rownames, sapply, saveRDS, table, tapply, unique,
unsplit, which.max, which.min
Loading required package: S4Vectors
Attaching package: 'S4Vectors'
The following object is masked from 'package:utils':
findMatches
The following objects are masked from 'package:base':
I, expand.grid, unname
Loading required package: IRanges
Loading required package: Seqinfo
Loading required package: Biobase
Welcome to Bioconductor
Vignettes contain introductory material; view with
'browseVignettes()'. To cite Bioconductor, see
'citation("Biobase")', and for packages 'citation("pkgname")'.
Attaching package: 'Biobase'
The following object is masked from 'package:MatrixGenerics':
rowMedians
The following objects are masked from 'package:matrixStats':
anyMissing, rowMedians
>
> test_check("notameViz")
Running tests in parallel requires the 3rd edition
INFO [2025-11-08 02:09:58] Saved to: /tmp/RtmplS9Zh5\test\recursive/file272da54c204857.pdf
INFO [2025-11-08 02:09:58] Saved to: /tmp/RtmplS9Zh5/file272da53f18f8a.pdf
INFO [2025-11-08 02:09:58] Saved to: /tmp/RtmplS9Zh5/file272da55f067f8a.emf
INFO [2025-11-08 02:09:58] Saved to: /tmp/RtmplS9Zh5/file272da56c691989.svg
INFO [2025-11-08 02:09:58] Saved to: /tmp/RtmplS9Zh5/file272da5148d8c9a.png
INFO [2025-11-08 02:09:59] Saved to: /tmp/RtmplS9Zh5/file272da5385f65ff.tiff
INFO [2025-11-08 02:09:59] Saved to: /tmp/RtmplS9Zh5\test\/HILIC_neg_259_9623a4_4322.emf
INFO [2025-11-08 02:10:00] Saved to: /tmp/RtmplS9Zh5\test\/HILIC_neg_108_1065a2_6121.emf
INFO [2025-11-08 02:10:00] Saved to: /tmp/RtmplS9Zh5\test\/HILIC_neg_158_23a1_4128.emf
INFO [2025-11-08 02:10:01] Saved to: /tmp/RtmplS9Zh5\test\/HILIC_neg_251_0056a0_6161.emf
INFO [2025-11-08 02:10:01] Saved to: /tmp/RtmplS9Zh5\test\/HILIC_neg_401_52a4_211.emf
INFO [2025-11-08 02:10:01] Saved line plots with mean line to: /tmp/RtmplS9Zh5\test\
INFO [2025-11-08 02:10:01] Saved to: /tmp/RtmplS9Zh5\test\/Glucose.emf
INFO [2025-11-08 02:10:02] Saved to: /tmp/RtmplS9Zh5\test\/Threoline.emf
INFO [2025-11-08 02:10:02] Saved to: /tmp/RtmplS9Zh5\test\/5-AVAB.emf
INFO [2025-11-08 02:10:02] Saved to: /tmp/RtmplS9Zh5\test\/1_2 acid.emf
INFO [2025-11-08 02:10:03] Saved to: /tmp/RtmplS9Zh5\test\/20_0 carbon chain.emf
INFO [2025-11-08 02:10:03] Saved line plots with mean line to: /tmp/RtmplS9Zh5\test\
INFO [2025-11-08 02:10:03] Saved to: /tmp/RtmplS9Zh5\test\/HILIC_neg_259_9623a4_4322.emf
INFO [2025-11-08 02:10:04] Saved to: /tmp/RtmplS9Zh5\test\/HILIC_neg_108_1065a2_6121.emf
INFO [2025-11-08 02:10:04] Saved to: /tmp/RtmplS9Zh5\test\/HILIC_neg_158_23a1_4128.emf
INFO [2025-11-08 02:10:04] Saved to: /tmp/RtmplS9Zh5\test\/HILIC_neg_251_0056a0_6161.emf
INFO [2025-11-08 02:10:04] Saved to: /tmp/RtmplS9Zh5\test\/HILIC_neg_401_52a4_211.emf
INFO [2025-11-08 02:10:04] Saved group boxplots to: /tmp/RtmplS9Zh5\test\
INFO [2025-11-08 02:10:05] Saved to: /tmp/RtmplS9Zh5\test\/HILIC_neg_259_9623a4_4322.emf
INFO [2025-11-08 02:10:05] Saved to: /tmp/RtmplS9Zh5\test\/HILIC_neg_108_1065a2_6121.emf
INFO [2025-11-08 02:10:06] Saved to: /tmp/RtmplS9Zh5\test\/HILIC_neg_158_23a1_4128.emf
INFO [2025-11-08 02:10:06] Saved to: /tmp/RtmplS9Zh5\test\/HILIC_neg_251_0056a0_6161.emf
INFO [2025-11-08 02:10:06] Saved to: /tmp/RtmplS9Zh5\test\/HILIC_neg_401_52a4_211.emf
INFO [2025-11-08 02:10:06] Saved group boxplots to: /tmp/RtmplS9Zh5\test\
INFO [2025-11-08 02:10:07] Saved to: /tmp/RtmplS9Zh5\test\/HILIC_neg_259_9623a4_4322.emf
INFO [2025-11-08 02:10:07] Saved to: /tmp/RtmplS9Zh5\test\/HILIC_neg_108_1065a2_6121.emf
INFO [2025-11-08 02:10:07] Saved to: /tmp/RtmplS9Zh5\test\/HILIC_neg_158_23a1_4128.emf
INFO [2025-11-08 02:10:08] Saved to: /tmp/RtmplS9Zh5\test\/HILIC_neg_251_0056a0_6161.emf
INFO [2025-11-08 02:10:08] Saved to: /tmp/RtmplS9Zh5\test\/HILIC_neg_401_52a4_211.emf
INFO [2025-11-08 02:10:08] Saved beeswarm plots to: /tmp/RtmplS9Zh5\test\
INFO [2025-11-08 02:10:08] Saved to: /tmp/RtmplS9Zh5\test\/Glucose.emf
INFO [2025-11-08 02:10:08] Saved to: /tmp/RtmplS9Zh5\test\/Threoline.emf
INFO [2025-11-08 02:10:09] Saved to: /tmp/RtmplS9Zh5\test\/5-AVAB.emf
INFO [2025-11-08 02:10:09] Saved to: /tmp/RtmplS9Zh5\test\/1_2 acid.emf
INFO [2025-11-08 02:10:09] Saved to: /tmp/RtmplS9Zh5\test\/20_0 carbon chain.emf
INFO [2025-11-08 02:10:09] Saved beeswarm plots to: /tmp/RtmplS9Zh5\test\
INFO [2025-11-08 02:10:10] Saved to: /tmp/RtmplS9Zh5\test\/HILIC_neg_259_9623a4_4322.emf
INFO [2025-11-08 02:10:10] Saved to: /tmp/RtmplS9Zh5\test\/HILIC_neg_108_1065a2_6121.emf
INFO [2025-11-08 02:10:10] Saved to: /tmp/RtmplS9Zh5\test\/HILIC_neg_158_23a1_4128.emf
INFO [2025-11-08 02:10:10] Saved to: /tmp/RtmplS9Zh5\test\/HILIC_neg_251_0056a0_6161.emf
INFO [2025-11-08 02:10:11] Saved to: /tmp/RtmplS9Zh5\test\/HILIC_neg_401_52a4_211.emf
INFO [2025-11-08 02:10:11] Saved scatter plots to: /tmp/RtmplS9Zh5\test\
INFO [2025-11-08 02:10:11] Saved to: /tmp/RtmplS9Zh5\test\/HILIC_neg_259_9623a4_4322.emf
INFO [2025-11-08 02:10:11] Saved to: /tmp/RtmplS9Zh5\test\/HILIC_neg_108_1065a2_6121.emf
INFO [2025-11-08 02:10:12] Saved to: /tmp/RtmplS9Zh5\test\/HILIC_neg_158_23a1_4128.emf
INFO [2025-11-08 02:10:12] Saved to: /tmp/RtmplS9Zh5\test\/HILIC_neg_251_0056a0_6161.emf
INFO [2025-11-08 02:10:12] Saved to: /tmp/RtmplS9Zh5\test\/HILIC_neg_401_52a4_211.emf
INFO [2025-11-08 02:10:12] Saved scatter plots to: /tmp/RtmplS9Zh5\test\
INFO [2025-11-08 02:10:13] Saved to: /tmp/RtmplS9Zh5\test\/HILIC_neg_259_9623a4_4322.emf
INFO [2025-11-08 02:10:13] Saved to: /tmp/RtmplS9Zh5\test\/HILIC_neg_108_1065a2_6121.emf
INFO [2025-11-08 02:10:13] Saved to: /tmp/RtmplS9Zh5\test\/HILIC_neg_158_23a1_4128.emf
INFO [2025-11-08 02:10:14] Saved to: /tmp/RtmplS9Zh5\test\/HILIC_neg_251_0056a0_6161.emf
INFO [2025-11-08 02:10:14] Saved to: /tmp/RtmplS9Zh5\test\/HILIC_neg_401_52a4_211.emf
INFO [2025-11-08 02:10:14] Saved line plots with mean line to: /tmp/RtmplS9Zh5\test\
INFO [2025-11-08 02:10:15] Saved to: /tmp/RtmplS9Zh5\test\/HILIC_neg_259_9623a4_4322.emf
INFO [2025-11-08 02:10:15] Saved to: /tmp/RtmplS9Zh5\test\/HILIC_neg_108_1065a2_6121.emf
INFO [2025-11-08 02:10:16] Saved to: /tmp/RtmplS9Zh5\test\/HILIC_neg_158_23a1_4128.emf
INFO [2025-11-08 02:10:16] Saved to: /tmp/RtmplS9Zh5\test\/HILIC_neg_251_0056a0_6161.emf
INFO [2025-11-08 02:10:16] Saved to: /tmp/RtmplS9Zh5\test\/HILIC_neg_401_52a4_211.emf
INFO [2025-11-08 02:10:16] Saved line plots with mean line to: /tmp/RtmplS9Zh5\test\
INFO [2025-11-08 02:10:17]
Saved batch plots to: /tmp/RtmplS9Zh5\test\batch_plots.pdf
INFO [2025-11-08 02:10:17] Identified m/z column Average_Mz and retention time column Average_Rt_min
INFO [2025-11-08 02:10:18] Identified m/z column Average_Mz and retention time column Average_Rt_min
INFO [2025-11-08 02:10:18] Identified m/z column Average_Mz and retention time column Average_Rt_min
INFO [2025-11-08 02:10:18]
92% of features flagged for low quality
INFO [2025-11-08 02:10:18] Identified m/z column Average_Mz and retention time column Average_Rt_min
INFO [2025-11-08 02:10:18] Identified m/z column Average_Mz and retention time column Average_Rt_min
[ FAIL 0 | WARN 182 | SKIP 0 | PASS 26 ]
[ FAIL 0 | WARN 182 | SKIP 0 | PASS 26 ]
>
> proc.time()
user system elapsed
28.339 1.245 29.576
notameViz.Rcheck/notameViz-Ex.timings
| name | user | system | elapsed | |
| manhattan_plot | 6.364 | 1.292 | 4.595 | |
| mz_rt_plot | 4.519 | 1.387 | 2.747 | |
| plot_dendrogram | 0.483 | 0.046 | 0.529 | |
| plot_dist_density | 1.396 | 0.443 | 1.322 | |
| plot_effect_heatmap | 4.932 | 1.533 | 3.153 | |
| plot_injection_lm | 11.568 | 4.898 | 5.192 | |
| plot_p_histogram | 3.519 | 1.294 | 1.676 | |
| plot_pca | 0.384 | 0.030 | 0.414 | |
| plot_pca_arrows | 0.811 | 0.065 | 0.876 | |
| plot_pca_hexbin | 0.214 | 0.018 | 0.232 | |
| plot_pca_loadings | 0.308 | 0.009 | 0.317 | |
| plot_quality | 1.357 | 0.049 | 1.408 | |
| plot_sample_boxplots | 1.043 | 0.031 | 1.075 | |
| plot_sample_heatmap | 0.599 | 0.011 | 0.610 | |
| plot_tsne | 0.422 | 0.004 | 0.426 | |
| plot_tsne_arrows | 0.782 | 0.045 | 0.827 | |
| plot_tsne_hexbin | 0.263 | 0.004 | 0.268 | |
| save_QC_plots | 11.423 | 2.405 | 10.327 | |
| save_batch_plots | 8.916 | 0.111 | 9.028 | |
| save_beeswarm_plots | 5.894 | 0.045 | 5.928 | |
| save_dc_plots | 2.907 | 0.575 | 2.919 | |
| save_group_boxplots | 7.479 | 0.170 | 7.649 | |
| save_group_lineplots | 6.899 | 0.119 | 7.018 | |
| save_plot | 0.690 | 0.007 | 0.697 | |
| save_scatter_plots | 3.022 | 0.052 | 3.075 | |
| save_subject_line_plots | 3.482 | 0.231 | 3.713 | |
| visualize_clusters | 1.928 | 0.032 | 1.961 | |
| volcano_plot | 3.368 | 1.355 | 1.528 | |