Back to Multiple platform build/check report for BioC 3.22:   simplified   long
ABCDEFGHIJKLM[N]OPQRSTUVWXYZ

This page was generated on 2025-10-21 12:07 -0400 (Tue, 21 Oct 2025).

HostnameOSArch (*)R versionInstalled pkgs
nebbiolo2Linux (Ubuntu 24.04.3 LTS)x86_644.5.1 Patched (2025-08-23 r88802) -- "Great Square Root" 4887
lconwaymacOS 12.7.6 Montereyx86_644.5.1 Patched (2025-09-10 r88807) -- "Great Square Root" 4677
kjohnson3macOS 13.7.7 Venturaarm644.5.1 Patched (2025-09-10 r88807) -- "Great Square Root" 4622
taishanLinux (openEuler 24.03 LTS)aarch644.5.0 (2025-04-11) -- "How About a Twenty-Six" 4642
Click on any hostname to see more info about the system (e.g. compilers)      (*) as reported by 'uname -p', except on Windows and Mac OS X

Package 1467/2353HostnameOS / ArchINSTALLBUILDCHECKBUILD BIN
notameStats 0.99.1  (landing page)
Vilhelm Suksi
Snapshot Date: 2025-10-20 13:45 -0400 (Mon, 20 Oct 2025)
git_url: https://git.bioconductor.org/packages/notameStats
git_branch: devel
git_last_commit: 58d6492
git_last_commit_date: 2025-10-03 03:03:56 -0400 (Fri, 03 Oct 2025)
nebbiolo2Linux (Ubuntu 24.04.3 LTS) / x86_64  OK    OK    OK  UNNEEDED, same version is already published
lconwaymacOS 12.7.6 Monterey / x86_64  OK    OK    OK    OK  UNNEEDED, same version is already published
kjohnson3macOS 13.7.7 Ventura / arm64  OK    OK    OK    OK  UNNEEDED, same version is already published
taishanLinux (openEuler 24.03 LTS) / aarch64  OK    OK    OK  


CHECK results for notameStats on taishan

To the developers/maintainers of the notameStats package:
- Allow up to 24 hours (and sometimes 48 hours) for your latest push to git@git.bioconductor.org:packages/notameStats.git to reflect on this report. See Troubleshooting Build Report for more information.
- Use the following Renviron settings to reproduce errors and warnings.
- If 'R CMD check' started to fail recently on the Linux builder(s) over a missing dependency, add the missing dependency to 'Suggests:' in your DESCRIPTION file. See Renviron.bioc for more information.
- See Martin Grigorov's blog post for how to debug Linux ARM64 related issues on a x86_64 host.

raw results


Summary

Package: notameStats
Version: 0.99.1
Command: /home/biocbuild/R/R/bin/R CMD check --install=check:notameStats.install-out.txt --library=/home/biocbuild/R/R/site-library --no-vignettes --timings notameStats_0.99.1.tar.gz
StartedAt: 2025-10-17 11:44:22 -0000 (Fri, 17 Oct 2025)
EndedAt: 2025-10-17 11:50:13 -0000 (Fri, 17 Oct 2025)
EllapsedTime: 351.4 seconds
RetCode: 0
Status:   OK  
CheckDir: notameStats.Rcheck
Warnings: 0

Command output

##############################################################################
##############################################################################
###
### Running command:
###
###   /home/biocbuild/R/R/bin/R CMD check --install=check:notameStats.install-out.txt --library=/home/biocbuild/R/R/site-library --no-vignettes --timings notameStats_0.99.1.tar.gz
###
##############################################################################
##############################################################################


* using log directory ‘/home/biocbuild/bbs-3.22-bioc/meat/notameStats.Rcheck’
* using R version 4.5.0 (2025-04-11)
* using platform: aarch64-unknown-linux-gnu
* R was compiled by
    aarch64-unknown-linux-gnu-gcc (GCC) 14.2.0
    GNU Fortran (GCC) 14.2.0
* running under: openEuler 24.03 (LTS)
* using session charset: UTF-8
* using option ‘--no-vignettes’
* checking for file ‘notameStats/DESCRIPTION’ ... OK
* checking extension type ... Package
* this is package ‘notameStats’ version ‘0.99.1’
* package encoding: UTF-8
* checking package namespace information ... OK
* checking package dependencies ... OK
* checking if this is a source package ... OK
* checking if there is a namespace ... OK
* checking for hidden files and directories ... OK
* checking for portable file names ... OK
* checking for sufficient/correct file permissions ... OK
* checking whether package ‘notameStats’ can be installed ... OK
* checking installed package size ... OK
* checking package directory ... OK
* checking ‘build’ directory ... OK
* checking DESCRIPTION meta-information ... NOTE
License stub is invalid DCF.
* checking top-level files ... OK
* checking for left-over files ... OK
* checking index information ... OK
* checking package subdirectories ... OK
* checking code files for non-ASCII characters ... OK
* checking R files for syntax errors ... OK
* checking whether the package can be loaded ... OK
* checking whether the package can be loaded with stated dependencies ... OK
* checking whether the package can be unloaded cleanly ... OK
* checking whether the namespace can be loaded with stated dependencies ... OK
* checking whether the namespace can be unloaded cleanly ... OK
* checking loading without being on the library search path ... OK
* checking dependencies in R code ... OK
* checking S3 generic/method consistency ... OK
* checking replacement functions ... OK
* checking foreign function calls ... OK
* checking R code for possible problems ... OK
* checking Rd files ... OK
* checking Rd metadata ... OK
* checking Rd cross-references ... OK
* checking for missing documentation entries ... OK
* checking for code/documentation mismatches ... OK
* checking Rd \usage sections ... OK
* checking Rd contents ... OK
* checking for unstated dependencies in examples ... OK
* checking files in ‘vignettes’ ... OK
* checking examples ... OK
Examples with CPU (user + system) or elapsed time > 5s
                            user system elapsed
pls_da                    25.973  0.339  26.377
muvr_analysis             21.158  0.939  22.377
perform_non_parametric    11.180  5.039   5.298
perform_auc               10.699  2.746   3.782
pls                       11.481  0.698  12.099
perform_correlation_tests  7.468  3.563   4.835
perform_lmer               7.803  1.989   3.823
perform_logistic           5.594  2.176   1.759
summary_statistics         3.347  2.216   1.141
* checking for unstated dependencies in ‘tests’ ... OK
* checking tests ...
  Running ‘testthat.R’
 OK
* checking for unstated dependencies in vignettes ... OK
* checking package vignettes ... OK
* checking running R code from vignettes ... SKIPPED
* checking re-building of vignette outputs ... SKIPPED
* checking PDF version of manual ... OK
* DONE

Status: 1 NOTE
See
  ‘/home/biocbuild/bbs-3.22-bioc/meat/notameStats.Rcheck/00check.log’
for details.


Installation output

notameStats.Rcheck/00install.out

##############################################################################
##############################################################################
###
### Running command:
###
###   /home/biocbuild/R/R/bin/R CMD INSTALL notameStats
###
##############################################################################
##############################################################################


* installing to library ‘/home/biocbuild/R/R-4.5.0/site-library’
* installing *source* package ‘notameStats’ ...
** this is package ‘notameStats’ version ‘0.99.1’
** using staged installation
** R
** inst
** byte-compile and prepare package for lazy loading
** help
*** installing help indices
** building package indices
** installing vignettes
** testing if installed package can be loaded from temporary location
** testing if installed package can be loaded from final location
** testing if installed package keeps a record of temporary installation path
* DONE (notameStats)

Tests output

notameStats.Rcheck/tests/testthat.Rout


R version 4.5.0 (2025-04-11) -- "How About a Twenty-Six"
Copyright (C) 2025 The R Foundation for Statistical Computing
Platform: aarch64-unknown-linux-gnu

R is free software and comes with ABSOLUTELY NO WARRANTY.
You are welcome to redistribute it under certain conditions.
Type 'license()' or 'licence()' for distribution details.

R is a collaborative project with many contributors.
Type 'contributors()' for more information and
'citation()' on how to cite R or R packages in publications.

Type 'demo()' for some demos, 'help()' for on-line help, or
'help.start()' for an HTML browser interface to help.
Type 'q()' to quit R.

> library(testthat)
> library(notameStats)
Loading required package: SummarizedExperiment
Loading required package: MatrixGenerics
Loading required package: matrixStats

Attaching package: 'MatrixGenerics'

The following objects are masked from 'package:matrixStats':

    colAlls, colAnyNAs, colAnys, colAvgsPerRowSet, colCollapse,
    colCounts, colCummaxs, colCummins, colCumprods, colCumsums,
    colDiffs, colIQRDiffs, colIQRs, colLogSumExps, colMadDiffs,
    colMads, colMaxs, colMeans2, colMedians, colMins, colOrderStats,
    colProds, colQuantiles, colRanges, colRanks, colSdDiffs, colSds,
    colSums2, colTabulates, colVarDiffs, colVars, colWeightedMads,
    colWeightedMeans, colWeightedMedians, colWeightedSds,
    colWeightedVars, rowAlls, rowAnyNAs, rowAnys, rowAvgsPerColSet,
    rowCollapse, rowCounts, rowCummaxs, rowCummins, rowCumprods,
    rowCumsums, rowDiffs, rowIQRDiffs, rowIQRs, rowLogSumExps,
    rowMadDiffs, rowMads, rowMaxs, rowMeans2, rowMedians, rowMins,
    rowOrderStats, rowProds, rowQuantiles, rowRanges, rowRanks,
    rowSdDiffs, rowSds, rowSums2, rowTabulates, rowVarDiffs, rowVars,
    rowWeightedMads, rowWeightedMeans, rowWeightedMedians,
    rowWeightedSds, rowWeightedVars

Loading required package: GenomicRanges
Loading required package: stats4
Loading required package: BiocGenerics
Loading required package: generics

Attaching package: 'generics'

The following objects are masked from 'package:base':

    as.difftime, as.factor, as.ordered, intersect, is.element, setdiff,
    setequal, union


Attaching package: 'BiocGenerics'

The following objects are masked from 'package:stats':

    IQR, mad, sd, var, xtabs

The following objects are masked from 'package:base':

    Filter, Find, Map, Position, Reduce, anyDuplicated, aperm, append,
    as.data.frame, basename, cbind, colnames, dirname, do.call,
    duplicated, eval, evalq, get, grep, grepl, is.unsorted, lapply,
    mapply, match, mget, order, paste, pmax, pmax.int, pmin, pmin.int,
    rank, rbind, rownames, sapply, saveRDS, table, tapply, unique,
    unsplit, which.max, which.min

Loading required package: S4Vectors

Attaching package: 'S4Vectors'

The following object is masked from 'package:utils':

    findMatches

The following objects are masked from 'package:base':

    I, expand.grid, unname

Loading required package: IRanges
Loading required package: Seqinfo
Loading required package: Biobase
Welcome to Bioconductor

    Vignettes contain introductory material; view with
    'browseVignettes()'. To cite Bioconductor, see
    'citation("Biobase")', and for packages 'citation("pkgname")'.


Attaching package: 'Biobase'

The following object is masked from 'package:MatrixGenerics':

    rowMedians

The following objects are masked from 'package:matrixStats':

    anyMissing, rowMedians

> 
> test_check("notameStats")
Running tests in parallel requires the 3rd edition
INFO [2025-10-17 11:49:31] Starting to compute Cohen's D between groups B & A from time change 2 - 1
INFO [2025-10-17 11:49:31] Cohen's D computed.
INFO [2025-10-17 11:49:31] Starting to compute Cohen's D between groups B & A
INFO [2025-10-17 11:49:31] Cohen's D computed.
INFO [2025-10-17 11:49:32] Starting to compute fold changes.
INFO [2025-10-17 11:49:32] Fold changes computed.
INFO [2025-10-17 11:49:32] Starting to compute fold changes.
INFO [2025-10-17 11:49:32] Fold changes computed.
INFO [2025-10-17 11:49:32] Starting linear regression.
INFO [2025-10-17 11:49:33] Linear regression performed.
INFO [2025-10-17 11:49:34] Starting linear regression.
INFO [2025-10-17 11:49:34] Linear regression performed.
INFO [2025-10-17 11:49:35] 
92% of features flagged for low quality
INFO [2025-10-17 11:49:35] Starting linear regression.
INFO [2025-10-17 11:49:36] Linear regression performed.
INFO [2025-10-17 11:49:36] Starting logistic regression
INFO [2025-10-17 11:49:37] Logistic regression performed.
INFO [2025-10-17 11:49:37] Starting logistic regression
INFO [2025-10-17 11:49:39] Logistic regression performed.
INFO [2025-10-17 11:49:39] Starting to compute Cohen's D between groups B & A
INFO [2025-10-17 11:49:39] Cohen's D computed.
INFO [2025-10-17 11:49:39] Starting to compute Cohen's D between groups C & A
INFO [2025-10-17 11:49:39] Cohen's D computed.
INFO [2025-10-17 11:49:40] Starting to compute Cohen's D between groups C & B
INFO [2025-10-17 11:49:40] Cohen's D computed.
INFO [2025-10-17 11:49:41] Starting to compute Cohen's D between groups B & A from time change 2 - 1
INFO [2025-10-17 11:49:41] Cohen's D computed.
INFO [2025-10-17 11:49:41] Starting to compute Cohen's D between groups B & A from time change 3 - 1
INFO [2025-10-17 11:49:41] Cohen's D computed.
INFO [2025-10-17 11:49:41] Starting to compute Cohen's D between groups B & A from time change 3 - 2
INFO [2025-10-17 11:49:42] Cohen's D computed.
INFO [2025-10-17 11:49:42] Starting to compute Cohen's D between groups C & A from time change 2 - 1
INFO [2025-10-17 11:49:42] Cohen's D computed.
INFO [2025-10-17 11:49:42] Starting to compute Cohen's D between groups C & A from time change 3 - 1
INFO [2025-10-17 11:49:42] Cohen's D computed.
INFO [2025-10-17 11:49:42] Starting to compute Cohen's D between groups C & A from time change 3 - 2
INFO [2025-10-17 11:49:43] Cohen's D computed.
INFO [2025-10-17 11:49:43] Starting to compute Cohen's D between groups C & B from time change 2 - 1
INFO [2025-10-17 11:49:43] Cohen's D computed.
INFO [2025-10-17 11:49:43] Starting to compute Cohen's D between groups C & B from time change 3 - 1
INFO [2025-10-17 11:49:43] Cohen's D computed.
INFO [2025-10-17 11:49:43] Starting to compute Cohen's D between groups C & B from time change 3 - 2
INFO [2025-10-17 11:49:43] Cohen's D computed.
INFO [2025-10-17 11:49:44] Starting to compute Cohen's D between groups B & A from time change 2 - 1
INFO [2025-10-17 11:49:44] Cohen's D computed.
INFO [2025-10-17 11:49:44] Starting to compute Cohen's D between groups B & A from time change 3 - 1
INFO [2025-10-17 11:49:44] Cohen's D computed.
INFO [2025-10-17 11:49:44] Starting to compute Cohen's D between groups B & A from time change 3 - 2
INFO [2025-10-17 11:49:45] Cohen's D computed.
INFO [2025-10-17 11:49:45] Starting to compute Cohen's D between groups C & A from time change 2 - 1
INFO [2025-10-17 11:49:45] Cohen's D computed.
INFO [2025-10-17 11:49:45] Starting to compute Cohen's D between groups C & A from time change 3 - 1
INFO [2025-10-17 11:49:45] Cohen's D computed.
INFO [2025-10-17 11:49:45] Starting to compute Cohen's D between groups C & A from time change 3 - 2
INFO [2025-10-17 11:49:45] Cohen's D computed.
INFO [2025-10-17 11:49:46] Starting to compute Cohen's D between groups C & B from time change 2 - 1
INFO [2025-10-17 11:49:46] Cohen's D computed.
INFO [2025-10-17 11:49:46] Starting to compute Cohen's D between groups C & B from time change 3 - 1
INFO [2025-10-17 11:49:46] Cohen's D computed.
INFO [2025-10-17 11:49:46] Starting to compute Cohen's D between groups C & B from time change 3 - 2
INFO [2025-10-17 11:49:46] Cohen's D computed.
INFO [2025-10-17 11:49:46] Starting to compute Cohen's D between groups B & A from time change 2 - 1
INFO [2025-10-17 11:49:47] Cohen's D computed.
INFO [2025-10-17 11:49:47] Starting to compute Cohen's D between groups B & A from time change 3 - 1
INFO [2025-10-17 11:49:47] Cohen's D computed.
INFO [2025-10-17 11:49:47] Starting to compute Cohen's D between groups B & A from time change 3 - 2
INFO [2025-10-17 11:49:47] Cohen's D computed.
INFO [2025-10-17 11:49:47] Starting to compute Cohen's D between groups C & A from time change 2 - 1
INFO [2025-10-17 11:49:48] Cohen's D computed.
INFO [2025-10-17 11:49:48] Starting to compute Cohen's D between groups C & B from time change 2 - 1
INFO [2025-10-17 11:49:48] Cohen's D computed.
INFO [2025-10-17 11:49:48] Starting to compute Cohen's D between groups B & A from time change 2 - 1
INFO [2025-10-17 11:49:48] Cohen's D computed.
INFO [2025-10-17 11:49:49] Starting to compute Cohen's D between groups B & A from time change 3 - 1
INFO [2025-10-17 11:49:49] Cohen's D computed.
INFO [2025-10-17 11:49:49] Starting to compute Cohen's D between groups B & A from time change 3 - 2
INFO [2025-10-17 11:49:49] Cohen's D computed.
INFO [2025-10-17 11:49:49] Starting to compute Cohen's D between groups C & A from time change 2 - 1
INFO [2025-10-17 11:49:49] Cohen's D computed.
INFO [2025-10-17 11:49:50] Starting to compute Cohen's D between groups C & B from time change 2 - 1
INFO [2025-10-17 11:49:50] Cohen's D computed.
INFO [2025-10-17 11:49:50] Starting to compute Cohen's D between groups B & A from time change 3 - 2
INFO [2025-10-17 11:49:50] Cohen's D computed.
INFO [2025-10-17 11:49:50] Starting to compute Cohen's D between groups C & A from time change 2 - 1
INFO [2025-10-17 11:49:51] Cohen's D computed.
INFO [2025-10-17 11:49:51] Starting to compute Cohen's D between groups C & A from time change 3 - 1
INFO [2025-10-17 11:49:51] Cohen's D computed.
INFO [2025-10-17 11:49:51] Starting to compute Cohen's D between groups C & A from time change 3 - 2
INFO [2025-10-17 11:49:51] Cohen's D computed.
INFO [2025-10-17 11:49:51] Starting to compute Cohen's D between groups C & B from time change 2 - 1
INFO [2025-10-17 11:49:51] Cohen's D computed.
INFO [2025-10-17 11:49:52] Starting to compute Cohen's D between groups C & B from time change 3 - 1
INFO [2025-10-17 11:49:52] Cohen's D computed.
INFO [2025-10-17 11:49:52] Starting to compute Cohen's D between groups C & B from time change 3 - 2
INFO [2025-10-17 11:49:52] Cohen's D computed.
INFO [2025-10-17 11:49:52] Starting paired tests for 1 & 2
INFO [2025-10-17 11:49:52] Found 20 complete pairs.
INFO [2025-10-17 11:49:52] Paired tests performed.
INFO [2025-10-17 11:49:53] Starting tests for 1 & 2
INFO [2025-10-17 11:49:53] Tests performed
INFO [2025-10-17 11:49:53] Starting tests for 1 & 3
INFO [2025-10-17 11:49:53] Tests performed
INFO [2025-10-17 11:49:53] Starting tests for 2 & 3
INFO [2025-10-17 11:49:54] Tests performed
INFO [2025-10-17 11:49:54] Starting tests for 1 & 2
INFO [2025-10-17 11:49:54] Tests performed
INFO [2025-10-17 11:49:54] Starting tests for 1 & 3
INFO [2025-10-17 11:49:54] Tests performed
INFO [2025-10-17 11:49:54] Starting tests for 2 & 3
INFO [2025-10-17 11:49:55] Tests performed
INFO [2025-10-17 11:49:55] Starting paired tests for 1 & 2
INFO [2025-10-17 11:49:55] Found 4 complete pairs.
INFO [2025-10-17 11:49:55] Paired tests performed.
INFO [2025-10-17 11:49:55] Starting paired tests for 1 & 3
INFO [2025-10-17 11:49:55] Found 4 complete pairs.
INFO [2025-10-17 11:49:55] Paired tests performed.
INFO [2025-10-17 11:49:55] Starting paired tests for 2 & 3
INFO [2025-10-17 11:49:55] Found 4 complete pairs.
INFO [2025-10-17 11:49:56] Paired tests performed.
INFO [2025-10-17 11:49:56] Starting paired tests for 1 & 2
INFO [2025-10-17 11:49:56] Found 8 complete pairs.
INFO [2025-10-17 11:49:56] Paired tests performed.
INFO [2025-10-17 11:49:56] Starting paired tests for 1 & 3
INFO [2025-10-17 11:49:56] Found 8 complete pairs.
INFO [2025-10-17 11:49:56] Paired tests performed.
INFO [2025-10-17 11:49:57] Starting paired tests for 2 & 3
INFO [2025-10-17 11:49:57] Found 8 complete pairs.
INFO [2025-10-17 11:49:57] Paired tests performed.
INFO [2025-10-17 11:49:57] Starting paired tests for 1 & 2
INFO [2025-10-17 11:49:57] Found 4 complete pairs.
INFO [2025-10-17 11:49:57] Paired tests performed.
INFO [2025-10-17 11:49:57] Starting paired tests for 1 & 3
INFO [2025-10-17 11:49:57] Found 4 complete pairs.
INFO [2025-10-17 11:49:57] Paired tests performed.
INFO [2025-10-17 11:49:58] Starting paired tests for 2 & 3
INFO [2025-10-17 11:49:58] Found 4 complete pairs.
INFO [2025-10-17 11:49:58] Paired tests performed.
INFO [2025-10-17 11:49:58] Starting tests for A & B
INFO [2025-10-17 11:49:59] Tests performed
INFO [2025-10-17 11:50:01] Starting paired tests for 1 & 2
INFO [2025-10-17 11:50:01] Found 20 complete pairs.
INFO [2025-10-17 11:50:02] Paired tests performed.
INFO [2025-10-17 11:50:02] Starting tests for 1 & 2
INFO [2025-10-17 11:50:02] Tests performed
INFO [2025-10-17 11:50:02] Starting tests for 1 & 3
INFO [2025-10-17 11:50:03] Tests performed
INFO [2025-10-17 11:50:03] Starting tests for 2 & 3
INFO [2025-10-17 11:50:04] Tests performed
INFO [2025-10-17 11:50:04] Starting tests for 1 & 2
INFO [2025-10-17 11:50:04] Tests performed
INFO [2025-10-17 11:50:04] Starting tests for 1 & 3
INFO [2025-10-17 11:50:05] Tests performed
INFO [2025-10-17 11:50:05] Starting tests for 2 & 3
INFO [2025-10-17 11:50:05] Tests performed
INFO [2025-10-17 11:50:06] Starting paired tests for 1 & 2
INFO [2025-10-17 11:50:06] Found 4 complete pairs.
INFO [2025-10-17 11:50:06] Paired tests performed.
INFO [2025-10-17 11:50:06] Starting paired tests for 1 & 3
INFO [2025-10-17 11:50:06] Found 4 complete pairs.
INFO [2025-10-17 11:50:06] Paired tests performed.
INFO [2025-10-17 11:50:06] Starting paired tests for 2 & 3
INFO [2025-10-17 11:50:06] Found 4 complete pairs.
INFO [2025-10-17 11:50:06] Paired tests performed.
INFO [2025-10-17 11:50:07] Starting correlation tests.
INFO [2025-10-17 11:50:07] Performing correlation tests for single object
INFO [2025-10-17 11:50:07] Correlation tests performed.
INFO [2025-10-17 11:50:07] Starting correlation tests.
INFO [2025-10-17 11:50:07] Starting correlation tests.
INFO [2025-10-17 11:50:07] Starting correlation tests.
INFO [2025-10-17 11:50:07] Starting correlation tests.
INFO [2025-10-17 11:50:07] Performing correlation tests for two objects
INFO [2025-10-17 11:50:07] Correlation tests performed.
INFO [2025-10-17 11:50:07] Starting correlation tests.
INFO [2025-10-17 11:50:08] Performing correlation tests for two objects
INFO [2025-10-17 11:50:08] Correlation tests performed.
INFO [2025-10-17 11:50:08] Starting paired tests for 1 & 2
INFO [2025-10-17 11:50:08] Found 20 complete pairs.
INFO [2025-10-17 11:50:09] Paired tests performed.
INFO [2025-10-17 11:50:09] Starting tests for A & B
INFO [2025-10-17 11:50:09] Tests performed
[ FAIL 0 | WARN 1 | SKIP 0 | PASS 88 ]

[ FAIL 0 | WARN 1 | SKIP 0 | PASS 88 ]
> 
> proc.time()
   user  system elapsed 
 65.735  39.155  53.769 

Example timings

notameStats.Rcheck/notameStats-Ex.timings

nameusersystemelapsed
cohens_d3.4750.4613.499
fit_rf0.1510.0360.189
fold_change0.4980.3660.435
importance_rf0.1840.0510.161
muvr_analysis21.158 0.93922.377
perform_auc10.699 2.746 3.782
perform_correlation_tests7.4683.5634.835
perform_homoscedasticity_tests0.6030.5750.738
perform_kruskal_wallis0.7530.6330.341
perform_lm1.9341.1441.058
perform_lm_anova1.2320.6630.463
perform_lmer7.8031.9893.823
perform_logistic5.5942.1761.759
perform_non_parametric11.180 5.039 5.298
perform_oneway_anova0.8840.5480.291
perform_permanova1.6850.4481.860
perform_t_test1.8882.2372.118
pls11.481 0.69812.099
pls_da25.973 0.33926.377
summarize_results0.6890.2660.914
summary_statistics3.3472.2161.141