Back to Multiple platform build/check report for BioC 3.22:   simplified   long
ABCDEFGHIJKLM[N]OPQRSTUVWXYZ

This page was generated on 2025-07-25 12:12 -0400 (Fri, 25 Jul 2025).

HostnameOSArch (*)R versionInstalled pkgs
nebbiolo2Linux (Ubuntu 24.04.2 LTS)x86_644.5.1 (2025-06-13) -- "Great Square Root" 4793
palomino8Windows Server 2022 Datacenterx644.5.1 (2025-06-13 ucrt) -- "Great Square Root" 4531
lconwaymacOS 12.7.1 Montereyx86_644.5.1 (2025-06-13) -- "Great Square Root" 4574
kjohnson3macOS 13.7.1 Venturaarm644.5.1 Patched (2025-06-14 r88325) -- "Great Square Root" 4515
taishanLinux (openEuler 24.03 LTS)aarch644.5.0 (2025-04-11) -- "How About a Twenty-Six" 4512
Click on any hostname to see more info about the system (e.g. compilers)      (*) as reported by 'uname -p', except on Windows and Mac OS X

Package 1432/2311HostnameOS / ArchINSTALLBUILDCHECKBUILD BIN
nipalsMCIA 1.7.0  (landing page)
Maximilian Mattessich
Snapshot Date: 2025-07-24 13:25 -0400 (Thu, 24 Jul 2025)
git_url: https://git.bioconductor.org/packages/nipalsMCIA
git_branch: devel
git_last_commit: 55354e7
git_last_commit_date: 2025-04-15 13:21:21 -0400 (Tue, 15 Apr 2025)
nebbiolo2Linux (Ubuntu 24.04.2 LTS) / x86_64  OK    OK    OK  UNNEEDED, same version is already published
palomino8Windows Server 2022 Datacenter / x64  OK    OK    OK    OK  UNNEEDED, same version is already published
lconwaymacOS 12.7.1 Monterey / x86_64  OK    OK    OK    OK  UNNEEDED, same version is already published
kjohnson3macOS 13.7.1 Ventura / arm64  OK    OK    OK    OK  UNNEEDED, same version is already published
taishanLinux (openEuler 24.03 LTS) / aarch64  OK    TIMEOUT  skipped


BUILD results for nipalsMCIA on taishan

To the developers/maintainers of the nipalsMCIA package:
- Allow up to 24 hours (and sometimes 48 hours) for your latest push to git@git.bioconductor.org:packages/nipalsMCIA.git to reflect on this report. See Troubleshooting Build Report for more information.
- Use the following Renviron settings to reproduce errors and warnings.
- If 'R CMD check' started to fail recently on the Linux builder(s) over a missing dependency, add the missing dependency to 'Suggests:' in your DESCRIPTION file. See Renviron.bioc for more information.
- See Martin Grigorov's blog post for how to debug Linux ARM64 related issues on a x86_64 host.

raw results


Summary

Package: nipalsMCIA
Version: 1.7.0
Command: /home/biocbuild/R/R/bin/R CMD build --keep-empty-dirs --no-resave-data nipalsMCIA
StartedAt: 2025-07-25 02:27:55 -0000 (Fri, 25 Jul 2025)
EndedAt: 2025-07-25 03:07:56 -0000 (Fri, 25 Jul 2025)
EllapsedTime: 2400.8 seconds
RetCode: None
Status:   TIMEOUT  
PackageFile: None
PackageFileSize: NA

Command output

##############################################################################
##############################################################################
###
### Running command:
###
###   /home/biocbuild/R/R/bin/R CMD build --keep-empty-dirs --no-resave-data nipalsMCIA
###
##############################################################################
##############################################################################


* checking for file ‘nipalsMCIA/DESCRIPTION’ ... OK
* preparing ‘nipalsMCIA’:
* checking DESCRIPTION meta-information ... OK
* installing the package to build vignettes
* creating vignettes ...