| Back to Multiple platform build/check report for BioC 3.23: simplified long |
|
This page was generated on 2025-11-24 11:38 -0500 (Mon, 24 Nov 2025).
| Hostname | OS | Arch (*) | R version | Installed pkgs |
|---|---|---|---|---|
| nebbiolo1 | Linux (Ubuntu 24.04.3 LTS) | x86_64 | R Under development (unstable) (2025-10-20 r88955) -- "Unsuffered Consequences" | 4829 |
| lconway | macOS 12.7.6 Monterey | x86_64 | R Under development (unstable) (2025-10-21 r88958) -- "Unsuffered Consequences" | 4605 |
| kjohnson3 | macOS 13.7.7 Ventura | arm64 | R Under development (unstable) (2025-11-04 r88984) -- "Unsuffered Consequences" | 4568 |
| Click on any hostname to see more info about the system (e.g. compilers) (*) as reported by 'uname -p', except on Windows and Mac OS X | ||||
| Package 1444/2327 | Hostname | OS / Arch | INSTALL | BUILD | CHECK | BUILD BIN | ||||||||
| ngsReports 2.13.1 (landing page) Stevie Pederson
| nebbiolo1 | Linux (Ubuntu 24.04.3 LTS) / x86_64 | OK | OK | OK | |||||||||
| lconway | macOS 12.7.6 Monterey / x86_64 | OK | OK | OK | OK | |||||||||
| kjohnson3 | macOS 13.7.7 Ventura / arm64 | OK | OK | OK | OK | |||||||||
|
To the developers/maintainers of the ngsReports package: - Allow up to 24 hours (and sometimes 48 hours) for your latest push to git@git.bioconductor.org:packages/ngsReports.git to reflect on this report. See Troubleshooting Build Report for more information. - Use the following Renviron settings to reproduce errors and warnings. - If 'R CMD check' started to fail recently on the Linux builder(s) over a missing dependency, add the missing dependency to 'Suggests:' in your DESCRIPTION file. See Renviron.bioc for more information. |
| Package: ngsReports |
| Version: 2.13.1 |
| Command: /home/biocbuild/bbs-3.23-bioc/R/bin/R CMD check --install=check:ngsReports.install-out.txt --library=/home/biocbuild/bbs-3.23-bioc/R/site-library --timings ngsReports_2.13.1.tar.gz |
| StartedAt: 2025-11-24 02:00:52 -0500 (Mon, 24 Nov 2025) |
| EndedAt: 2025-11-24 02:04:48 -0500 (Mon, 24 Nov 2025) |
| EllapsedTime: 236.3 seconds |
| RetCode: 0 |
| Status: OK |
| CheckDir: ngsReports.Rcheck |
| Warnings: 0 |
##############################################################################
##############################################################################
###
### Running command:
###
### /home/biocbuild/bbs-3.23-bioc/R/bin/R CMD check --install=check:ngsReports.install-out.txt --library=/home/biocbuild/bbs-3.23-bioc/R/site-library --timings ngsReports_2.13.1.tar.gz
###
##############################################################################
##############################################################################
* using log directory ‘/home/biocbuild/bbs-3.23-bioc/meat/ngsReports.Rcheck’
* using R Under development (unstable) (2025-10-20 r88955)
* using platform: x86_64-pc-linux-gnu
* R was compiled by
gcc (Ubuntu 13.3.0-6ubuntu2~24.04) 13.3.0
GNU Fortran (Ubuntu 13.3.0-6ubuntu2~24.04) 13.3.0
* running under: Ubuntu 24.04.3 LTS
* using session charset: UTF-8
* checking for file ‘ngsReports/DESCRIPTION’ ... OK
* this is package ‘ngsReports’ version ‘2.13.1’
* package encoding: UTF-8
* checking package namespace information ... OK
* checking package dependencies ... OK
* checking if this is a source package ... OK
* checking if there is a namespace ... OK
* checking for hidden files and directories ... OK
* checking for portable file names ... OK
* checking for sufficient/correct file permissions ... OK
* checking whether package ‘ngsReports’ can be installed ... OK
* checking installed package size ... OK
* checking package directory ... OK
* checking ‘build’ directory ... OK
* checking DESCRIPTION meta-information ... OK
* checking top-level files ... OK
* checking for left-over files ... OK
* checking index information ... OK
* checking package subdirectories ... OK
* checking code files for non-ASCII characters ... OK
* checking R files for syntax errors ... OK
* checking whether the package can be loaded ... OK
* checking whether the package can be loaded with stated dependencies ... OK
* checking whether the package can be unloaded cleanly ... OK
* checking whether the namespace can be loaded with stated dependencies ... OK
* checking whether the namespace can be unloaded cleanly ... OK
* checking loading without being on the library search path ... OK
* checking dependencies in R code ... OK
* checking S3 generic/method consistency ... OK
* checking replacement functions ... OK
* checking foreign function calls ... OK
* checking R code for possible problems ... OK
* checking Rd files ... OK
* checking Rd metadata ... OK
* checking Rd cross-references ... OK
* checking for missing documentation entries ... OK
* checking for code/documentation mismatches ... OK
* checking Rd \usage sections ... OK
* checking Rd contents ... OK
* checking for unstated dependencies in examples ... OK
* checking contents of ‘data’ directory ... OK
* checking data for non-ASCII characters ... OK
* checking LazyData ... OK
* checking data for ASCII and uncompressed saves ... OK
* checking files in ‘vignettes’ ... OK
* checking examples ... OK
* checking for unstated dependencies in ‘tests’ ... OK
* checking tests ...
Running ‘testthat.R’
OK
* checking for unstated dependencies in vignettes ... OK
* checking package vignettes ... OK
* checking re-building of vignette outputs ... OK
* checking PDF version of manual ... OK
* DONE
Status: OK
ngsReports.Rcheck/00install.out
############################################################################## ############################################################################## ### ### Running command: ### ### /home/biocbuild/bbs-3.23-bioc/R/bin/R CMD INSTALL ngsReports ### ############################################################################## ############################################################################## * installing to library ‘/home/biocbuild/bbs-3.23-bioc/R/site-library’ * installing *source* package ‘ngsReports’ ... ** this is package ‘ngsReports’ version ‘2.13.1’ ** using staged installation ** R ** data *** moving datasets to lazyload DB ** inst ** byte-compile and prepare package for lazy loading ** help *** installing help indices *** copying figures ** building package indices ** installing vignettes ** testing if installed package can be loaded from temporary location ** testing if installed package can be loaded from final location ** testing if installed package keeps a record of temporary installation path * DONE (ngsReports)
ngsReports.Rcheck/tests/testthat.Rout
R Under development (unstable) (2025-10-20 r88955) -- "Unsuffered Consequences"
Copyright (C) 2025 The R Foundation for Statistical Computing
Platform: x86_64-pc-linux-gnu
R is free software and comes with ABSOLUTELY NO WARRANTY.
You are welcome to redistribute it under certain conditions.
Type 'license()' or 'licence()' for distribution details.
R is a collaborative project with many contributors.
Type 'contributors()' for more information and
'citation()' on how to cite R or R packages in publications.
Type 'demo()' for some demos, 'help()' for on-line help, or
'help.start()' for an HTML browser interface to help.
Type 'q()' to quit R.
> library(testthat)
> library(ngsReports)
Loading required package: BiocGenerics
Loading required package: generics
Attaching package: 'generics'
The following objects are masked from 'package:base':
as.difftime, as.factor, as.ordered, intersect, is.element, setdiff,
setequal, union
Attaching package: 'BiocGenerics'
The following objects are masked from 'package:stats':
IQR, mad, sd, var, xtabs
The following objects are masked from 'package:base':
Filter, Find, Map, Position, Reduce, anyDuplicated, aperm, append,
as.data.frame, basename, cbind, colnames, dirname, do.call,
duplicated, eval, evalq, get, grep, grepl, is.unsorted, lapply,
mapply, match, mget, order, paste, pmax, pmax.int, pmin, pmin.int,
rank, rbind, rownames, sapply, saveRDS, table, tapply, unique,
unsplit, which.max, which.min
Loading required package: ggplot2
Loading required package: patchwork
Loading required package: tibble
>
> test_check("ngsReports")
[ FAIL 0 | WARN 0 | SKIP 0 | PASS 388 ]
>
> proc.time()
user system elapsed
63.183 1.119 64.315
ngsReports.Rcheck/ngsReports-Ex.timings
| name | user | system | elapsed | |
| FastqcData | 0.067 | 0.004 | 0.072 | |
| FastqcDataList | 0.364 | 0.009 | 0.375 | |
| TheoreticalGC-class | 0.072 | 0.003 | 0.074 | |
| dot-FastqcFile-class | 0.003 | 0.000 | 0.003 | |
| dot-addPercent | 0.000 | 0.000 | 0.001 | |
| dot-emptyPlot | 0.224 | 0.006 | 0.231 | |
| dot-makeDendro | 0.341 | 0.005 | 0.346 | |
| dot-makeLabels | 0.001 | 0.000 | 0.001 | |
| dot-splitByTab | 0.004 | 0.000 | 0.003 | |
| estGcDistn | 0.018 | 0.001 | 0.020 | |
| extract-methods | 0.330 | 0.023 | 0.353 | |
| fqName-methods | 0.332 | 0.018 | 0.350 | |
| fqcVersion | 0.340 | 0.026 | 0.366 | |
| gcAvail | 0.019 | 0.001 | 0.019 | |
| gcTheoretical | 0.032 | 0.000 | 0.033 | |
| getColours-methods | 0.001 | 0.001 | 0.003 | |
| getGC | 0.015 | 0.001 | 0.017 | |
| getModule | 0.457 | 0.029 | 0.486 | |
| getSummary | 0.320 | 0.031 | 0.351 | |
| importNgsLogs | 0.021 | 0.000 | 0.021 | |
| importSJ | 0.006 | 0.000 | 0.006 | |
| isCompressed | 0.001 | 0.000 | 0.002 | |
| mData | 0.018 | 0.001 | 0.019 | |
| maxAdapterContent | 0.365 | 0.027 | 0.391 | |
| overRep2Fasta-methods | 0.338 | 0.019 | 0.357 | |
| path | 0.686 | 0.025 | 0.710 | |
| plotAdapterContent-methods | 2.769 | 0.178 | 2.949 | |
| plotAlignmentSummary | 0.319 | 0.002 | 0.321 | |
| plotAssemblyStats | 0.754 | 0.025 | 0.780 | |
| plotBaseQuals-methods | 1.895 | 0.061 | 1.955 | |
| plotDupLevels-methods | 1.299 | 0.013 | 1.312 | |
| plotFastqcPCA-methods | 0.664 | 0.006 | 0.669 | |
| plotGcContent-methods | 1.047 | 0.034 | 1.081 | |
| plotInsertSize-methods | 0.623 | 0.007 | 0.630 | |
| plotKmers-methods | 1.711 | 0.011 | 1.723 | |
| plotNContent-methods | 0.886 | 0.002 | 0.889 | |
| plotOverrep-methods | 0.922 | 0.050 | 0.973 | |
| plotReadTotals-methods | 0.906 | 0.001 | 0.906 | |
| plotSeqContent-methods | 3.450 | 0.017 | 3.469 | |
| plotSeqLengthDistn-methods | 1.322 | 0.005 | 1.327 | |
| plotSeqQuals-methods | 1.467 | 0.046 | 1.514 | |
| plotSummary-methods | 1.001 | 0.025 | 1.026 | |
| pwf | 0.004 | 0.000 | 0.004 | |
| readTotals | 0.307 | 0.004 | 0.312 | |
| summariseOverrep-methods | 0.526 | 0.011 | 0.537 | |
| writeHtmlReport | 0 | 0 | 0 | |