Back to Multiple platform build/check report for BioC 3.22:   simplified   long
ABCDEFGHIJKL[M]NOPQRSTUVWXYZ

This page was generated on 2025-10-11 12:07 -0400 (Sat, 11 Oct 2025).

HostnameOSArch (*)R versionInstalled pkgs
nebbiolo2Linux (Ubuntu 24.04.3 LTS)x86_644.5.1 Patched (2025-08-23 r88802) -- "Great Square Root" 4864
lconwaymacOS 12.7.1 Montereyx86_644.5.1 Patched (2025-09-10 r88807) -- "Great Square Root" 4652
kjohnson3macOS 13.7.7 Venturaarm644.5.1 Patched (2025-09-10 r88807) -- "Great Square Root" 4597
taishanLinux (openEuler 24.03 LTS)aarch644.5.0 (2025-04-11) -- "How About a Twenty-Six" 4586
Click on any hostname to see more info about the system (e.g. compilers)      (*) as reported by 'uname -p', except on Windows and Mac OS X

Package 1408/2346HostnameOS / ArchINSTALLBUILDCHECKBUILD BIN
multiMiR 1.31.0  (landing page)
Spencer Mahaffey
Snapshot Date: 2025-10-10 13:45 -0400 (Fri, 10 Oct 2025)
git_url: https://git.bioconductor.org/packages/multiMiR
git_branch: devel
git_last_commit: 2961232
git_last_commit_date: 2025-04-15 11:14:24 -0400 (Tue, 15 Apr 2025)
nebbiolo2Linux (Ubuntu 24.04.3 LTS) / x86_64  OK    OK    OK  UNNEEDED, same version is already published
lconwaymacOS 12.7.1 Monterey / x86_64  OK    OK    OK    OK  UNNEEDED, same version is already published
kjohnson3macOS 13.7.7 Ventura / arm64  OK    OK    OK    OK  UNNEEDED, same version is already published
taishanLinux (openEuler 24.03 LTS) / aarch64  ERROR    ERROR  skipped


BUILD results for multiMiR on taishan

To the developers/maintainers of the multiMiR package:
- Allow up to 24 hours (and sometimes 48 hours) for your latest push to git@git.bioconductor.org:packages/multiMiR.git to reflect on this report. See Troubleshooting Build Report for more information.
- Use the following Renviron settings to reproduce errors and warnings.
- If 'R CMD check' started to fail recently on the Linux builder(s) over a missing dependency, add the missing dependency to 'Suggests:' in your DESCRIPTION file. See Renviron.bioc for more information.
- See Martin Grigorov's blog post for how to debug Linux ARM64 related issues on a x86_64 host.

raw results


Summary

Package: multiMiR
Version: 1.31.0
Command: /home/biocbuild/R/R/bin/R CMD build --keep-empty-dirs --no-resave-data multiMiR
StartedAt: 2025-10-10 02:32:57 -0000 (Fri, 10 Oct 2025)
EndedAt: 2025-10-10 02:33:20 -0000 (Fri, 10 Oct 2025)
EllapsedTime: 23.0 seconds
RetCode: 1
Status:   ERROR  
PackageFile: None
PackageFileSize: NA

Command output

##############################################################################
##############################################################################
###
### Running command:
###
###   /home/biocbuild/R/R/bin/R CMD build --keep-empty-dirs --no-resave-data multiMiR
###
##############################################################################
##############################################################################


* checking for file ‘multiMiR/DESCRIPTION’ ... OK
* preparing ‘multiMiR’:
* checking DESCRIPTION meta-information ... OK
* installing the package to build vignettes
      -----------------------------------
* installing *source* package ‘multiMiR’ ...
** this is package ‘multiMiR’ version ‘1.31.0’
** using staged installation
** R
** inst
** byte-compile and prepare package for lazy loading
** help
*** installing help indices
** building package indices
** installing vignettes
** testing if installed package can be loaded from temporary location
Error: package or namespace load failed for ‘multiMiR’:
 .onLoad failed in loadNamespace() for 'multiMiR', details:
  call: function (type, msg, asError = TRUE) 
  error: Could not resolve host: multimir.org
Error: loading failed
Execution halted
ERROR: loading failed
* removing ‘/home/biocbuild/tmp/RtmpaXembB/Rinst357500d875e5/multiMiR’
      -----------------------------------
ERROR: package installation failed