Back to Multiple platform build/check report for BioC 3.22: simplified long |
|
This page was generated on 2025-10-15 12:07 -0400 (Wed, 15 Oct 2025).
Hostname | OS | Arch (*) | R version | Installed pkgs |
---|---|---|---|---|
nebbiolo2 | Linux (Ubuntu 24.04.3 LTS) | x86_64 | 4.5.1 Patched (2025-08-23 r88802) -- "Great Square Root" | 4866 |
lconway | macOS 12.7.6 Monterey | x86_64 | 4.5.1 Patched (2025-09-10 r88807) -- "Great Square Root" | 4653 |
kjohnson3 | macOS 13.7.7 Ventura | arm64 | 4.5.1 Patched (2025-09-10 r88807) -- "Great Square Root" | 4598 |
taishan | Linux (openEuler 24.03 LTS) | aarch64 | 4.5.0 (2025-04-11) -- "How About a Twenty-Six" | 4610 |
Click on any hostname to see more info about the system (e.g. compilers) (*) as reported by 'uname -p', except on Windows and Mac OS X |
Package 1384/2346 | Hostname | OS / Arch | INSTALL | BUILD | CHECK | BUILD BIN | ||||||||
msPurity 1.35.0 (landing page) Thomas N. Lawson
| nebbiolo2 | Linux (Ubuntu 24.04.3 LTS) / x86_64 | OK | OK | OK | ![]() | ||||||||
lconway | macOS 12.7.6 Monterey / x86_64 | OK | OK | OK | OK | ![]() | ||||||||
kjohnson3 | macOS 13.7.7 Ventura / arm64 | OK | OK | ERROR | OK | |||||||||
taishan | Linux (openEuler 24.03 LTS) / aarch64 | OK | OK | TIMEOUT | ||||||||||
To the developers/maintainers of the msPurity package: - Allow up to 24 hours (and sometimes 48 hours) for your latest push to git@git.bioconductor.org:packages/msPurity.git to reflect on this report. See Troubleshooting Build Report for more information. - Use the following Renviron settings to reproduce errors and warnings. - If 'R CMD check' started to fail recently on the Linux builder(s) over a missing dependency, add the missing dependency to 'Suggests:' in your DESCRIPTION file. See Renviron.bioc for more information. - See Martin Grigorov's blog post for how to debug Linux ARM64 related issues on a x86_64 host. |
Package: msPurity |
Version: 1.35.0 |
Command: /home/biocbuild/R/R/bin/R CMD check --install=check:msPurity.install-out.txt --library=/home/biocbuild/R/R/site-library --no-vignettes --timings msPurity_1.35.0.tar.gz |
StartedAt: 2025-10-14 10:32:29 -0000 (Tue, 14 Oct 2025) |
EndedAt: 2025-10-14 11:12:30 -0000 (Tue, 14 Oct 2025) |
EllapsedTime: 2400.6 seconds |
RetCode: None |
Status: TIMEOUT |
CheckDir: msPurity.Rcheck |
Warnings: NA |
############################################################################## ############################################################################## ### ### Running command: ### ### /home/biocbuild/R/R/bin/R CMD check --install=check:msPurity.install-out.txt --library=/home/biocbuild/R/R/site-library --no-vignettes --timings msPurity_1.35.0.tar.gz ### ############################################################################## ############################################################################## * using log directory ‘/home/biocbuild/bbs-3.22-bioc/meat/msPurity.Rcheck’ * using R version 4.5.0 (2025-04-11) * using platform: aarch64-unknown-linux-gnu * R was compiled by aarch64-unknown-linux-gnu-gcc (GCC) 14.2.0 GNU Fortran (GCC) 14.2.0 * running under: openEuler 24.03 (LTS) * using session charset: UTF-8 * using option ‘--no-vignettes’ * checking for file ‘msPurity/DESCRIPTION’ ... OK * checking extension type ... Package * this is package ‘msPurity’ version ‘1.35.0’ * package encoding: UTF-8 * checking package namespace information ... NOTE Found export directive that requires package ‘methods’: ‘exportMethods’ Remove all such namespace directives (if obsolete) or ensure that the DESCRIPTION Depends or Imports field contains ‘methods’. * checking package dependencies ... OK * checking if this is a source package ... OK * checking if there is a namespace ... OK * checking for hidden files and directories ... NOTE Found the following hidden files and directories: .travis.yml These were most likely included in error. See section ‘Package structure’ in the ‘Writing R Extensions’ manual. * checking for portable file names ... OK * checking for sufficient/correct file permissions ... OK * checking whether package ‘msPurity’ can be installed ... OK * checking installed package size ... INFO installed size is 19.6Mb sub-directories of 1Mb or more: extdata 18.8Mb * checking package directory ... OK * checking ‘build’ directory ... OK * checking DESCRIPTION meta-information ... OK * checking top-level files ... OK * checking for left-over files ... OK * checking index information ... OK * checking package subdirectories ... OK * checking code files for non-ASCII characters ... OK * checking R files for syntax errors ... OK * checking whether the package can be loaded ... OK * checking whether the package can be loaded with stated dependencies ... OK * checking whether the package can be unloaded cleanly ... OK * checking whether the namespace can be loaded with stated dependencies ... OK * checking whether the namespace can be unloaded cleanly ... OK * checking loading without being on the library search path ... OK * checking dependencies in R code ... NOTE Package in Depends field not imported from: ‘Rcpp’ These packages need to be imported from (in the NAMESPACE file) for when this namespace is loaded but not attached. package 'methods' is used but not declared * checking S3 generic/method consistency ... OK * checking replacement functions ... OK * checking foreign function calls ... OK * checking R code for possible problems ... NOTE addGenericMS1LookupResults: no visible global function definition for ‘count.fields’ addMetFragResults: no visible global function definition for ‘count.fields’ addSiriusResults: no visible global function definition for ‘count.fields’ assessPuritySingle: no visible binding for global variable ‘parallel’ combineAnnotations: no visible binding for global variable ‘compoundDbname’ createDatabase: no visible global function definition for ‘featureValues’ create_database : getxcmsSetObject: no visible global function definition for ‘sampclass<-’ dimsPredictPuritySingleMz: no visible binding for global variable ‘mtchi’ dimsPredictPuritySingleMz: no visible binding for global variable ‘alli’ dimsPredictPuritySingleMz: no visible binding for global variable ‘mtch’ filterPrecursors: no visible binding for global variable ‘l_speakmetaFiltered’ filterSMeta: no visible binding for global variable ‘accession’ filterSMeta: no visible binding for global variable ‘inPurity’ filterSMeta: no visible global function definition for ‘lower’ filterSMeta: no visible binding for global variable ‘polarity’ filterSMeta: no visible binding for global variable ‘instrument_type’ filterSMeta: no visible binding for global variable ‘instrument’ filterSMeta: no visible binding for global variable ‘name.y’ filterSMeta: no visible binding for global variable ‘retention_time’ filterSMeta: no visible binding for global variable ‘grpid’ filterSMeta: no visible binding for global variable ‘pid’ filterSMeta: no visible binding for global variable ‘spectrum_type’ flag_remove: no visible global function definition for ‘PeakDensityParam’ flag_remove: no visible global function definition for ‘chromPeaks<-’ flag_remove: no visible global function definition for ‘chromPeaks’ getScanPeaksSqlite: no visible binding for global variable ‘pid’ getScanPeaksSqlite: no visible binding for global variable ‘library_spectra_meta_id’ getScanPeaksSqlite: no visible binding for global variable ‘pass_flag’ getScanPeaksSqlite: no visible binding for global variable ‘type’ getScanPeaksSqlite: no visible binding for global variable ‘spectraType’ getScanPeaksSqlite: no visible binding for global variable ‘ra’ getSmeta: no visible binding for global variable ‘pid’ get_topn: no visible binding for global variable ‘topn’ matchi: no visible global function definition for ‘match_factor’ plotPurity: no visible binding for global variable ‘idx’ plotPurity: no visible binding for global variable ‘purity’ plotPurity: no visible binding for global variable ‘variable’ purityA: no visible binding for global variable ‘i’ queryVlibrary: no visible binding for global variable ‘precursor_mz’ queryVlibrary: no visible binding for global variable ‘retention_time’ queryVlibrarySingle: no visible binding for global variable ‘pid’ queryVlibrarySingle: no visible binding for global variable ‘library_spectra_meta_id’ sum_calc_peaklist: no visible global function definition for ‘phenoData’ averageSpectra,purityD: no visible binding for global variable ‘i’ subtract,purityD: no visible binding for global variable ‘i’ Undefined global functions or variables: PeakDensityParam accession alli chromPeaks chromPeaks<- compoundDbname count.fields featureValues grpid i idx inPurity instrument instrument_type l_speakmetaFiltered library_spectra_meta_id lower match_factor mtch mtchi name.y parallel pass_flag phenoData pid polarity precursor_mz purity ra retention_time sampclass<- spectraType spectrum_type topn type variable Consider adding importFrom("utils", "count.fields") to your NAMESPACE file. * checking Rd files ... NOTE checkRd: (-1) createMSP-purityA-method.Rd:25: Lost braces; missing escapes or markup? 25 | \item{msp_file_pth}{character; Name of the output msp file, if NULL the file "frag_spectra_{time stamp}.msp" will be created in the current directory} | ^ * checking Rd metadata ... OK * checking Rd cross-references ... OK * checking for missing documentation entries ... OK * checking for code/documentation mismatches ... OK * checking Rd \usage sections ... OK * checking Rd contents ... OK * checking for unstated dependencies in examples ... OK * checking files in ‘vignettes’ ... OK * checking examples ...
msPurity.Rcheck/00install.out
############################################################################## ############################################################################## ### ### Running command: ### ### /home/biocbuild/R/R/bin/R CMD INSTALL msPurity ### ############################################################################## ############################################################################## * installing to library ‘/home/biocbuild/R/R-4.5.0/site-library’ * installing *source* package ‘msPurity’ ... ** this is package ‘msPurity’ version ‘1.35.0’ ** using staged installation ** R ** inst ** byte-compile and prepare package for lazy loading ** help *** installing help indices ** building package indices ** installing vignettes ** testing if installed package can be loaded from temporary location ** testing if installed package can be loaded from final location ** testing if installed package keeps a record of temporary installation path * DONE (msPurity)
msPurity.Rcheck/msPurity-Ex.timings
name | user | system | elapsed | |
Getfiles | 0.004 | 0.000 | 0.006 | |
assessPuritySingle | 12.106 | 0.068 | 12.216 | |
averageAllFragSpectra-purityA-method | 0.250 | 0.004 | 0.257 | |
averageInterFragSpectra-purityA-method | 0.589 | 0.004 | 0.597 | |
averageIntraFragSpectra-purityA-method | 0.730 | 0.000 | 0.734 | |
averageSpectra-purityD-method | 3.177 | 0.264 | 3.453 | |
averageSpectraSingle | 1.210 | 0.171 | 1.384 | |
combineAnnotations | 13.152 | 0.188 | 13.392 | |
createDatabase | 274.977 | 6.616 | 230.349 | |
createMSP-purityA-method | 0.125 | 0.000 | 0.128 | |
create_database | 1.505 | 0.024 | 1.539 | |
dimsPredictPurity-purityD-method | 46.399 | 0.439 | 46.946 | |
dimsPredictPuritySingle | 0.051 | 0.004 | 0.055 | |
filterFragSpectra-purityA-method | 0.099 | 0.000 | 0.099 | |
filterp-purityD-method | 3.392 | 0.407 | 3.809 | |