| Back to Multiple platform build/check report for BioC 3.23: simplified long |
|
This page was generated on 2025-11-17 11:38 -0500 (Mon, 17 Nov 2025).
| Hostname | OS | Arch (*) | R version | Installed pkgs |
|---|---|---|---|---|
| nebbiolo1 | Linux (Ubuntu 24.04.3 LTS) | x86_64 | R Under development (unstable) (2025-10-20 r88955) -- "Unsuffered Consequences" | 4826 |
| lconway | macOS 12.7.6 Monterey | x86_64 | R Under development (unstable) (2025-10-21 r88958) -- "Unsuffered Consequences" | 4491 |
| kjohnson3 | macOS 13.7.7 Ventura | arm64 | R Under development (unstable) (2025-11-04 r88984) -- "Unsuffered Consequences" | 4562 |
| Click on any hostname to see more info about the system (e.g. compilers) (*) as reported by 'uname -p', except on Windows and Mac OS X | ||||
| Package 1328/2325 | Hostname | OS / Arch | INSTALL | BUILD | CHECK | BUILD BIN | ||||||||
| mogsa 1.45.0 (landing page) Chen Meng
| nebbiolo1 | Linux (Ubuntu 24.04.3 LTS) / x86_64 | OK | OK | OK | |||||||||
| lconway | macOS 12.7.6 Monterey / x86_64 | OK | OK | OK | OK | |||||||||
| kjohnson3 | macOS 13.7.7 Ventura / arm64 | OK | OK | OK | OK | |||||||||
|
To the developers/maintainers of the mogsa package: - Allow up to 24 hours (and sometimes 48 hours) for your latest push to git@git.bioconductor.org:packages/mogsa.git to reflect on this report. See Troubleshooting Build Report for more information. - Use the following Renviron settings to reproduce errors and warnings. - If 'R CMD check' started to fail recently on the Linux builder(s) over a missing dependency, add the missing dependency to 'Suggests:' in your DESCRIPTION file. See Renviron.bioc for more information. |
| Package: mogsa |
| Version: 1.45.0 |
| Command: /home/biocbuild/bbs-3.23-bioc/R/bin/R CMD check --install=check:mogsa.install-out.txt --library=/home/biocbuild/bbs-3.23-bioc/R/site-library --timings mogsa_1.45.0.tar.gz |
| StartedAt: 2025-11-17 01:40:22 -0500 (Mon, 17 Nov 2025) |
| EndedAt: 2025-11-17 01:44:20 -0500 (Mon, 17 Nov 2025) |
| EllapsedTime: 238.3 seconds |
| RetCode: 0 |
| Status: OK |
| CheckDir: mogsa.Rcheck |
| Warnings: 0 |
##############################################################################
##############################################################################
###
### Running command:
###
### /home/biocbuild/bbs-3.23-bioc/R/bin/R CMD check --install=check:mogsa.install-out.txt --library=/home/biocbuild/bbs-3.23-bioc/R/site-library --timings mogsa_1.45.0.tar.gz
###
##############################################################################
##############################################################################
* using log directory ‘/home/biocbuild/bbs-3.23-bioc/meat/mogsa.Rcheck’
* using R Under development (unstable) (2025-10-20 r88955)
* using platform: x86_64-pc-linux-gnu
* R was compiled by
gcc (Ubuntu 13.3.0-6ubuntu2~24.04) 13.3.0
GNU Fortran (Ubuntu 13.3.0-6ubuntu2~24.04) 13.3.0
* running under: Ubuntu 24.04.3 LTS
* using session charset: UTF-8
* checking for file ‘mogsa/DESCRIPTION’ ... OK
* checking extension type ... Package
* this is package ‘mogsa’ version ‘1.45.0’
* checking package namespace information ... OK
* checking package dependencies ... OK
* checking if this is a source package ... OK
* checking if there is a namespace ... OK
* checking for hidden files and directories ... OK
* checking for portable file names ... OK
* checking for sufficient/correct file permissions ... OK
* checking whether package ‘mogsa’ can be installed ... OK
* checking installed package size ... OK
* checking package directory ... OK
* checking ‘build’ directory ... OK
* checking DESCRIPTION meta-information ... OK
* checking top-level files ... OK
* checking for left-over files ... OK
* checking index information ... OK
* checking package subdirectories ... OK
* checking code files for non-ASCII characters ... OK
* checking R files for syntax errors ... OK
* checking whether the package can be loaded ... OK
* checking whether the package can be loaded with stated dependencies ... OK
* checking whether the package can be unloaded cleanly ... OK
* checking whether the namespace can be loaded with stated dependencies ... OK
* checking whether the namespace can be unloaded cleanly ... OK
* checking loading without being on the library search path ... OK
* checking dependencies in R code ... OK
* checking S3 generic/method consistency ... OK
* checking replacement functions ... OK
* checking foreign function calls ... OK
* checking R code for possible problems ... OK
* checking Rd files ... NOTE
checkRd: (-1) GIS.Rd:57: Lost braces; missing escapes or markup?
57 | log2(var(GS_{-i})/var(GS))
| ^
checkRd: (-1) GIS.Rd:59: Lost braces; missing escapes or markup?
59 | where GS is the gene set score, and the GS_{-i} is a recalculate of
| ^
checkRd: (-1) GIS.Rd:65: Lost braces; missing escapes or markup?
65 | log2(F(GS_{-i})/F(GS))
| ^
checkRd: (-1) NCI60_4array_supdata.Rd:15: Escaped LaTeX specials: \$
checkRd: (-1) NCI60_4array_supdata.Rd:15-17: Lost braces in \itemize; meant \describe ?
checkRd: (-1) NCI60_4array_supdata.Rd:19: Escaped LaTeX specials: \$
checkRd: (-1) NCI60_4array_supdata.Rd:19-21: Lost braces in \itemize; meant \describe ?
checkRd: (-1) NCI60_4array_supdata.Rd:23: Escaped LaTeX specials: \$
checkRd: (-1) NCI60_4array_supdata.Rd:23-25: Lost braces in \itemize; meant \describe ?
checkRd: (-1) NCI60_4array_supdata.Rd:27: Escaped LaTeX specials: \$
checkRd: (-1) NCI60_4array_supdata.Rd:27-29: Lost braces in \itemize; meant \describe ?
checkRd: (-1) NCI60_4arrays.Rd:21: Escaped LaTeX specials: \$
checkRd: (-1) NCI60_4arrays.Rd:21-23: Lost braces in \itemize; meant \describe ?
checkRd: (-1) NCI60_4arrays.Rd:25: Escaped LaTeX specials: \$
checkRd: (-1) NCI60_4arrays.Rd:25-27: Lost braces in \itemize; meant \describe ?
checkRd: (-1) NCI60_4arrays.Rd:29: Escaped LaTeX specials: \$
checkRd: (-1) NCI60_4arrays.Rd:29-31: Lost braces in \itemize; meant \describe ?
checkRd: (-1) NCI60_4arrays.Rd:33: Escaped LaTeX specials: \$
checkRd: (-1) NCI60_4arrays.Rd:33-35: Lost braces in \itemize; meant \describe ?
checkRd: (-1) mgsa-class.Rd:22-24: Lost braces
22 | \item{combine}{\code{signature(x = "mgsa", y = "mgsa")}}{
| ^
* checking Rd metadata ... OK
* checking Rd cross-references ... OK
* checking for missing documentation entries ... OK
* checking for code/documentation mismatches ... OK
* checking Rd \usage sections ... OK
* checking Rd contents ... OK
* checking for unstated dependencies in examples ... OK
* checking contents of ‘data’ directory ... OK
* checking data for non-ASCII characters ... OK
* checking data for ASCII and uncompressed saves ... OK
* checking sizes of PDF files under ‘inst/doc’ ...* checking files in ‘vignettes’ ... OK
* checking examples ... OK
* checking for unstated dependencies in vignettes ... OK
* checking package vignettes ... OK
* checking re-building of vignette outputs ... OK
* checking PDF version of manual ... OK
* DONE
Status: 1 NOTE
See
‘/home/biocbuild/bbs-3.23-bioc/meat/mogsa.Rcheck/00check.log’
for details.
mogsa.Rcheck/00install.out
############################################################################## ############################################################################## ### ### Running command: ### ### /home/biocbuild/bbs-3.23-bioc/R/bin/R CMD INSTALL mogsa ### ############################################################################## ############################################################################## * installing to library ‘/home/biocbuild/bbs-3.23-bioc/R/site-library’ * installing *source* package ‘mogsa’ ... ** this is package ‘mogsa’ version ‘1.45.0’ ** using staged installation ** R ** data ** inst ** byte-compile and prepare package for lazy loading ** help *** installing help indices ** building package indices ** installing vignettes ** testing if installed package can be loaded from temporary location ** testing if installed package can be loaded from final location ** testing if installed package keeps a record of temporary installation path * DONE (mogsa)
mogsa.Rcheck/mogsa-Ex.timings
| name | user | system | elapsed | |
| GIS | 0.637 | 0.043 | 0.680 | |
| annotate.gs | 0.113 | 0.006 | 0.119 | |
| bootMbpca | 0 | 0 | 0 | |
| bootMoa | 0.001 | 0.000 | 0.000 | |
| box.gs.feature | 0.624 | 0.033 | 0.658 | |
| combine-methods | 0.190 | 0.029 | 0.219 | |
| decompose.gs.group | 0.113 | 0.001 | 0.114 | |
| decompose.gs.ind | 0.102 | 0.004 | 0.107 | |
| distMoa | 0.217 | 0.013 | 0.230 | |
| getmgsa | 0.109 | 0.002 | 0.110 | |
| matpower | 0.000 | 0.000 | 0.001 | |
| mbpca | 2.141 | 0.013 | 2.154 | |
| mgsa-class | 0.185 | 0.015 | 0.199 | |
| moGap | 1.575 | 0.009 | 1.584 | |
| moa-class | 0.075 | 0.002 | 0.076 | |
| moa | 0.671 | 0.022 | 0.692 | |
| moa.sup-class | 0.104 | 0.002 | 0.106 | |
| moaCoef | 0.272 | 0.004 | 0.277 | |
| moaScore | 0.853 | 0.063 | 0.990 | |
| mogsa-package | 0.333 | 0.001 | 0.337 | |
| mogsa | 0.388 | 0.007 | 0.409 | |
| pairwise.rv | 0.010 | 0.001 | 0.011 | |
| plotGS | 0.112 | 0.000 | 0.112 | |
| prepGraphite | 0.644 | 0.004 | 0.681 | |
| prepMsigDB | 0.004 | 0.000 | 0.005 | |
| prepSupMoa | 4.109 | 0.089 | 4.203 | |
| softK | 0.000 | 0.001 | 0.000 | |
| sup.moa | 0.463 | 0.004 | 0.481 | |
| wsvd | 0.000 | 0.000 | 0.001 | |