| Back to Multiple platform build/check report for BioC 3.22: simplified long |
|
This page was generated on 2025-10-23 12:06 -0400 (Thu, 23 Oct 2025).
| Hostname | OS | Arch (*) | R version | Installed pkgs |
|---|---|---|---|---|
| nebbiolo2 | Linux (Ubuntu 24.04.3 LTS) | x86_64 | 4.5.1 Patched (2025-08-23 r88802) -- "Great Square Root" | 4894 |
| lconway | macOS 12.7.6 Monterey | x86_64 | 4.5.1 Patched (2025-09-10 r88807) -- "Great Square Root" | 4684 |
| kjohnson3 | macOS 13.7.7 Ventura | arm64 | 4.5.1 Patched (2025-09-10 r88807) -- "Great Square Root" | 4629 |
| taishan | Linux (openEuler 24.03 LTS) | aarch64 | 4.5.0 (2025-04-11) -- "How About a Twenty-Six" | 4642 |
| Click on any hostname to see more info about the system (e.g. compilers) (*) as reported by 'uname -p', except on Windows and Mac OS X | ||||
| Package 1336/2355 | Hostname | OS / Arch | INSTALL | BUILD | CHECK | BUILD BIN | ||||||||
| moanin 1.17.0 (landing page) Nelle Varoquaux
| nebbiolo2 | Linux (Ubuntu 24.04.3 LTS) / x86_64 | OK | OK | OK | |||||||||
| lconway | macOS 12.7.6 Monterey / x86_64 | OK | OK | OK | OK | |||||||||
| kjohnson3 | macOS 13.7.7 Ventura / arm64 | OK | OK | OK | OK | |||||||||
| taishan | Linux (openEuler 24.03 LTS) / aarch64 | OK | OK | NA | ||||||||||
|
To the developers/maintainers of the moanin package: - Allow up to 24 hours (and sometimes 48 hours) for your latest push to git@git.bioconductor.org:packages/moanin.git to reflect on this report. See Troubleshooting Build Report for more information. - Use the following Renviron settings to reproduce errors and warnings. - If 'R CMD check' started to fail recently on the Linux builder(s) over a missing dependency, add the missing dependency to 'Suggests:' in your DESCRIPTION file. See Renviron.bioc for more information. |
| Package: moanin |
| Version: 1.17.0 |
| Command: /Library/Frameworks/R.framework/Resources/bin/R CMD check --install=check:moanin.install-out.txt --library=/Library/Frameworks/R.framework/Resources/library --no-vignettes --timings moanin_1.17.0.tar.gz |
| StartedAt: 2025-10-22 20:47:32 -0400 (Wed, 22 Oct 2025) |
| EndedAt: 2025-10-22 20:49:27 -0400 (Wed, 22 Oct 2025) |
| EllapsedTime: 115.3 seconds |
| RetCode: 0 |
| Status: OK |
| CheckDir: moanin.Rcheck |
| Warnings: 0 |
##############################################################################
##############################################################################
###
### Running command:
###
### /Library/Frameworks/R.framework/Resources/bin/R CMD check --install=check:moanin.install-out.txt --library=/Library/Frameworks/R.framework/Resources/library --no-vignettes --timings moanin_1.17.0.tar.gz
###
##############################################################################
##############################################################################
* using log directory ‘/Users/biocbuild/bbs-3.22-bioc/meat/moanin.Rcheck’
* using R version 4.5.1 Patched (2025-09-10 r88807)
* using platform: aarch64-apple-darwin20
* R was compiled by
Apple clang version 16.0.0 (clang-1600.0.26.6)
GNU Fortran (GCC) 14.2.0
* running under: macOS Ventura 13.7.7
* using session charset: UTF-8
* using option ‘--no-vignettes’
* checking for file ‘moanin/DESCRIPTION’ ... OK
* this is package ‘moanin’ version ‘1.17.0’
* package encoding: UTF-8
* checking package namespace information ... OK
* checking package dependencies ... OK
* checking if this is a source package ... OK
* checking if there is a namespace ... OK
* checking for hidden files and directories ... OK
* checking for portable file names ... OK
* checking for sufficient/correct file permissions ... OK
* checking whether package ‘moanin’ can be installed ... OK
* checking installed package size ... OK
* checking package directory ... OK
* checking ‘build’ directory ... OK
* checking DESCRIPTION meta-information ... NOTE
License stub is invalid DCF.
* checking top-level files ... OK
* checking for left-over files ... OK
* checking index information ... OK
* checking package subdirectories ... OK
* checking code files for non-ASCII characters ... OK
* checking R files for syntax errors ... OK
* checking whether the package can be loaded ... OK
* checking whether the package can be loaded with stated dependencies ... OK
* checking whether the package can be unloaded cleanly ... OK
* checking whether the namespace can be loaded with stated dependencies ... OK
* checking whether the namespace can be unloaded cleanly ... OK
* checking dependencies in R code ... OK
* checking S3 generic/method consistency ... OK
* checking replacement functions ... OK
* checking foreign function calls ... OK
* checking R code for possible problems ... OK
* checking Rd files ... NOTE
checkRd: (-1) DE_timepoints.Rd:129-130: Lost braces in \itemize; meant \describe ?
checkRd: (-1) DE_timepoints.Rd:131-132: Lost braces in \itemize; meant \describe ?
checkRd: (-1) DE_timepoints.Rd:133-136: Lost braces in \itemize; meant \describe ?
checkRd: (-1) estimate_log_fold_change.Rd:37-38: Lost braces in \itemize; meant \describe ?
checkRd: (-1) estimate_log_fold_change.Rd:39-40: Lost braces in \itemize; meant \describe ?
checkRd: (-1) estimate_log_fold_change.Rd:41: Lost braces in \itemize; meant \describe ?
checkRd: (-1) estimate_log_fold_change.Rd:42: Lost braces in \itemize; meant \describe ?
checkRd: (-1) estimate_log_fold_change.Rd:43-44: Lost braces in \itemize; meant \describe ?
checkRd: (-1) estimate_log_fold_change.Rd:45-46: Lost braces in \itemize; meant \describe ?
checkRd: (-1) estimate_log_fold_change.Rd:47: Lost braces in \itemize; meant \describe ?
checkRd: (-1) splines_kmeans.Rd:49-50: Lost braces in \itemize; \value handles \item{}{} directly
checkRd: (-1) splines_kmeans.Rd:51-52: Lost braces in \itemize; \value handles \item{}{} directly
checkRd: (-1) splines_kmeans.Rd:53: Lost braces in \itemize; \value handles \item{}{} directly
checkRd: (-1) splines_kmeans_score_and_label.Rd:69-71: Lost braces in \itemize; \value handles \item{}{} directly
checkRd: (-1) splines_kmeans_score_and_label.Rd:72-73: Lost braces in \itemize; \value handles \item{}{} directly
checkRd: (-1) splines_kmeans_score_and_label.Rd:74-75: Lost braces in \itemize; \value handles \item{}{} directly
* checking Rd metadata ... OK
* checking Rd cross-references ... NOTE
Found the following Rd file(s) with Rd \link{} targets missing package
anchors:
Moanin-class.Rd: SummarizedExperiment
Please provide package anchors for all Rd \link{} targets not in the
package itself and the base packages.
Unknown package ‘KEGGprofile’ in Rd xrefs
* checking for missing documentation entries ... OK
* checking for code/documentation mismatches ... OK
* checking Rd \usage sections ... OK
* checking Rd contents ... OK
* checking for unstated dependencies in examples ... OK
* checking contents of ‘data’ directory ... OK
* checking data for non-ASCII characters ... OK
* checking data for ASCII and uncompressed saves ... OK
* checking files in ‘vignettes’ ... OK
* checking examples ... OK
Examples with CPU (user + system) or elapsed time > 5s
user system elapsed
get_auc_similarity_scores 16.724 0.715 17.507
* checking for unstated dependencies in ‘tests’ ... OK
* checking tests ...
Running ‘testthat.R’
OK
* checking for unstated dependencies in vignettes ... OK
* checking package vignettes ... OK
* checking running R code from vignettes ... SKIPPED
* checking re-building of vignette outputs ... SKIPPED
* checking PDF version of manual ... OK
* DONE
Status: 3 NOTEs
See
‘/Users/biocbuild/bbs-3.22-bioc/meat/moanin.Rcheck/00check.log’
for details.
moanin.Rcheck/00install.out
############################################################################## ############################################################################## ### ### Running command: ### ### /Library/Frameworks/R.framework/Resources/bin/R CMD INSTALL moanin ### ############################################################################## ############################################################################## * installing to library ‘/Library/Frameworks/R.framework/Versions/4.5-arm64/Resources/library’ * installing *source* package ‘moanin’ ... ** this is package ‘moanin’ version ‘1.17.0’ ** using staged installation ** R ** data ** byte-compile and prepare package for lazy loading groupGOTerms: GOBPTerm, GOMFTerm, GOCCTerm environments built. ** help *** installing help indices ** building package indices ** installing vignettes ** testing if installed package can be loaded from temporary location groupGOTerms: GOBPTerm, GOMFTerm, GOCCTerm environments built. ** testing if installed package can be loaded from final location groupGOTerms: GOBPTerm, GOMFTerm, GOCCTerm environments built. ** testing if installed package keeps a record of temporary installation path * DONE (moanin)
moanin.Rcheck/tests/testthat.Rout
R version 4.5.1 Patched (2025-09-10 r88807) -- "Great Square Root"
Copyright (C) 2025 The R Foundation for Statistical Computing
Platform: aarch64-apple-darwin20
R is free software and comes with ABSOLUTELY NO WARRANTY.
You are welcome to redistribute it under certain conditions.
Type 'license()' or 'licence()' for distribution details.
R is a collaborative project with many contributors.
Type 'contributors()' for more information and
'citation()' on how to cite R or R packages in publications.
Type 'demo()' for some demos, 'help()' for on-line help, or
'help.start()' for an HTML browser interface to help.
Type 'q()' to quit R.
> library(testthat)
> library(moanin)
Loading required package: SummarizedExperiment
Loading required package: MatrixGenerics
Loading required package: matrixStats
Attaching package: 'MatrixGenerics'
The following objects are masked from 'package:matrixStats':
colAlls, colAnyNAs, colAnys, colAvgsPerRowSet, colCollapse,
colCounts, colCummaxs, colCummins, colCumprods, colCumsums,
colDiffs, colIQRDiffs, colIQRs, colLogSumExps, colMadDiffs,
colMads, colMaxs, colMeans2, colMedians, colMins, colOrderStats,
colProds, colQuantiles, colRanges, colRanks, colSdDiffs, colSds,
colSums2, colTabulates, colVarDiffs, colVars, colWeightedMads,
colWeightedMeans, colWeightedMedians, colWeightedSds,
colWeightedVars, rowAlls, rowAnyNAs, rowAnys, rowAvgsPerColSet,
rowCollapse, rowCounts, rowCummaxs, rowCummins, rowCumprods,
rowCumsums, rowDiffs, rowIQRDiffs, rowIQRs, rowLogSumExps,
rowMadDiffs, rowMads, rowMaxs, rowMeans2, rowMedians, rowMins,
rowOrderStats, rowProds, rowQuantiles, rowRanges, rowRanks,
rowSdDiffs, rowSds, rowSums2, rowTabulates, rowVarDiffs, rowVars,
rowWeightedMads, rowWeightedMeans, rowWeightedMedians,
rowWeightedSds, rowWeightedVars
Loading required package: GenomicRanges
Loading required package: stats4
Loading required package: BiocGenerics
Loading required package: generics
Attaching package: 'generics'
The following objects are masked from 'package:base':
as.difftime, as.factor, as.ordered, intersect, is.element, setdiff,
setequal, union
Attaching package: 'BiocGenerics'
The following objects are masked from 'package:stats':
IQR, mad, sd, var, xtabs
The following objects are masked from 'package:base':
Filter, Find, Map, Position, Reduce, anyDuplicated, aperm, append,
as.data.frame, basename, cbind, colnames, dirname, do.call,
duplicated, eval, evalq, get, grep, grepl, is.unsorted, lapply,
mapply, match, mget, order, paste, pmax, pmax.int, pmin, pmin.int,
rank, rbind, rownames, sapply, saveRDS, table, tapply, unique,
unsplit, which.max, which.min
Loading required package: S4Vectors
Attaching package: 'S4Vectors'
The following object is masked from 'package:utils':
findMatches
The following objects are masked from 'package:base':
I, expand.grid, unname
Loading required package: IRanges
Loading required package: Seqinfo
Loading required package: Biobase
Welcome to Bioconductor
Vignettes contain introductory material; view with
'browseVignettes()'. To cite Bioconductor, see
'citation("Biobase")', and for packages 'citation("pkgname")'.
Attaching package: 'Biobase'
The following object is masked from 'package:MatrixGenerics':
rowMedians
The following objects are masked from 'package:matrixStats':
anyMissing, rowMedians
Loading required package: topGO
Loading required package: graph
Loading required package: GO.db
Loading required package: AnnotationDbi
Loading required package: SparseM
groupGOTerms: GOBPTerm, GOMFTerm, GOCCTerm environments built.
Attaching package: 'topGO'
The following object is masked from 'package:IRanges':
members
> test_check("moanin")
[ FAIL 0 | WARN 0 | SKIP 2 | PASS 64 ]
══ Skipped tests (2) ═══════════════════════════════════════════════════════════
• empty test (2): 'test-estimate_lfc.R:6:1', 'test-splines_model.R:18:1'
[ FAIL 0 | WARN 0 | SKIP 2 | PASS 64 ]
>
> proc.time()
user system elapsed
6.382 0.307 6.687
moanin.Rcheck/moanin-Ex.timings
| name | user | system | elapsed | |
| DE_timecourse | 0.072 | 0.003 | 0.076 | |
| DE_timepoints | 0.340 | 0.011 | 0.351 | |
| Moanin-class | 0.043 | 0.001 | 0.045 | |
| Moanin-methods | 0.023 | 0.002 | 0.024 | |
| consensus_matrix | 0.841 | 0.024 | 0.867 | |
| discont_basis | 0.147 | 0.006 | 0.154 | |
| estimate_log_fold_change | 0.434 | 0.006 | 0.441 | |
| exampleData | 0 | 0 | 0 | |
| find_enriched_go_terms | 2.253 | 0.112 | 2.366 | |
| get_auc_similarity_scores | 16.724 | 0.715 | 17.507 | |
| perWeek_barplot | 0.295 | 0.005 | 0.302 | |
| plot_splines_data | 0.212 | 0.008 | 0.234 | |
| pvalues_fisher_method | 0.146 | 0.003 | 0.150 | |
| rescale_values | 0.030 | 0.002 | 0.038 | |
| splines_kmeans | 0.084 | 0.005 | 0.090 | |
| splines_kmeans_score_and_label | 0.084 | 0.007 | 0.091 | |