Back to Multiple platform build/check report for BioC 3.22:   simplified   long
ABCDEFGHIJKL[M]NOPQRSTUVWXYZ

This page was generated on 2025-10-03 12:05 -0400 (Fri, 03 Oct 2025).

HostnameOSArch (*)R versionInstalled pkgs
nebbiolo2Linux (Ubuntu 24.04.3 LTS)x86_644.5.1 Patched (2025-08-23 r88802) -- "Great Square Root" 4845
lconwaymacOS 12.7.1 Montereyx86_644.5.1 Patched (2025-09-10 r88807) -- "Great Square Root" 4632
kjohnson3macOS 13.7.7 Venturaarm644.5.1 Patched (2025-09-10 r88807) -- "Great Square Root" 4577
taishanLinux (openEuler 24.03 LTS)aarch644.5.0 (2025-04-11) -- "How About a Twenty-Six" 4576
Click on any hostname to see more info about the system (e.g. compilers)      (*) as reported by 'uname -p', except on Windows and Mac OS X

Package 1321/2337HostnameOS / ArchINSTALLBUILDCHECKBUILD BIN
mixOmics 6.33.0  (landing page)
Eva Hamrud
Snapshot Date: 2025-10-02 13:45 -0400 (Thu, 02 Oct 2025)
git_url: https://git.bioconductor.org/packages/mixOmics
git_branch: devel
git_last_commit: bf2cf80
git_last_commit_date: 2025-04-15 11:39:07 -0400 (Tue, 15 Apr 2025)
nebbiolo2Linux (Ubuntu 24.04.3 LTS) / x86_64  OK    OK    OK  UNNEEDED, same version is already published
lconwaymacOS 12.7.1 Monterey / x86_64  OK    OK    OK    OK  UNNEEDED, same version is already published
kjohnson3macOS 13.7.7 Ventura / arm64  OK    OK    OK    OK  UNNEEDED, same version is already published
taishanLinux (openEuler 24.03 LTS) / aarch64  OK    OK    ERROR  


CHECK results for mixOmics on lconway

To the developers/maintainers of the mixOmics package:
- Allow up to 24 hours (and sometimes 48 hours) for your latest push to git@git.bioconductor.org:packages/mixOmics.git to reflect on this report. See Troubleshooting Build Report for more information.
- Use the following Renviron settings to reproduce errors and warnings.
- If 'R CMD check' started to fail recently on the Linux builder(s) over a missing dependency, add the missing dependency to 'Suggests:' in your DESCRIPTION file. See Renviron.bioc for more information.

raw results


Summary

Package: mixOmics
Version: 6.33.0
Command: /Library/Frameworks/R.framework/Resources/bin/R CMD check --install=check:mixOmics.install-out.txt --library=/Library/Frameworks/R.framework/Resources/library --no-vignettes --timings mixOmics_6.33.0.tar.gz
StartedAt: 2025-10-02 22:50:15 -0400 (Thu, 02 Oct 2025)
EndedAt: 2025-10-02 23:14:36 -0400 (Thu, 02 Oct 2025)
EllapsedTime: 1460.2 seconds
RetCode: 0
Status:   OK  
CheckDir: mixOmics.Rcheck
Warnings: 0

Command output

##############################################################################
##############################################################################
###
### Running command:
###
###   /Library/Frameworks/R.framework/Resources/bin/R CMD check --install=check:mixOmics.install-out.txt --library=/Library/Frameworks/R.framework/Resources/library --no-vignettes --timings mixOmics_6.33.0.tar.gz
###
##############################################################################
##############################################################################


* using log directory ‘/Users/biocbuild/bbs-3.22-bioc/meat/mixOmics.Rcheck’
* using R version 4.5.1 Patched (2025-09-10 r88807)
* using platform: x86_64-apple-darwin20
* R was compiled by
    Apple clang version 14.0.0 (clang-1400.0.29.202)
    GNU Fortran (GCC) 14.2.0
* running under: macOS Monterey 12.7.6
* using session charset: UTF-8
* using option ‘--no-vignettes’
* checking for file ‘mixOmics/DESCRIPTION’ ... OK
* checking extension type ... Package
* this is package ‘mixOmics’ version ‘6.33.0’
* package encoding: UTF-8
* checking package namespace information ... OK
* checking package dependencies ... OK
* checking if this is a source package ... OK
* checking if there is a namespace ... OK
* checking for hidden files and directories ... OK
* checking for portable file names ... NOTE
Found the following non-portable file paths:
  mixOmics/tests/testthat/_snaps/plotIndiv.pca/pca-plot-coloured-by-primary-groups-custom-cols-reordered-groups.svg
  mixOmics/tests/testthat/_snaps/plotIndiv.pca/pca-plot-coloured-by-primary-groups-custom-cols-with-set-pch-circle-for-all-samples.svg
  mixOmics/tests/testthat/_snaps/plotIndiv.pca/pca-plot-coloured-by-primary-groups-custom-cols-with-set-pch-triangle-for-all-samples.svg
  mixOmics/tests/testthat/_snaps/plotIndiv.pca/pca-plot-coloured-by-primary-groups-with-pch-for-secondary-groups-reordered.svg
  mixOmics/tests/testthat/_snaps/plotIndiv.pca/pca-plot-coloured-by-primary-groups-with-pch-for-secondary-groups.svg
  mixOmics/tests/testthat/_snaps/plotIndiv.pca/pca-plot-coloured-by-primary-groups-with-set-pch-for-each-group.svg
  mixOmics/tests/testthat/_snaps/plotIndiv.pca/pca-plot-sample-names-coloured-by-primary-groups-custom-cols.svg
  mixOmics/tests/testthat/_snaps/plotIndiv.pca/pca-plot-with-centroids-coloured-by-primary-groups-custom-cols.svg
  mixOmics/tests/testthat/_snaps/plotIndiv.pca/pca-plot-with-ellipse-coloured-by-primary-groups-custom-cols-ellipse-level-0-5.svg
  mixOmics/tests/testthat/_snaps/plotIndiv.pca/pca-plot-with-ellipse-coloured-by-primary-groups-custom-cols-sample-names.svg
  mixOmics/tests/testthat/_snaps/plotIndiv.pca/pca-plot-with-ellipse-coloured-by-primary-groups-custom-cols.svg
  mixOmics/tests/testthat/_snaps/plotIndiv.pls/pca-plot-sample-names-coloured-by-primary-groups-custom-cols.svg
  mixOmics/tests/testthat/_snaps/plotIndiv.pls/rcca-plot-coloured-by-primary-groups-custom-cols-reordered-groups.svg
  mixOmics/tests/testthat/_snaps/plotIndiv.pls/rcca-plot-coloured-by-primary-groups-custom-cols-with-set-pch-circle-for-all-samples.svg
  mixOmics/tests/testthat/_snaps/plotIndiv.pls/rcca-plot-coloured-by-primary-groups-with-pch-for-secondary-groups.svg
  mixOmics/tests/testthat/_snaps/plotIndiv.pls/rcca-plot-coloured-by-primary-groups-with-set-pch-for-each-group.svg
  mixOmics/tests/testthat/_snaps/plotIndiv.pls/rcca-plot-with-ellipse-coloured-by-primary-groups-ellipse-level-0-5.svg
  mixOmics/tests/testthat/_snaps/plotIndiv.pls/rcca-plot-with-pch-for-primary-groups-col-consistent.svg
  mixOmics/tests/testthat/_snaps/plotIndiv.pls/spls-plot-with-centroids-and-stars-coloured-by-primary-groups.svg
  mixOmics/tests/testthat/_snaps/plotIndiv.pls/splsda-plot-with-centroids-and-stars-custom-cols-pch-on-second-grouping.svg
  mixOmics/tests/testthat/_snaps/plotLoadings.mint.pls/loadings-plot-mint-pls-change-cols-and-borders-ggplot2.svg
  mixOmics/tests/testthat/_snaps/plotLoadings.mint.pls/loadings-plot-mint-pls-change-cols-and-borders-graphics.svg
  mixOmics/tests/testthat/_snaps/plotLoadings.mint.pls/loadings-plot-mint-pls-change-gene-names-ggplot2.svg
  mixOmics/tests/testthat/_snaps/plotLoadings.mint.pls/loadings-plot-mint-pls-change-gene-names-graphics.svg
  mixOmics/tests/testthat/_snaps/plotLoadings.mint.pls/loadings-plot-mint-pls-change-labels-and-label-sizes-ggplot2.svg
  mixOmics/tests/testthat/_snaps/plotLoadings.mint.pls/loadings-plot-mint-pls-change-labels-and-label-sizes-graphics.svg
  mixOmics/tests/testthat/_snaps/plotLoadings.mint.pls/loadings-plot-mint-pls-change-layout-ggplot2.svg
  mixOmics/tests/testthat/_snaps/plotLoadings.mint.pls/loadings-plot-mint-pls-change-layout-graphics.svg
  mixOmics/tests/testthat/_snaps/plotLoadings.mint.pls/loadings-plot-mint-pls-specific-study-ggplot2.svg
  mixOmics/tests/testthat/_snaps/plotLoadings.mint.pls/loadings-plot-mint-pls-specific-study-graphics.svg
  mixOmics/tests/testthat/_snaps/plotLoadings.mint.plsda/mint-plsda-loadings-ggplot2-specific-study.svg
  mixOmics/tests/testthat/_snaps/plotLoadings.pca/loadings-plot-change-gene-names-and-plot-top-3-ggplot2.svg
  mixOmics/tests/testthat/_snaps/plotLoadings.pca/loadings-plot-change-gene-names-and-plot-top-3-graphics.svg
  mixOmics/tests/testthat/_snaps/plotLoadings.pca/loadings-plot-change-labels-and-label-sizes-ggplot2.svg
  mixOmics/tests/testthat/_snaps/plotLoadings.pca/loadings-plot-change-labels-and-label-sizes-graphics.svg
  mixOmics/tests/testthat/_snaps/plotLoadings.pls/loadings-plot-spls-change-cols-and-borders-ggplot2.svg
  mixOmics/tests/testthat/_snaps/plotLoadings.pls/loadings-plot-spls-change-cols-and-borders-graphics.svg
  mixOmics/tests/testthat/_snaps/plotLoadings.pls/loadings-plot-spls-change-gene-names-and-plot-top-3-ggplot2.svg
  mixOmics/tests/testthat/_snaps/plotLoadings.pls/loadings-plot-spls-change-gene-names-and-plot-top-3-graphics.svg
  mixOmics/tests/testthat/_snaps/plotLoadings.pls/loadings-plot-spls-change-labels-and-label-sizes-ggplot2.svg
  mixOmics/tests/testthat/_snaps/plotLoadings.pls/loadings-plot-spls-change-labels-and-label-sizes-graphics.svg
  mixOmics/tests/testthat/_snaps/plotLoadings.plsda/loadings-plot-splsda-with-custom-legend-ggplot2.svg
  mixOmics/tests/testthat/_snaps/plotLoadings.plsda/loadings-plot-splsda-with-custom-legend-graphics.svg
  mixOmics/tests/testthat/_snaps/plotLoadings.plsda/loadings-plot-splsda-with-custom-names-graphics.svg
  mixOmics/tests/testthat/_snaps/plotLoadings.plsda/loadings-plot-splsda-with-custom-title-and-labels-ggplot2.svg
  mixOmics/tests/testthat/_snaps/plotLoadings.plsda/loadings-plot-splsda-with-custom-title-and-labels-graphics.svg
  mixOmics/tests/testthat/_snaps/plotLoadings.sgccda/loadings-plot-diablo-block-specific-with-contrib-ggplot2.svg
  mixOmics/tests/testthat/_snaps/plotLoadings.sgccda/loadings-plot-diablo-block-specific-with-contrib-graphics.svg
  mixOmics/tests/testthat/_snaps/plotLoadings.sgccda/loadings-plot-diablo-change-labels-and-label-sizes-ggplot2.svg
  mixOmics/tests/testthat/_snaps/plotLoadings.sgccda/loadings-plot-diablo-change-labels-and-label-sizes-graphics.svg

Tarballs are only required to store paths of up to 100 bytes and cannot
store those of more than 256 bytes, with restrictions including to 100
bytes for the final component.
See section ‘Package structure’ in the ‘Writing R Extensions’ manual.
* checking for sufficient/correct file permissions ... OK
* checking whether package ‘mixOmics’ can be installed ... OK
* checking installed package size ... INFO
  installed size is  6.5Mb
  sub-directories of 1Mb or more:
    R      1.6Mb
    data   3.3Mb
* checking package directory ... OK
* checking DESCRIPTION meta-information ... OK
* checking top-level files ... OK
* checking for left-over files ... OK
* checking index information ... OK
* checking package subdirectories ... OK
* checking code files for non-ASCII characters ... OK
* checking R files for syntax errors ... OK
* checking whether the package can be loaded ... OK
* checking whether the package can be loaded with stated dependencies ... OK
* checking whether the package can be unloaded cleanly ... OK
* checking whether the namespace can be loaded with stated dependencies ... OK
* checking whether the namespace can be unloaded cleanly ... OK
* checking whether startup messages can be suppressed ... OK
* checking dependencies in R code ... NOTE
Namespace in Imports field not imported from: ‘gsignal’
  All declared Imports should be used.
* checking S3 generic/method consistency ... OK
* checking replacement functions ... OK
* checking foreign function calls ... OK
* checking R code for possible problems ... NOTE
.plotLoadings_barplot: no visible binding for global variable
  ‘size.axis’
perf.assess.sgccda: no visible binding for global variable
  ‘signif.threshold’
plotLoadings.mint.pls: no visible binding for global variable
  ‘importance’
plotLoadings.mint.pls: no visible binding for global variable ‘color’
plotLoadings.mint.plsda: no visible binding for global variable
  ‘importance’
plotLoadings.mint.plsda: no visible binding for global variable ‘color’
plotLoadings.mint.spls: no visible binding for global variable
  ‘importance’
plotLoadings.mint.spls: no visible binding for global variable ‘color’
plotLoadings.mint.splsda: no visible binding for global variable
  ‘importance’
plotLoadings.mint.splsda: no visible binding for global variable
  ‘color’
plotLoadings.mixo_pls: no visible binding for global variable
  ‘importance’
plotLoadings.mixo_plsda: no visible binding for global variable
  ‘importance’
plotLoadings.mixo_plsda: no visible binding for global variable ‘color’
plotLoadings.mixo_plsda: no visible binding for global variable ‘group’
plotLoadings.mixo_spls: no visible binding for global variable
  ‘importance’
plotLoadings.mixo_splsda: no visible binding for global variable
  ‘importance’
plotLoadings.mixo_splsda: no visible binding for global variable
  ‘color’
plotLoadings.mixo_splsda: no visible binding for global variable
  ‘group’
plotLoadings.pca: no visible binding for global variable ‘importance’
plotLoadings.rcc: no visible binding for global variable ‘importance’
plotLoadings.rgcca: no visible binding for global variable ‘importance’
plotLoadings.sgcca: no visible binding for global variable ‘importance’
plotLoadings.sgccda: no visible binding for global variable
  ‘importance’
plotLoadings.sgccda: no visible binding for global variable ‘color’
plotLoadings.sgccda: no visible binding for global variable ‘group’
Undefined global functions or variables:
  color group importance signif.threshold size.axis
* checking Rd files ... NOTE
checkRd: (-1) plotLoadings.Rd:479: Lost braces
   479 | For code{mint.pls}, \code{mint.spls}: when \code{study="all.partial"}, 
       |         ^
* checking Rd metadata ... OK
* checking Rd cross-references ... NOTE
Found the following Rd file(s) with Rd \link{} targets missing package
anchors:
  perf.Rd: BiocParallelParam-class
  perf.assess.Rd: BiocParallelParam-class
  rcc.Rd: estimate.lambda
  tune.Rd: BiocParallelParam-class
  tune.block.plsda.Rd: BiocParallelParam-class
  tune.block.splsda.Rd: BiocParallelParam-class
  tune.pls.Rd: BiocParallelParam-class
  tune.plsda.Rd: BiocParallelParam-class
  tune.spca.Rd: BiocParallelParam-class
  tune.spls.Rd: BiocParallelParam-class
  tune.splsda.Rd: BiocParallelParam-class
Please provide package anchors for all Rd \link{} targets not in the
package itself and the base packages.
* checking for missing documentation entries ... OK
* checking for code/documentation mismatches ... OK
* checking Rd \usage sections ... NOTE
S3 methods shown with full name in Rd file 'perf.assess.Rd':
  ‘perf.assess’

The \usage entries for S3 methods should use the \method markup and not
their full name.
See chapter ‘Writing R documentation files’ in the ‘Writing R
Extensions’ manual.
* checking Rd contents ... OK
* checking for unstated dependencies in examples ... OK
* checking contents of ‘data’ directory ... OK
* checking data for non-ASCII characters ... OK
* checking data for ASCII and uncompressed saves ... OK
* checking files in ‘vignettes’ ... OK
* checking examples ... OK
Examples with CPU (user + system) or elapsed time > 5s
                      user system elapsed
tune.spls          234.158 11.304 248.209
tune.splsda        107.089  5.664 114.070
tune.plsda          47.561  2.531  50.539
tune.pls            36.912  2.301  39.714
tune.block.plsda    34.646  0.318  35.100
plotIndiv           25.614  1.750  27.776
perf.assess         26.078  1.030  27.483
biplot              17.634  0.106  17.835
tune.block.splsda   14.481  0.210  53.835
block.splsda         9.981  0.114  10.153
background.predict   8.475  1.279   9.894
block.spls           8.024  0.082   8.148
circosPlot           7.591  0.085   7.711
tune                 6.417  0.414   6.886
pca                  6.090  0.057   6.170
* checking for unstated dependencies in ‘tests’ ... OK
* checking tests ...
  Running ‘testthat.R’
 OK
* checking for unstated dependencies in vignettes ... OK
* checking package vignettes ... OK
* checking running R code from vignettes ... SKIPPED
* checking re-building of vignette outputs ... SKIPPED
* checking PDF version of manual ... OK
* DONE

Status: 6 NOTEs
See
  ‘/Users/biocbuild/bbs-3.22-bioc/meat/mixOmics.Rcheck/00check.log’
for details.


Installation output

mixOmics.Rcheck/00install.out

##############################################################################
##############################################################################
###
### Running command:
###
###   /Library/Frameworks/R.framework/Resources/bin/R CMD INSTALL mixOmics
###
##############################################################################
##############################################################################


* installing to library ‘/Library/Frameworks/R.framework/Versions/4.5-x86_64/Resources/library’
* installing *source* package ‘mixOmics’ ...
** this is package ‘mixOmics’ version ‘6.33.0’
** using staged installation
** R
** data
** inst
** byte-compile and prepare package for lazy loading
** help
*** installing help indices
** building package indices
** installing vignettes
** testing if installed package can be loaded from temporary location
** testing if installed package can be loaded from final location
** testing if installed package keeps a record of temporary installation path
* DONE (mixOmics)

Tests output

mixOmics.Rcheck/tests/testthat.Rout


R version 4.5.1 Patched (2025-09-10 r88807) -- "Great Square Root"
Copyright (C) 2025 The R Foundation for Statistical Computing
Platform: x86_64-apple-darwin20

R is free software and comes with ABSOLUTELY NO WARRANTY.
You are welcome to redistribute it under certain conditions.
Type 'license()' or 'licence()' for distribution details.

R is a collaborative project with many contributors.
Type 'contributors()' for more information and
'citation()' on how to cite R or R packages in publications.

Type 'demo()' for some demos, 'help()' for on-line help, or
'help.start()' for an HTML browser interface to help.
Type 'q()' to quit R.

> library(testthat)
> library(mixOmics)
Loading required package: MASS
Loading required package: lattice
Loading required package: ggplot2

Loaded mixOmics 6.33.0
Thank you for using mixOmics!
Tutorials: http://mixomics.org
Bookdown vignette: https://mixomicsteam.github.io/Bookdown
Questions, issues: Follow the prompts at http://mixomics.org/contact-us
Cite us:  citation('mixOmics')

> 
> test_check("mixOmics")
2025-10-02 23:04:58.136 R[47685:443798823] XType: com.apple.fonts is not accessible.
2025-10-02 23:04:58.136 R[47685:443798823] XType: XTFontStaticRegistry is enabled.
character(0)
character(0)
[1] "test.keepX is set to NULL, tuning only for number of components..."
[1] "test.keepX is set to NULL, tuning only for number of components..."
[1] "test.keepX set to NULL, tuning only for number of components..."
[1] "test.keepX and test.keepY are set to NULL, tuning only for number of components..."
[1] "test.keepX and test.keepY are set to NULL, tuning only for number of components..."
[1] "test.keepX and test.keepY are set to NULL, tuning only for number of components..."
[1] "test.keepX set to NULL, tuning only for number of components..."
[ FAIL 0 | WARN 3 | SKIP 51 | PASS 663 ]

══ Skipped tests (51) ══════════════════════════════════════════════════════════
• On CRAN (51): 'test-biplot.R:17:3', 'test-biplot.R:39:3',
  'test-biplot.R:63:3', 'test-plotArrow.R:50:3', 'test-plotArrow.R:81:3',
  'test-plotIndiv.mint.R:76:3', 'test-plotIndiv.mint.R:99:3',
  'test-plotIndiv.mint.R:131:3', 'test-plotIndiv.mint.R:145:3',
  'test-plotIndiv.mint.R:168:3', 'test-plotIndiv.pca.R:152:3',
  'test-plotIndiv.pca.R:176:3', 'test-plotIndiv.pca.R:210:3',
  'test-plotIndiv.pca.R:244:3', 'test-plotIndiv.pca.R:263:3',
  'test-plotIndiv.pls.R:419:3', 'test-plotIndiv.pls.R:442:3',
  'test-plotIndiv.pls.R:468:3', 'test-plotIndiv.pls.R:486:3',
  'test-plotIndiv.pls.R:498:3', 'test-plotIndiv.pls.R:531:3',
  'test-plotIndiv.pls.R:564:3', 'test-plotIndiv.pls.R:581:3',
  'test-plotIndiv.pls.R:599:3', 'test-plotIndiv.pls.R:610:3',
  'test-plotIndiv.pls.R:622:3', 'test-plotIndiv.pls.R:655:3',
  'test-plotIndiv.pls.R:666:3', 'test-plotIndiv.pls.R:683:3',
  'test-plotIndiv.pls.R:694:3', 'test-plotIndiv.pls.R:712:3',
  'test-plotIndiv.pls.R:741:3', 'test-plotLoadings.mint.pls.R:11:3',
  'test-plotLoadings.mint.pls.R:62:3', 'test-plotLoadings.mint.pls.R:121:3',
  'test-plotLoadings.mint.plsda.R:14:5', 'test-plotLoadings.mint.plsda.R:61:5',
  'test-plotLoadings.mint.plsda.R:91:5',
  'test-plotLoadings.mint.plsda.R:143:5', 'test-plotLoadings.pca.R:11:3',
  'test-plotLoadings.pca.R:50:3', 'test-plotLoadings.pca.R:84:3',
  'test-plotLoadings.pls.R:43:3', 'test-plotLoadings.pls.R:91:3',
  'test-plotLoadings.plsda.R:109:3', 'test-plotLoadings.plsda.R:148:3',
  'test-plotLoadings.sgccda.R:16:3', 'test-plotLoadings.sgccda.R:32:3',
  'test-plotLoadings.sgccda.R:47:3', 'test-plotLoadings.sgccda.R:95:3',
  'test-plotLoadings.sgccda.R:133:3'

[ FAIL 0 | WARN 3 | SKIP 51 | PASS 663 ]
Deleting unused snapshots:
• biplot/biplot-plot-pca-with-customised-colours.svg
• biplot/biplot-plot-plsda-model-with-customised-pch.svg
• plotArrow/arrow-plot-daiblo-with-customised-colours.svg
• plotArrow/arrow-plot-spls-with-customised-colours.svg
• plotIndiv.mint/mint-pls-plot-default-cols-custom-groups.svg
• plotIndiv.mint/mint-pls-plot-studies-facetted.svg
• plotIndiv.mint/mint-spls-plot-studies-facetted-different-layout.svg
• plotIndiv.mint/mint-splsda-plot-default-cols-custom-groups.svg
• plotIndiv.mint/mint-splsda-plot-studies-facetted-different-layout.svg
• plotIndiv.mint/mint-splsda-plot-studies-facetted.svg
• plotIndiv.mint/mint-splsda-plot-with-ellipse.svg
• plotIndiv.mint/mint-splsda-plot-with-star.svg
• plotIndiv.pca/pca-plot-coloured-by-primary-groups-custom-cols-reordered-groups.svg
• plotIndiv.pca/pca-plot-coloured-by-primary-groups-custom-cols-with-set-pch-triangle-for-all-samples.svg
• plotIndiv.pca/pca-plot-coloured-by-primary-groups-custom-cols.svg
• plotIndiv.pca/pca-plot-coloured-by-primary-groups-with-pch-for-secondary-groups-reordered.svg
• plotIndiv.pca/pca-plot-coloured-by-primary-groups-with-pch-for-secondary-groups.svg
• plotIndiv.pca/pca-plot-coloured-by-primary-groups-with-set-pch-for-each-group.svg
• plotIndiv.pca/pca-plot-coloured-by-primary-groups.svg
• plotIndiv.pca/pca-plot-sample-names-coloured-by-primary-groups-custom-cols.svg
• plotIndiv.pca/pca-plot-sample-names-coloured-by-primary-groups.svg
• plotIndiv.pca/pca-plot-with-centroids-coloured-by-primary-groups-custom-cols.svg
• plotIndiv.pca/pca-plot-with-ellipse-coloured-by-primary-groups-custom-cols-ellipse-level-0-5.svg
• plotIndiv.pca/pca-plot-with-ellipse-coloured-by-primary-groups-custom-cols-sample-names.svg
• plotIndiv.pca/pca-plot-with-ellipse-coloured-by-primary-groups-custom-cols.svg
• plotIndiv.pca/pca-plot-with-pch-for-primary-groups-col-consistent.svg
• plotIndiv.pls/pca-plot-sample-names-coloured-by-primary-groups-custom-cols.svg
• plotIndiv.pls/rcca-plot-coloured-by-primary-groups-custom-cols-reordered-groups.svg
• plotIndiv.pls/rcca-plot-coloured-by-primary-groups-with-pch-for-secondary-groups.svg
• plotIndiv.pls/rcca-plot-coloured-by-primary-groups-with-set-pch-for-each-group.svg
• plotIndiv.pls/rcca-plot-coloured-by-primary-groups.svg
• plotIndiv.pls/rcca-plot-on-multi-variate-space.svg
• plotIndiv.pls/rcca-plot-on-x-variate-space.svg
• plotIndiv.pls/rcca-plot-on-y-variate-space.svg
• plotIndiv.pls/rcca-plot-sample-names-coloured-by-primary-groups.svg
• plotIndiv.pls/rcca-plot-with-ellipse-coloured-by-primary-groups-ellipse-level-0-5.svg
• plotIndiv.pls/rcca-plot-with-pch-for-primary-groups-col-consistent.svg
• plotIndiv.pls/spls-plot-coloured-by-primary-groups.svg
• plotIndiv.pls/spls-plot-on-multi-variate-space.svg
• plotIndiv.pls/spls-plot-on-x-variate-space.svg
• plotIndiv.pls/spls-plot-on-y-variate-space.svg
• plotIndiv.pls/spls-plot-sample-names-coloured-by-primary-groups.svg
• plotIndiv.pls/splsda-plot-on-multi-variate-space.svg
• plotIndiv.pls/splsda-plot-on-x-variate-space.svg
• plotIndiv.pls/splsda-plot-on-y-variate-space.svg
• plotIndiv.pls/splsda-plot-sample-names-coloured-by-custom-groups.svg
• plotIndiv.pls/splsda-plot-with-centroids-and-stars-custom-cols-pch-on-second-grouping.svg
• plotIndiv.pls/splsda-plot-with-centroids-and-stars-custom-cols.svg
• plotIndiv.pls/splsda-plot-with-ellipse-on-custom-groups.svg
• plotLoadings.mint.pls/loadings-plot-mint-pls-all-partial-ggplot2.svg
• plotLoadings.mint.pls/loadings-plot-mint-pls-all-partial-graphics.svg
• plotLoadings.mint.pls/loadings-plot-mint-pls-change-cols-and-borders-ggplot2.svg
• plotLoadings.mint.pls/loadings-plot-mint-pls-change-cols-and-borders-graphics.svg
• plotLoadings.mint.pls/loadings-plot-mint-pls-change-gene-names-ggplot2.svg
• plotLoadings.mint.pls/loadings-plot-mint-pls-change-gene-names-graphics.svg
• plotLoadings.mint.pls/loadings-plot-mint-pls-change-labels-and-label-sizes-ggplot2.svg
• plotLoadings.mint.pls/loadings-plot-mint-pls-change-labels-and-label-sizes-graphics.svg
• plotLoadings.mint.pls/loadings-plot-mint-pls-change-layout-ggplot2.svg
• plotLoadings.mint.pls/loadings-plot-mint-pls-change-layout-graphics.svg
• plotLoadings.mint.pls/loadings-plot-mint-pls-specific-study-ggplot2.svg
• plotLoadings.mint.pls/loadings-plot-mint-pls-specific-study-graphics.svg
• plotLoadings.mint.plsda/mint-plsda-loadings-all-partial.svg
• plotLoadings.mint.plsda/mint-plsda-loadings-custom-colors.svg
• plotLoadings.mint.plsda/mint-plsda-loadings-custom-labels.svg
• plotLoadings.mint.plsda/mint-plsda-loadings-custom-layout.svg
• plotLoadings.mint.plsda/mint-plsda-loadings-custom-names.svg
• plotLoadings.mint.plsda/mint-plsda-loadings-ggplot2-all-partial.svg
• plotLoadings.mint.plsda/mint-plsda-loadings-ggplot2-custom-colors.svg
• plotLoadings.mint.plsda/mint-plsda-loadings-ggplot2-custom-labels.svg
• plotLoadings.mint.plsda/mint-plsda-loadings-ggplot2-custom-layout.svg
• plotLoadings.mint.plsda/mint-plsda-loadings-ggplot2-custom-names.svg
• plotLoadings.mint.plsda/mint-plsda-loadings-ggplot2-specific-study.svg
• plotLoadings.mint.plsda/mint-plsda-loadings-specific-study.svg
• plotLoadings.pca/loadings-plot-change-cols-and-borders-ggplot2.svg
• plotLoadings.pca/loadings-plot-change-cols-and-borders-graphics.svg
• plotLoadings.pca/loadings-plot-change-gene-names-and-plot-top-3-ggplot2.svg
• plotLoadings.pca/loadings-plot-change-gene-names-and-plot-top-3-graphics.svg
• plotLoadings.pca/loadings-plot-change-labels-and-label-sizes-ggplot2.svg
• plotLoadings.pca/loadings-plot-change-labels-and-label-sizes-graphics.svg
• plotLoadings.pls/loadings-plot-spls-change-block-ggplot2.svg
• plotLoadings.pls/loadings-plot-spls-change-block-graphics.svg
• plotLoadings.pls/loadings-plot-spls-change-cols-and-borders-ggplot2.svg
• plotLoadings.pls/loadings-plot-spls-change-cols-and-borders-graphics.svg
• plotLoadings.pls/loadings-plot-spls-change-gene-names-and-plot-top-3-ggplot2.svg
• plotLoadings.pls/loadings-plot-spls-change-gene-names-and-plot-top-3-graphics.svg
• plotLoadings.pls/loadings-plot-spls-change-labels-and-label-sizes-ggplot2.svg
• plotLoadings.pls/loadings-plot-spls-change-labels-and-label-sizes-graphics.svg
• plotLoadings.pls/loadings-plot-spls-change-layout-ggplot2.svg
• plotLoadings.pls/loadings-plot-spls-change-layout-graphics.svg
• plotLoadings.plsda/loadings-plot-splsda-with-custom-legend-ggplot2.svg
• plotLoadings.plsda/loadings-plot-splsda-with-custom-legend-graphics.svg
• plotLoadings.plsda/loadings-plot-splsda-with-custom-names-ggplot2.svg
• plotLoadings.plsda/loadings-plot-splsda-with-custom-names-graphics.svg
• plotLoadings.plsda/loadings-plot-splsda-with-custom-title-and-labels-ggplot2.svg
• plotLoadings.plsda/loadings-plot-splsda-with-custom-title-and-labels-graphics.svg
• plotLoadings.sgccda/loadings-plot-diablo-block-specific-with-contrib-ggplot2.svg
• plotLoadings.sgccda/loadings-plot-diablo-block-specific-with-contrib-graphics.svg
• plotLoadings.sgccda/loadings-plot-diablo-change-labels-and-label-sizes-ggplot2.svg
• plotLoadings.sgccda/loadings-plot-diablo-change-labels-and-label-sizes-graphics.svg
• plotLoadings.sgccda/loadings-plot-diablo-change-legend-ggplot2.svg
• plotLoadings.sgccda/loadings-plot-diablo-change-legend-graphics.svg
> 
> proc.time()
   user  system elapsed 
352.828  23.075 581.579 

Example timings

mixOmics.Rcheck/mixOmics-Ex.timings

nameusersystemelapsed
S3methods-print0.0150.0040.019
auroc1.1610.0231.190
background.predict8.4751.2799.894
biplot17.634 0.10617.835
block.pls0.8260.0110.839
block.plsda1.3100.0131.328
block.spls8.0240.0828.148
block.splsda 9.981 0.11410.153
cim0.0370.0060.044
cimDiablo0.3030.0090.316
circosPlot7.5910.0857.711
colors0.0330.0020.035
explained_variance0.1440.0160.161
get.confusion_matrix0.1670.0040.173
image.tune.rcc2.2980.0772.390
imgCor0.0730.0120.085
impute.nipals0.0110.0040.015
ipca1.3390.0261.371
logratio-transformations0.0640.0040.068
map0.0040.0030.007
mat.rank0.0010.0000.002
mint.block.pls0.1030.0050.108
mint.block.plsda0.0910.0050.096
mint.block.spls0.1400.0140.155
mint.block.splsda0.1100.0050.116
mint.pca0.6740.0080.687
mint.pls1.1650.0111.181
mint.plsda1.2540.0171.276
mint.spls1.1960.0101.210
mint.splsda1.2940.0111.312
mixOmics0.3830.0250.411
nearZeroVar1.0140.0221.041
network0.0110.0050.016
pca6.0900.0576.170
perf2.6070.1332.756
perf.assess26.078 1.03027.483
plot.rcc0.0130.0070.021
plot.tune0.0000.0020.002
plotArrow2.4270.0382.484
plotDiablo0.1760.0080.187
plotIndiv25.614 1.75027.776
plotLoadings0.5890.0340.626
plotMarkers0.0000.0010.000
plotVar1.0540.0211.082
pls0.0060.0020.008
plsda0.9510.0350.995
predict0.1610.0060.169
rcc0.0030.0020.006
selectVar0.3670.0420.414
sipca0.8510.0810.967
spca3.7380.1253.877
spls0.2100.0180.230
splsda0.6290.0100.643
study_split0.0060.0010.007
summary0.0140.0050.019
tune6.4170.4146.886
tune.block.plsda34.646 0.31835.100
tune.block.splsda14.481 0.21053.835
tune.mint.plsda0.9490.0270.982
tune.mint.splsda4.2080.1664.424
tune.pca0.8810.0290.918
tune.pls36.912 2.30139.714
tune.plsda47.561 2.53150.539
tune.rcc2.0640.0782.156
tune.spca0.7720.0210.796
tune.spls234.158 11.304248.209
tune.splsda107.089 5.664114.070
unmap0.0040.0060.021
vip0.0090.0030.014
withinVariation1.4960.0121.519
wrapper.rgcca0.0550.0030.059
wrapper.sgcca0.1000.0080.107