Back to Multiple platform build/check report for BioC 3.22:   simplified   long
ABCDEFGHIJKL[M]NOPQRSTUVWXYZ

This page was generated on 2025-10-18 12:03 -0400 (Sat, 18 Oct 2025).

HostnameOSArch (*)R versionInstalled pkgs
nebbiolo2Linux (Ubuntu 24.04.3 LTS)x86_644.5.1 Patched (2025-08-23 r88802) -- "Great Square Root" 4887
lconwaymacOS 12.7.6 Montereyx86_644.5.1 Patched (2025-09-10 r88807) -- "Great Square Root" 4677
kjohnson3macOS 13.7.7 Venturaarm644.5.1 Patched (2025-09-10 r88807) -- "Great Square Root" 4622
taishanLinux (openEuler 24.03 LTS)aarch644.5.0 (2025-04-11) -- "How About a Twenty-Six" 4632
Click on any hostname to see more info about the system (e.g. compilers)      (*) as reported by 'uname -p', except on Windows and Mac OS X

Package 1323/2353HostnameOS / ArchINSTALLBUILDCHECKBUILD BIN
mistyR 1.17.0  (landing page)
Jovan Tanevski
Snapshot Date: 2025-10-17 13:45 -0400 (Fri, 17 Oct 2025)
git_url: https://git.bioconductor.org/packages/mistyR
git_branch: devel
git_last_commit: 78cd332
git_last_commit_date: 2025-04-15 12:32:27 -0400 (Tue, 15 Apr 2025)
nebbiolo2Linux (Ubuntu 24.04.3 LTS) / x86_64  OK    OK    ERROR  
lconwaymacOS 12.7.6 Monterey / x86_64  OK    OK    OK    OK  UNNEEDED, same version is already published
kjohnson3macOS 13.7.7 Ventura / arm64  OK    OK    ERROR    OK  
taishanLinux (openEuler 24.03 LTS) / aarch64  OK    OK    ERROR  


CHECK results for mistyR on nebbiolo2

To the developers/maintainers of the mistyR package:
- Allow up to 24 hours (and sometimes 48 hours) for your latest push to git@git.bioconductor.org:packages/mistyR.git to reflect on this report. See Troubleshooting Build Report for more information.
- Use the following Renviron settings to reproduce errors and warnings.
- If 'R CMD check' started to fail recently on the Linux builder(s) over a missing dependency, add the missing dependency to 'Suggests:' in your DESCRIPTION file. See Renviron.bioc for more information.

raw results


Summary

Package: mistyR
Version: 1.17.0
Command: /home/biocbuild/bbs-3.22-bioc/R/bin/R CMD check --install=check:mistyR.install-out.txt --library=/home/biocbuild/bbs-3.22-bioc/R/site-library --timings mistyR_1.17.0.tar.gz
StartedAt: 2025-10-18 01:59:32 -0400 (Sat, 18 Oct 2025)
EndedAt: 2025-10-18 02:13:18 -0400 (Sat, 18 Oct 2025)
EllapsedTime: 825.6 seconds
RetCode: 1
Status:   ERROR  
CheckDir: mistyR.Rcheck
Warnings: NA

Command output

##############################################################################
##############################################################################
###
### Running command:
###
###   /home/biocbuild/bbs-3.22-bioc/R/bin/R CMD check --install=check:mistyR.install-out.txt --library=/home/biocbuild/bbs-3.22-bioc/R/site-library --timings mistyR_1.17.0.tar.gz
###
##############################################################################
##############################################################################


* using log directory ‘/home/biocbuild/bbs-3.22-bioc/meat/mistyR.Rcheck’
* using R version 4.5.1 Patched (2025-08-23 r88802)
* using platform: x86_64-pc-linux-gnu
* R was compiled by
    gcc (Ubuntu 13.3.0-6ubuntu2~24.04) 13.3.0
    GNU Fortran (Ubuntu 13.3.0-6ubuntu2~24.04) 13.3.0
* running under: Ubuntu 24.04.3 LTS
* using session charset: UTF-8
* checking for file ‘mistyR/DESCRIPTION’ ... OK
* checking extension type ... Package
* this is package ‘mistyR’ version ‘1.17.0’
* package encoding: UTF-8
* checking package namespace information ... OK
* checking package dependencies ... INFO
Imports includes 21 non-default packages.
Importing from so many packages makes the package vulnerable to any of
them becoming unavailable.  Move as many as possible to Suggests and
use conditionally.
* checking if this is a source package ... OK
* checking if there is a namespace ... OK
* checking for hidden files and directories ... OK
* checking for portable file names ... OK
* checking for sufficient/correct file permissions ... OK
* checking whether package ‘mistyR’ can be installed ... OK
* checking installed package size ... OK
* checking package directory ... OK
* checking ‘build’ directory ... OK
* checking DESCRIPTION meta-information ... OK
* checking top-level files ... OK
* checking for left-over files ... OK
* checking index information ... OK
* checking package subdirectories ... OK
* checking code files for non-ASCII characters ... OK
* checking R files for syntax errors ... OK
* checking whether the package can be loaded ... OK
* checking whether the package can be loaded with stated dependencies ... OK
* checking whether the package can be unloaded cleanly ... OK
* checking whether the namespace can be loaded with stated dependencies ... OK
* checking whether the namespace can be unloaded cleanly ... OK
* checking loading without being on the library search path ... OK
* checking whether startup messages can be suppressed ... OK
* checking dependencies in R code ... OK
* checking S3 generic/method consistency ... OK
* checking replacement functions ... OK
* checking foreign function calls ... OK
* checking R code for possible problems ... NOTE
aggregate_results: no visible binding for global variable ‘measure’
aggregate_results: no visible binding for global variable ‘target’
aggregate_results: no visible binding for global variable ‘value’
aggregate_results: no visible binding for global variable ‘sd’
aggregate_results: no visible binding for global variable ‘view’
aggregate_results: no visible binding for global variable ‘.PT’
aggregate_results: no visible binding for global variable ‘Importance’
aggregate_results_subset: no visible binding for global variable ‘view’
aggregate_results_subset: no visible binding for global variable ‘.PT’
aggregate_results_subset: no visible binding for global variable
  ‘Importance’
bagged_mars_model: no visible binding for global variable ‘index’
bagged_mars_model: no visible binding for global variable ‘prediction’
collect_results : <anonymous>: no visible binding for global variable
  ‘intra.RMSE’
collect_results : <anonymous>: no visible binding for global variable
  ‘multi.RMSE’
collect_results : <anonymous>: no visible binding for global variable
  ‘multi.R2’
collect_results : <anonymous>: no visible binding for global variable
  ‘intra.R2’
collect_results: no visible binding for global variable ‘target’
collect_results : <anonymous>: no visible binding for global variable
  ‘target’
collect_results : <anonymous>: no visible binding for global variable
  ‘view’
collect_results : <anonymous> : <anonymous>: no visible binding for
  global variable ‘value’
collect_results : <anonymous> : <anonymous>: no visible binding for
  global variable ‘Predictor’
collect_results : <anonymous> : <anonymous>: no visible binding for
  global variable ‘Importance’
extract_signature: no visible binding for global variable ‘measure’
extract_signature: no visible binding for global variable ‘target’
extract_signature: no visible binding for global variable ‘ts’
extract_signature: no visible binding for global variable ‘view’
extract_signature: no visible binding for global variable ‘value’
extract_signature : <anonymous>: no visible binding for global variable
  ‘Importance’
extract_signature : <anonymous>: no visible binding for global variable
  ‘Target’
extract_signature : <anonymous>: no visible binding for global variable
  ‘ts’
extract_signature : <anonymous>: no visible binding for global variable
  ‘Predictor’
gradient_boosting_model: no visible binding for global variable ‘index’
linear_model: no visible binding for global variable ‘index’
mars_model: no visible binding for global variable ‘index’
mlp_model: no visible binding for global variable ‘index’
plot_contrast_heatmap: no visible binding for global variable ‘view’
plot_contrast_heatmap: no visible binding for global variable ‘measure’
plot_contrast_heatmap: no visible binding for global variable ‘target’
plot_contrast_heatmap: no visible binding for global variable ‘Target’
plot_contrast_heatmap: no visible binding for global variable
  ‘nsamples’
plot_contrast_heatmap: no visible binding for global variable
  ‘Predictor’
plot_contrast_heatmap: no visible binding for global variable
  ‘Importance’
plot_contrast_results: no visible binding for global variable ‘view’
plot_contrast_results : <anonymous>: no visible binding for global
  variable ‘view’
plot_contrast_results : <anonymous>: no visible binding for global
  variable ‘Predictor’
plot_contrast_results : <anonymous>: no visible binding for global
  variable ‘Target’
plot_contrast_results: no visible binding for global variable ‘measure’
plot_contrast_results: no visible binding for global variable ‘target’
plot_contrast_results : <anonymous>: no visible binding for global
  variable ‘nsamples’
plot_contrast_results : <anonymous>: no visible binding for global
  variable ‘Importance’
plot_improvement_stats: no visible binding for global variable ‘target’
plot_improvement_stats: no visible binding for global variable ‘sd’
plot_interaction_communities: no visible binding for global variable
  ‘nsamples’
plot_interaction_communities: no visible binding for global variable
  ‘Predictor’
plot_interaction_heatmap: no visible binding for global variable
  ‘measure’
plot_interaction_heatmap: no visible binding for global variable
  ‘target’
plot_interaction_heatmap: no visible binding for global variable
  ‘Target’
plot_interaction_heatmap: no visible binding for global variable
  ‘Importance’
plot_interaction_heatmap: no visible binding for global variable
  ‘Predictor’
plot_interaction_heatmap: no visible binding for global variable
  ‘total’
plot_view_contributions: no visible binding for global variable
  ‘measure’
plot_view_contributions: no visible binding for global variable
  ‘target’
plot_view_contributions: no visible binding for global variable
  ‘fraction’
plot_view_contributions: no visible binding for global variable ‘view’
run_misty : <anonymous>: no visible binding for global variable ‘p’
run_misty : <anonymous>: no visible binding for global variable
  ‘intra.RMSE’
run_misty : <anonymous>: no visible binding for global variable
  ‘multi.RMSE’
run_misty : <anonymous>: no visible binding for global variable
  ‘intra.R2’
run_misty : <anonymous>: no visible binding for global variable
  ‘multi.R2’
svm_model: no visible binding for global variable ‘index’
Undefined global functions or variables:
  .PT Importance Predictor Target fraction index intra.R2 intra.RMSE
  measure multi.R2 multi.RMSE nsamples p prediction sd target total ts
  value view
Consider adding
  importFrom("stats", "sd", "ts")
to your NAMESPACE file.
* checking Rd files ... NOTE
checkRd: (-1) collect_results.Rd:32: Lost braces; missing escapes or markup?
    32 |             for all performance measures for each {target} over all samples.}
       |                                                   ^
* checking Rd metadata ... OK
* checking Rd cross-references ... OK
* checking for missing documentation entries ... OK
* checking for code/documentation mismatches ... OK
* checking Rd \usage sections ... OK
* checking Rd contents ... OK
* checking for unstated dependencies in examples ... OK
* checking contents of ‘data’ directory ... OK
* checking data for non-ASCII characters ... OK
* checking data for ASCII and uncompressed saves ... OK
* checking files in ‘vignettes’ ... OK
* checking examples ... OK
Examples with CPU (user + system) or elapsed time > 5s
                          user system elapsed
collect_results        134.116  6.343 140.434
run_misty               43.882  2.013  45.882
reexports               43.664  2.031  45.681
remove_views            25.224  0.138  25.364
add_paraview            21.218  0.159  21.378
add_juxtaview            6.627  0.148   6.777
plot_improvement_stats   6.177  0.486   6.662
create_view              5.326  0.011   5.337
* checking for unstated dependencies in ‘tests’ ... OK
* checking tests ...
  Running ‘testthat.R’
 ERROR
Running the tests in ‘tests/testthat.R’ failed.
Last 13 lines of output:
  Generating paraview
  
  Generating paraview
  [ FAIL 1 | WARN 4 | SKIP 0 | PASS 172 ]
  
  ══ Failed tests ════════════════════════════════════════════════════════════════
  ── Failure ('test-misty.R:212:3'): k for cv , n.bags for bagging can be changed and approx works ──
  first.run < second.run is not TRUE
  
  `actual`:   FALSE
  `expected`: TRUE 
  
  [ FAIL 1 | WARN 4 | SKIP 0 | PASS 172 ]
  Error: Test failures
  Execution halted
* checking for unstated dependencies in vignettes ... OK
* checking package vignettes ... OK
* checking re-building of vignette outputs ... OK
* checking PDF version of manual ... OK
* DONE

Status: 1 ERROR, 2 NOTEs
See
  ‘/home/biocbuild/bbs-3.22-bioc/meat/mistyR.Rcheck/00check.log’
for details.


Installation output

mistyR.Rcheck/00install.out

##############################################################################
##############################################################################
###
### Running command:
###
###   /home/biocbuild/bbs-3.22-bioc/R/bin/R CMD INSTALL mistyR
###
##############################################################################
##############################################################################


* installing to library ‘/home/biocbuild/bbs-3.22-bioc/R/site-library’
* installing *source* package ‘mistyR’ ...
** this is package ‘mistyR’ version ‘1.17.0’
** using staged installation
** R
** data
** inst
** byte-compile and prepare package for lazy loading
** help
*** installing help indices
** building package indices
** installing vignettes
** testing if installed package can be loaded from temporary location
** testing if installed package can be loaded from final location
** testing if installed package keeps a record of temporary installation path
* DONE (mistyR)

Tests output

mistyR.Rcheck/tests/testthat.Rout.fail


R version 4.5.1 Patched (2025-08-23 r88802) -- "Great Square Root"
Copyright (C) 2025 The R Foundation for Statistical Computing
Platform: x86_64-pc-linux-gnu

R is free software and comes with ABSOLUTELY NO WARRANTY.
You are welcome to redistribute it under certain conditions.
Type 'license()' or 'licence()' for distribution details.

R is a collaborative project with many contributors.
Type 'contributors()' for more information and
'citation()' on how to cite R or R packages in publications.

Type 'demo()' for some demos, 'help()' for on-line help, or
'help.start()' for an HTML browser interface to help.
Type 'q()' to quit R.

> library(testthat)
> library(mistyR)
mistyR is able to run computationally intensive functions
  in parallel. Please consider specifying a future::plan(). For example by running
  future::plan(future::multisession) before calling mistyR functions.
> 
> test_check("mistyR")

Generating paraview

Training models

Training models

Training models

Training models

Training models

Training models

Collecting improvements

Collecting contributions

Collecting importances

Aggregating

Collecting improvements

Collecting contributions

Collecting importances

Aggregating

Training models

Training models

Training models

Training models

Collecting improvements

Collecting contributions

Collecting importances

Aggregating

Training models

Collecting improvements

Collecting contributions

Collecting importances

Aggregating

Training models

Collecting improvements

Collecting contributions

Collecting importances

Aggregating

Training models

Collecting improvements

Collecting contributions

Collecting importances

Aggregating

Training models

Collecting improvements

Collecting contributions

Collecting importances

Aggregating

Training models

Collecting improvements

Collecting contributions

Collecting importances

Aggregating

Training models

Collecting improvements

Collecting contributions

Collecting importances

Aggregating

Generating paraview

Training models

Generating paraview

Training models

Training models

Training models

Training models

Training models

Training models

Training models

Training models

Training models

Training models

Training models

Training models

Training models

Training models

Training models

Training models

Training models

Training models

Training models

Training models

Training models

Training models

Training models

Training models

Training models

Training models

Training models

Training models

Training models

Training models

Training models

Training models

Training models

Training models

Collecting improvements

Collecting contributions

Collecting importances

Aggregating

Training models

Collecting improvements

Collecting contributions

Collecting importances

Aggregating

Training models

Collecting improvements

Collecting contributions

Collecting importances

Aggregating

Training models

Collecting improvements

Collecting contributions

Collecting importances

Aggregating

Training models

Collecting improvements

Collecting contributions

Collecting importances

Aggregating

Training models

Collecting improvements

Collecting contributions

Collecting importances

Aggregating

Training models

Collecting improvements

Collecting contributions

Collecting importances

Aggregating

Generating paraview

Training models

Training models

Training models

Training models

Training models

Training models

Training models

Training models

Training models

Training models

Training models

Training models

Training models

Training models

Training models

Training models

Training models

Training models

Training models

Training models

Training models

Generating paraview

Training models

Collecting improvements

Collecting contributions

Collecting importances

Aggregating

Generating paraview

Training models

Collecting improvements

Collecting contributions

Collecting importances

Aggregating

Generating paraview

Generating paraview

Training models

Generating paraview

Training models

Generating paraview

Training models

Collecting improvements

Collecting contributions

Collecting importances

Aggregating
Aggregating subset

Generating paraview

Training models

Generating paraview

Training models

Generating paraview

Training models

Collecting improvements

Collecting contributions

Collecting importances

Aggregating

Computing triangulation

Generating juxtaview

Generating paraview

Generating paraview using 20 nearest neighbors per unit

Approximating RBF matrix using the Nystrom method

Computing triangulation

Generating juxtaview

Generating paraview

Computing triangulation

Generating juxtaview

Generating paraview

Computing triangulation

Generating paraview

Generating paraview

Generating paraview using 2 nearest neighbors per unit

Generating paraview

Generating paraview
[ FAIL 1 | WARN 4 | SKIP 0 | PASS 172 ]

══ Failed tests ════════════════════════════════════════════════════════════════
── Failure ('test-misty.R:212:3'): k for cv , n.bags for bagging can be changed and approx works ──
first.run < second.run is not TRUE

`actual`:   FALSE
`expected`: TRUE 

[ FAIL 1 | WARN 4 | SKIP 0 | PASS 172 ]
Error: Test failures
Execution halted

Example timings

mistyR.Rcheck/mistyR-Ex.timings

nameusersystemelapsed
add_juxtaview6.6270.1486.777
add_paraview21.218 0.15921.378
add_views0.0080.0000.008
clear_cache0.0020.0000.002
collect_results134.116 6.343140.434
create_initial_view0.3500.0020.352
create_view5.3260.0115.337
extract_signature2.7400.2172.957
filter_views0.8920.0010.893
plot_contrast_heatmap3.5770.2333.810
plot_contrast_results4.3910.2254.615
plot_improvement_stats6.1770.4866.662
plot_interaction_communities2.8250.2263.053
plot_interaction_heatmap3.1830.2463.432
plot_view_contributions2.9020.2253.129
reexports43.664 2.03145.681
remove_views25.224 0.13825.364
rename_view0.0130.0000.013
run_misty43.882 2.01345.882
select_markers0.3150.0000.315