Back to Multiple platform build/check report for BioC 3.22:   simplified   long
ABCDEFGHIJKL[M]NOPQRSTUVWXYZ

This page was generated on 2025-05-07 12:09 -0400 (Wed, 07 May 2025).

HostnameOSArch (*)R versionInstalled pkgs
nebbiolo2Linux (Ubuntu 24.04.1 LTS)x86_644.5.0 (2025-04-11) -- "How About a Twenty-Six" 4745
palomino8Windows Server 2022 Datacenterx644.5.0 (2025-04-11 ucrt) -- "How About a Twenty-Six" 4506
lconwaymacOS 12.7.1 Montereyx86_644.5.0 Patched (2025-04-21 r88169) -- "How About a Twenty-Six" 4546
kjohnson3macOS 13.7.1 Venturaarm644.5.0 Patched (2025-04-21 r88169) -- "How About a Twenty-Six" 4487
taishanLinux (openEuler 24.03 LTS)aarch644.5.0 (2025-04-11) -- "How About a Twenty-Six" 4441
Click on any hostname to see more info about the system (e.g. compilers)      (*) as reported by 'uname -p', except on Windows and Mac OS X

Package 1261/2304HostnameOS / ArchINSTALLBUILDCHECKBUILD BIN
microbiome 1.31.0  (landing page)
Leo Lahti
Snapshot Date: 2025-05-06 13:00 -0400 (Tue, 06 May 2025)
git_url: https://git.bioconductor.org/packages/microbiome
git_branch: devel
git_last_commit: e858c2f
git_last_commit_date: 2025-04-15 11:13:38 -0400 (Tue, 15 Apr 2025)
nebbiolo2Linux (Ubuntu 24.04.1 LTS) / x86_64  OK    OK    OK  UNNEEDED, same version is already published
palomino8Windows Server 2022 Datacenter / x64  OK    OK    OK    OK  UNNEEDED, same version is already published
lconwaymacOS 12.7.1 Monterey / x86_64  OK    OK    OK    OK  UNNEEDED, same version is already published
kjohnson3macOS 13.7.1 Ventura / arm64  OK    OK    ERROR    OK  
taishanLinux (openEuler 24.03 LTS) / aarch64  OK    OK    OK  


CHECK results for microbiome on lconway

To the developers/maintainers of the microbiome package:
- Allow up to 24 hours (and sometimes 48 hours) for your latest push to git@git.bioconductor.org:packages/microbiome.git to reflect on this report. See Troubleshooting Build Report for more information.
- Use the following Renviron settings to reproduce errors and warnings.
- If 'R CMD check' started to fail recently on the Linux builder(s) over a missing dependency, add the missing dependency to 'Suggests:' in your DESCRIPTION file. See Renviron.bioc for more information.

raw results


Summary

Package: microbiome
Version: 1.31.0
Command: /Library/Frameworks/R.framework/Resources/bin/R CMD check --install=check:microbiome.install-out.txt --library=/Library/Frameworks/R.framework/Resources/library --no-vignettes --timings microbiome_1.31.0.tar.gz
StartedAt: 2025-05-06 21:48:07 -0400 (Tue, 06 May 2025)
EndedAt: 2025-05-06 21:51:46 -0400 (Tue, 06 May 2025)
EllapsedTime: 218.9 seconds
RetCode: 0
Status:   OK  
CheckDir: microbiome.Rcheck
Warnings: 0

Command output

##############################################################################
##############################################################################
###
### Running command:
###
###   /Library/Frameworks/R.framework/Resources/bin/R CMD check --install=check:microbiome.install-out.txt --library=/Library/Frameworks/R.framework/Resources/library --no-vignettes --timings microbiome_1.31.0.tar.gz
###
##############################################################################
##############################################################################


* using log directory ‘/Users/biocbuild/bbs-3.22-bioc/meat/microbiome.Rcheck’
* using R version 4.5.0 Patched (2025-04-21 r88169)
* using platform: x86_64-apple-darwin20
* R was compiled by
    Apple clang version 14.0.0 (clang-1400.0.29.202)
    GNU Fortran (GCC) 14.2.0
* running under: macOS Monterey 12.7.6
* using session charset: UTF-8
* using option ‘--no-vignettes’
* checking for file ‘microbiome/DESCRIPTION’ ... OK
* checking extension type ... Package
* this is package ‘microbiome’ version ‘1.31.0’
* package encoding: UTF-8
* checking package namespace information ... OK
* checking package dependencies ... OK
* checking if this is a source package ... OK
* checking if there is a namespace ... OK
* checking for hidden files and directories ... OK
* checking for portable file names ... OK
* checking for sufficient/correct file permissions ... OK
* checking whether package ‘microbiome’ can be installed ... OK
* checking installed package size ... OK
* checking package directory ... OK
* checking ‘build’ directory ... OK
* checking DESCRIPTION meta-information ... OK
* checking top-level files ... OK
* checking for left-over files ... OK
* checking index information ... OK
* checking package subdirectories ... NOTE
Problems with news in ‘NEWS’:
  Cannot process chunk/lines:
    CHANGES IN VERSION 0.1.2 
    # New features
      o Added plot_abundances function
      o Added Chao1 index in richness function
      o In atlas1006 data set, pseudocount of +1 in otu table has been
        removed to facilitate comparison with sequencing data sets and to
        avoid confusion
      o In atlas1006 data set, only a single replicate per subject-time
        combination is chosen (at random)
      o New function collapse_replicates has been added
    # Major changes
      o Abundance matrices (otu tables) for all example data sets now
        starting from 0 without pseudocount
    # Minor changes
      o Changed the default for the detection argument in the richness function to
        detection=0
      o Color order in plot_landscape legend now follows the factor levels
        of the col argument
      o Various minor fixes; see github commits for many more details
* checking code files for non-ASCII characters ... OK
* checking R files for syntax errors ... OK
* checking whether the package can be loaded ... OK
* checking whether the package can be loaded with stated dependencies ... OK
* checking whether the package can be unloaded cleanly ... OK
* checking whether the namespace can be loaded with stated dependencies ... OK
* checking whether the namespace can be unloaded cleanly ... OK
* checking whether startup messages can be suppressed ... OK
* checking dependencies in R code ... OK
* checking S3 generic/method consistency ... OK
* checking replacement functions ... OK
* checking foreign function calls ... OK
* checking R code for possible problems ... OK
* checking Rd files ... NOTE
checkRd: (-1) bimodality.Rd:51-52: Lost braces in \itemize; meant \describe ?
checkRd: (-1) bimodality.Rd:53-54: Lost braces in \itemize; meant \describe ?
checkRd: (-1) bimodality.Rd:55-58: Lost braces in \itemize; meant \describe ?
checkRd: (-1) bimodality.Rd:38-39: Lost braces in \itemize; \value handles \item{}{} directly
checkRd: (-1) bimodality.Rd:40-41: Lost braces in \itemize; \value handles \item{}{} directly
checkRd: (-1) bimodality.Rd:42-43: Lost braces in \itemize; \value handles \item{}{} directly
checkRd: (-1) bimodality.Rd:91-93: Lost braces in \itemize; meant \describe ?
checkRd: (-1) bimodality.Rd:94-95: Lost braces in \itemize; meant \describe ?
checkRd: (-1) bimodality.Rd:96: Lost braces in \itemize; meant \describe ?
checkRd: (-1) bimodality.Rd:97: Lost braces in \itemize; meant \describe ?
checkRd: (-1) bimodality.Rd:98: Lost braces in \itemize; meant \describe ?
checkRd: (-1) bimodality.Rd:99: Lost braces in \itemize; meant \describe ?
checkRd: (-1) bimodality_sarle.Rd:45: Lost braces in \itemize; meant \describe ?
checkRd: (-1) bimodality_sarle.Rd:46: Lost braces in \itemize; meant \describe ?
checkRd: (-1) bimodality_sarle.Rd:47: Lost braces in \itemize; meant \describe ?
checkRd: (-1) bimodality_sarle.Rd:48: Lost braces in \itemize; meant \describe ?
checkRd: (-1) diversity.Rd:28-29: Lost braces in \itemize; meant \describe ?
checkRd: (-1) diversity.Rd:30-32: Lost braces in \itemize; meant \describe ?
checkRd: (-1) diversity.Rd:33: Lost braces in \itemize; meant \describe ?
checkRd: (-1) diversity.Rd:34: Lost braces in \itemize; meant \describe ?
checkRd: (-1) diversity.Rd:35-36: Lost braces in \itemize; meant \describe ?
checkRd: (-1) dominance.Rd:39-43: Lost braces in \itemize; meant \describe ?
checkRd: (-1) dominance.Rd:44-45: Lost braces in \itemize; meant \describe ?
checkRd: (-1) dominance.Rd:46-48: Lost braces in \itemize; meant \describe ?
checkRd: (-1) dominance.Rd:49-51: Lost braces in \itemize; meant \describe ?
checkRd: (-1) dominance.Rd:52-58: Lost braces in \itemize; meant \describe ?
checkRd: (-1) dominance.Rd:59-60: Lost braces in \itemize; meant \describe ?
checkRd: (-1) dominance.Rd:61-62: Lost braces in \itemize; meant \describe ?
checkRd: (-1) multimodality.Rd:33-34: Lost braces in \itemize; \value handles \item{}{} directly
checkRd: (-1) multimodality.Rd:35-36: Lost braces in \itemize; \value handles \item{}{} directly
checkRd: (-1) multimodality.Rd:37-38: Lost braces in \itemize; \value handles \item{}{} directly
checkRd: (-1) multimodality.Rd:55-57: Lost braces in \itemize; meant \describe ?
checkRd: (-1) multimodality.Rd:58-59: Lost braces in \itemize; meant \describe ?
checkRd: (-1) potential_analysis.Rd:30-31: Lost braces in \itemize; \value handles \item{}{} directly
checkRd: (-1) potential_analysis.Rd:32-33: Lost braces in \itemize; \value handles \item{}{} directly
checkRd: (-1) potential_analysis.Rd:34-35: Lost braces in \itemize; \value handles \item{}{} directly
checkRd: (-1) potential_analysis.Rd:36-37: Lost braces in \itemize; \value handles \item{}{} directly
checkRd: (-1) potential_analysis.Rd:38: Lost braces in \itemize; \value handles \item{}{} directly
checkRd: (-1) potential_analysis.Rd:61-63: Lost braces in \itemize; meant \describe ?
checkRd: (-1) potential_analysis.Rd:64-65: Lost braces in \itemize; meant \describe ?
checkRd: (-1) potential_univariate.Rd:50: Lost braces in \itemize; \value handles \item{}{} directly
checkRd: (-1) potential_univariate.Rd:51-52: Lost braces in \itemize; \value handles \item{}{} directly
checkRd: (-1) potential_univariate.Rd:53: Lost braces in \itemize; \value handles \item{}{} directly
checkRd: (-1) potential_univariate.Rd:54-55: Lost braces in \itemize; \value handles \item{}{} directly
checkRd: (-1) potential_univariate.Rd:56-57: Lost braces in \itemize; \value handles \item{}{} directly
checkRd: (-1) potential_univariate.Rd:58: Lost braces in \itemize; \value handles \item{}{} directly
checkRd: (-1) potential_univariate.Rd:59-60: Lost braces in \itemize; \value handles \item{}{} directly
checkRd: (-1) potential_univariate.Rd:61-62: Lost braces in \itemize; \value handles \item{}{} directly
checkRd: (-1) potential_univariate.Rd:73-75: Lost braces in \itemize; meant \describe ?
checkRd: (-1) potential_univariate.Rd:76-78: Lost braces in \itemize; meant \describe ?
checkRd: (-1) rarity.Rd:35-41: Lost braces in \itemize; meant \describe ?
checkRd: (-1) rarity.Rd:42-44: Lost braces in \itemize; meant \describe ?
checkRd: (-1) rarity.Rd:45-48: Lost braces in \itemize; meant \describe ?
* checking Rd metadata ... OK
* checking Rd cross-references ... NOTE
Found the following Rd file(s) with Rd \link{} targets missing package
anchors:
  TibbleUtilites.Rd: phyloseq-class
  abundances.Rd: phyloseq-class
  add_besthit.Rd: phyloseq-class
  add_refseq.Rd: phyloseq-class
  aggregate_rare.Rd: phyloseq-class
  aggregate_taxa.Rd: phyloseq-class
  alpha.Rd: phyloseq-class, estimate_richness
  atlas1006.Rd: phyloseq-class
  baseline.Rd: phyloseq
  boxplot_abundance.Rd: phyloseq-class, ggplot
  boxplot_alpha.Rd: phyloseq-class, ggplot
  collapse_replicates.Rd: phyloseq-class
  core.Rd: phyloseq-class
  core_abundance.Rd: phyloseq-class
  core_matrix.Rd: phyloseq
  core_members.Rd: phyloseq-class
  coverage.Rd: phyloseq-class
  dietswap.Rd: phyloseq-class
  diversity.Rd: phyloseq-class
  dominance.Rd: phyloseq-class
  dominant.Rd: phyloseq-class
  evenness.Rd: phyloseq-class
  hotplot.Rd: phyloseq-class, ggplot
  inequality.Rd: phyloseq-class
  is_compositional.Rd: phyloseq-class
  low_abundance.Rd: phyloseq-class
  map_levels.Rd: phyloseq, taxonomyTable-class
  merge_taxa2.Rd: phyloseq-class
  meta.Rd: sample_data
  neat.Rd: vegdist
  neatsort.Rd: phyloseq-class, ordinate
  overlap.Rd: phyloseq-class
  peerj32.Rd: phyloseq-class
  plot_composition.Rd: phyloseq-class, ggplot
  plot_core.Rd: phyloseq
  plot_density.Rd: phyloseq-class, ggplot
  plot_frequencies.Rd: ggplot
  plot_landscape.Rd: phyloseq-class, ggplot
  plot_taxa_prevalence.Rd: phyloseq-class, ggplot
  plot_tipping.Rd: phyloseq-class, ggplot
  prevalence.Rd: phyloseq
  psmelt2.Rd: phyloseq-class
  rare.Rd: phyloseq-class
  rare_abundance.Rd: phyloseq-class
  rare_members.Rd: phyloseq-class
  rarity.Rd: phyloseq-class
  read_biom2phyloseq.Rd: phyloseq-class
  read_csv2phyloseq.Rd: phyloseq-class
  read_mothur2phyloseq.Rd: phyloseq-class
  read_phyloseq.Rd: phyloseq-class
  readcount.Rd: phyloseq-class
  remove_samples.Rd: phyloseq-class
  remove_taxa.Rd: phyloseq-class
  richness.Rd: phyloseq-class
  spreadplot.Rd: phyloseq-class
  summarize_phyloseq.Rd: phyloseq-class
  taxa.Rd: phyloseq-class
  transform.Rd: phyloseq-class, phyloseq
Please provide package anchors for all Rd \link{} targets not in the
package itself and the base packages.
* checking for missing documentation entries ... OK
* checking for code/documentation mismatches ... OK
* checking Rd \usage sections ... OK
* checking Rd contents ... OK
* checking for unstated dependencies in examples ... OK
* checking contents of ‘data’ directory ... OK
* checking data for non-ASCII characters ... OK
* checking data for ASCII and uncompressed saves ... OK
* checking files in ‘vignettes’ ... OK
* checking examples ... OK
Examples with CPU (user + system) or elapsed time > 5s
          user system elapsed
overlap 17.466  1.509  19.182
* checking for unstated dependencies in ‘tests’ ... OK
* checking tests ...
  Running ‘testthat.R’
 OK
* checking for unstated dependencies in vignettes ... OK
* checking package vignettes ... OK
* checking running R code from vignettes ... SKIPPED
* checking re-building of vignette outputs ... SKIPPED
* checking PDF version of manual ... OK
* DONE

Status: 3 NOTEs
See
  ‘/Users/biocbuild/bbs-3.22-bioc/meat/microbiome.Rcheck/00check.log’
for details.


Installation output

microbiome.Rcheck/00install.out

##############################################################################
##############################################################################
###
### Running command:
###
###   /Library/Frameworks/R.framework/Resources/bin/R CMD INSTALL microbiome
###
##############################################################################
##############################################################################


* installing to library ‘/Library/Frameworks/R.framework/Versions/4.5-x86_64/Resources/library’
* installing *source* package ‘microbiome’ ...
** this is package ‘microbiome’ version ‘1.31.0’
** using staged installation
** R
** data
** inst
** byte-compile and prepare package for lazy loading
** help
*** installing help indices
** building package indices
** installing vignettes
** testing if installed package can be loaded from temporary location
** testing if installed package can be loaded from final location
** testing if installed package keeps a record of temporary installation path
* DONE (microbiome)

Tests output

microbiome.Rcheck/tests/testthat.Rout


R version 4.5.0 Patched (2025-04-21 r88169) -- "How About a Twenty-Six"
Copyright (C) 2025 The R Foundation for Statistical Computing
Platform: x86_64-apple-darwin20

R is free software and comes with ABSOLUTELY NO WARRANTY.
You are welcome to redistribute it under certain conditions.
Type 'license()' or 'licence()' for distribution details.

R is a collaborative project with many contributors.
Type 'contributors()' for more information and
'citation()' on how to cite R or R packages in publications.

Type 'demo()' for some demos, 'help()' for on-line help, or
'help.start()' for an HTML browser interface to help.
Type 'q()' to quit R.

> library(testthat)
> test_check("microbiome")
Loading required package: microbiome
Loading required package: phyloseq
Loading required package: ggplot2

microbiome R package (microbiome.github.com)
    


 Copyright (C) 2011-2022 Leo Lahti, 
    Sudarshan Shetty et al. <microbiome.github.io>


Attaching package: 'microbiome'

The following object is masked from 'package:ggplot2':

    alpha

The following object is masked from 'package:base':

    transform

[ FAIL 0 | WARN 3 | SKIP 1 | PASS 83 ]

══ Skipped tests (1) ═══════════════════════════════════════════════════════════
• On Bioconductor (1): 'test_divergence.R:5:3'

[ FAIL 0 | WARN 3 | SKIP 1 | PASS 83 ]
> 
> proc.time()
   user  system elapsed 
 13.079   0.758  13.928 

Example timings

microbiome.Rcheck/microbiome-Ex.timings

nameusersystemelapsed
TibbleUtilites0.7500.0100.764
abundances0.0050.0020.007
add_besthit0.0000.0010.000
add_refseq000
aggregate_rare0.2870.0130.300
aggregate_taxa0.1130.0140.126
alpha0.0130.0030.016
associate0.0410.0060.048
baseline0.0380.0040.042
bimodality0.0010.0000.001
bimodality_sarle000
boxplot_abundance0.1110.0090.120
boxplot_alpha0.3870.0080.396
chunk_reorder0.0000.0000.001
cmat2table0.0820.0040.086
collapse_replicates0.0480.0030.052
core0.0390.0030.044
core_abundance0.0390.0040.043
core_matrix000
core_members0.0090.0020.011
coverage0.0570.0040.062
default_colors000
densityplot0.0000.0010.000
divergence0.5480.0040.553
diversity0.0130.0030.017
dominance0.0090.0020.010
dominant0.0090.0020.010
estimate_stability000
evenness0.0080.0020.009
find_optima0.0000.0010.001
gktau0.0090.0020.012
group_age0.0200.0020.022
group_bmi0.0000.0000.001
heat0.0570.0080.066
hotplot0.2780.0140.293
inequality0.0240.0040.028
intermediate_stability0.5370.0060.545
is_compositional0.0680.0020.071
log_modulo_skewness0.1050.0050.112
low_abundance0.0130.0020.016
map_levels0.0500.0020.052
merge_taxa20.0280.0020.031
meta0.0060.0020.007
microbiome-package0.0120.0020.013
multimodality000
neat0.0950.0050.099
neatsort0.1220.0050.129
overlap17.466 1.50919.182
plot_atlas0.0550.0030.059
plot_composition0.2460.0050.254
plot_core0.0760.0040.081
plot_density0.0480.0020.051
plot_frequencies0.0250.0020.027
plot_landscape0.8310.0330.871
plot_regression0.1780.0090.188
plot_taxa_prevalence0.4470.0050.455
plot_tipping0.1060.0040.111
potential_analysis0.0330.0020.035
potential_univariate000
prevalence0.0100.0010.011
psmelt20.0930.0040.099
quiet0.0000.0000.001
rare0.0230.0020.024
rare_abundance0.0370.0030.042
rare_members0.0070.0010.008
rarity0.0750.0020.078
read_biom2phyloseq000
read_csv2phyloseq000
read_mothur2phyloseq000
read_phyloseq000
readcount0.0060.0020.007
remove_samples0.0160.0020.018
remove_taxa0.0200.0020.022
richness0.0300.0030.033
spreadplot0.0670.0030.070
summarize_phyloseq0.0140.0010.015
taxa0.0050.0010.007
time_normalize0.0310.0010.033
time_sort0.1240.0030.127
timesplit0.1090.0030.111
top0.0070.0020.009
top_taxa0.0060.0020.008
transform0.3490.0190.372
ztransform000