Back to Multiple platform build/check report for BioC 3.23:   simplified   long
ABCDEFGHIJKL[M]NOPQRSTUVWXYZ

This page was generated on 2025-11-20 11:37 -0500 (Thu, 20 Nov 2025).

HostnameOSArch (*)R versionInstalled pkgs
nebbiolo1Linux (Ubuntu 24.04.3 LTS)x86_64R Under development (unstable) (2025-10-20 r88955) -- "Unsuffered Consequences" 4827
lconwaymacOS 12.7.6 Montereyx86_64R Under development (unstable) (2025-10-21 r88958) -- "Unsuffered Consequences" 4600
kjohnson3macOS 13.7.7 Venturaarm64R Under development (unstable) (2025-11-04 r88984) -- "Unsuffered Consequences" 4564
Click on any hostname to see more info about the system (e.g. compilers)      (*) as reported by 'uname -p', except on Windows and Mac OS X

All results for package mia


To the developers/maintainers of the mia package:
- Allow up to 24 hours (and sometimes 48 hours) for your latest push to git@git.bioconductor.org:packages/mia.git to reflect on this report. See Troubleshooting Build Report for more information.
- Use the following Renviron settings to reproduce errors and warnings.
- If 'R CMD check' started to fail recently on the Linux builder(s) over a missing dependency, add the missing dependency to 'Suggests:' in your DESCRIPTION file. See Renviron.bioc for more information.

raw results

Package 1270/2325HostnameOS / ArchINSTALLBUILDCHECKBUILD BIN
mia 1.19.0  (landing page)
Tuomas Borman
Snapshot Date: 2025-11-19 13:40 -0500 (Wed, 19 Nov 2025)
git_url: https://git.bioconductor.org/packages/mia
git_branch: devel
git_last_commit: ba530f5
git_last_commit_date: 2025-10-29 11:07:20 -0500 (Wed, 29 Oct 2025)
nebbiolo1Linux (Ubuntu 24.04.3 LTS) / x86_64  OK    OK    OK  UNNEEDED, same version is already published
lconwaymacOS 12.7.6 Monterey / x86_64  OK    OK    TIMEOUT    OK  
kjohnson3macOS 13.7.7 Ventura / arm64  OK    OK    ERROR    OK  



Results for Bioconductor software packages that depend directly on package mia

QUICK STATSOS / ArchINSTALLBUILDCHECKBUILD BIN
nebbiolo1Linux (Ubuntu 24.04.3 LTS) / x86_64
016
016
0006
lconwaymacOS 12.7.6 Monterey / x86_64
016
016
0105
006
kjohnson3macOS 13.7.7 Ventura / arm64
016
016
0105
006
Package 1/7HostnameOS / ArchINSTALLBUILDCHECKBUILD BIN
dar 1.7.0  (landing page)
Francesc Catala-Moll
git_last_commit: 6a93481
git_last_commit_date: 2025-10-29 11:27:31 -0500
nebbiolo1Linux (Ubuntu 24.04.3 LTS) / x86_64  OK    OK    OK  UNNEEDED, same version is already published
lconwaymacOS 12.7.6 Monterey / x86_64  OK    OK    OK    OK  NO, package depends on 'mia' which is only available as a source package that needs compilation
kjohnson3macOS 13.7.7 Ventura / arm64  OK    OK    OK    OK  NO, package depends on 'mia' which is only available as a source package that needs compilation
Package 2/7HostnameOS / ArchINSTALLBUILDCHECKBUILD BIN
iSEEtree 1.5.0  (landing page)
Giulio Benedetti
git_last_commit: 63da959
git_last_commit_date: 2025-10-29 11:31:13 -0500
nebbiolo1Linux (Ubuntu 24.04.3 LTS) / x86_64  OK    OK    OK  UNNEEDED, same version is already published
lconwaymacOS 12.7.6 Monterey / x86_64  OK    OK    OK    OK  NO, package depends on 'mia' which is only available as a source package that needs compilation
kjohnson3macOS 13.7.7 Ventura / arm64  OK    OK    OK    OK  NO, package depends on 'mia' which is only available as a source package that needs compilation
Package 3/7HostnameOS / ArchINSTALLBUILDCHECKBUILD BIN
lefser 1.21.7  (landing page)
Sehyun Oh
git_last_commit: 333fd24
git_last_commit_date: 2025-11-17 17:51:54 -0500
nebbiolo1Linux (Ubuntu 24.04.3 LTS) / x86_64  OK    OK    OK  UNNEEDED, same version is already published
lconwaymacOS 12.7.6 Monterey / x86_64  OK    OK    ERROR    OK  
kjohnson3macOS 13.7.7 Ventura / arm64  OK    OK    ERROR    OK  
Package 4/7HostnameOS / ArchINSTALLBUILDCHECKBUILD BIN
MGnifyR 1.7.0  (landing page)
Tuomas Borman
git_last_commit: d6f3e14
git_last_commit_date: 2025-10-29 11:28:57 -0500
nebbiolo1Linux (Ubuntu 24.04.3 LTS) / x86_64  ERROR    ERROR  skipped
lconwaymacOS 12.7.6 Monterey / x86_64  ERROR    ERROR  skippedskipped
kjohnson3macOS 13.7.7 Ventura / arm64  ERROR    ERROR  skippedskipped
Package 5/7HostnameOS / ArchINSTALLBUILDCHECKBUILD BIN
miaDash 1.3.0  (landing page)
Giulio Benedetti
git_last_commit: 320315c
git_last_commit_date: 2025-10-29 11:35:29 -0500
nebbiolo1Linux (Ubuntu 24.04.3 LTS) / x86_64  OK    OK    OK  UNNEEDED, same version is already published
lconwaymacOS 12.7.6 Monterey / x86_64  OK    OK    OK    OK  NO, package depends on 'mia' which is only available as a source package that needs compilation
kjohnson3macOS 13.7.7 Ventura / arm64  OK    OK    OK    OK  NO, package depends on 'mia' which is only available as a source package that needs compilation
Package 6/7HostnameOS / ArchINSTALLBUILDCHECKBUILD BIN
miaTime 1.1.0  (landing page)
Tuomas Borman
git_last_commit: 411484f
git_last_commit_date: 2025-10-29 11:37:15 -0500
nebbiolo1Linux (Ubuntu 24.04.3 LTS) / x86_64  OK    OK    OK  UNNEEDED, same version is already published
lconwaymacOS 12.7.6 Monterey / x86_64  OK    OK    OK    OK  NO, package depends on 'mia' which is only available as a source package that needs compilation
kjohnson3macOS 13.7.7 Ventura / arm64  OK    OK    OK    OK  NO, package depends on 'mia' which is only available as a source package that needs compilation
Package 7/7HostnameOS / ArchINSTALLBUILDCHECKBUILD BIN
miaViz 1.19.1  (landing page)
Tuomas Borman
git_last_commit: 894e603
git_last_commit_date: 2025-11-09 03:01:57 -0500
nebbiolo1Linux (Ubuntu 24.04.3 LTS) / x86_64  OK    OK    OK  UNNEEDED, same version is already published
lconwaymacOS 12.7.6 Monterey / x86_64  OK    OK    OK    OK  NO, package depends on 'mia' which is only available as a source package that needs compilation
kjohnson3macOS 13.7.7 Ventura / arm64  OK    OK    OK    OK  NO, package depends on 'mia' which is only available as a source package that needs compilation