| Back to Multiple platform build/check report for BioC 3.22: simplified long | 
 | 
This page was generated on 2025-10-24 12:06 -0400 (Fri, 24 Oct 2025).
| Hostname | OS | Arch (*) | R version | Installed pkgs | 
|---|---|---|---|---|
| nebbiolo2 | Linux (Ubuntu 24.04.3 LTS) | x86_64 | 4.5.1 Patched (2025-08-23 r88802) -- "Great Square Root" | 4898 | 
| lconway | macOS 12.7.6 Monterey | x86_64 | 4.5.1 Patched (2025-09-10 r88807) -- "Great Square Root" | 4688 | 
| kjohnson3 | macOS 13.7.7 Ventura | arm64 | 4.5.1 Patched (2025-09-10 r88807) -- "Great Square Root" | 4634 | 
| taishan | Linux (openEuler 24.03 LTS) | aarch64 | 4.5.0 (2025-04-11) -- "How About a Twenty-Six" | 4658 | 
| Click on any hostname to see more info about the system (e.g. compilers) (*) as reported by 'uname -p', except on Windows and Mac OS X | ||||
| Package 1270/2359 | Hostname | OS / Arch | INSTALL | BUILD | CHECK | BUILD BIN | ||||||||
| methylInheritance 1.33.1  (landing page) Astrid Deschênes 
 | nebbiolo2 | Linux (Ubuntu 24.04.3 LTS) / x86_64 | OK | OK | OK |  | ||||||||
| lconway | macOS 12.7.6 Monterey / x86_64 | OK | OK | OK | OK |  | ||||||||
| kjohnson3 | macOS 13.7.7 Ventura / arm64 | OK | OK | OK | OK |  | ||||||||
| taishan | Linux (openEuler 24.03 LTS) / aarch64 | OK | OK | NA | ||||||||||
| To the developers/maintainers of the methylInheritance package: - Allow up to 24 hours (and sometimes 48 hours) for your latest push to git@git.bioconductor.org:packages/methylInheritance.git to reflect on this report. See Troubleshooting Build Report for more information. - Use the following Renviron settings to reproduce errors and warnings. - If 'R CMD check' started to fail recently on the Linux builder(s) over a missing dependency, add the missing dependency to 'Suggests:' in your DESCRIPTION file. See Renviron.bioc for more information. | 
| Package: methylInheritance | 
| Version: 1.33.1 | 
| Command: /Library/Frameworks/R.framework/Resources/bin/R CMD check --install=check:methylInheritance.install-out.txt --library=/Library/Frameworks/R.framework/Resources/library --no-vignettes --timings methylInheritance_1.33.1.tar.gz | 
| StartedAt: 2025-10-23 20:44:57 -0400 (Thu, 23 Oct 2025) | 
| EndedAt: 2025-10-23 20:48:09 -0400 (Thu, 23 Oct 2025) | 
| EllapsedTime: 192.2 seconds | 
| RetCode: 0 | 
| Status: OK | 
| CheckDir: methylInheritance.Rcheck | 
| Warnings: 0 | 
##############################################################################
##############################################################################
###
### Running command:
###
###   /Library/Frameworks/R.framework/Resources/bin/R CMD check --install=check:methylInheritance.install-out.txt --library=/Library/Frameworks/R.framework/Resources/library --no-vignettes --timings methylInheritance_1.33.1.tar.gz
###
##############################################################################
##############################################################################
* using log directory ‘/Users/biocbuild/bbs-3.22-bioc/meat/methylInheritance.Rcheck’
* using R version 4.5.1 Patched (2025-09-10 r88807)
* using platform: aarch64-apple-darwin20
* R was compiled by
    Apple clang version 16.0.0 (clang-1600.0.26.6)
    GNU Fortran (GCC) 14.2.0
* running under: macOS Ventura 13.7.7
* using session charset: UTF-8
* using option ‘--no-vignettes’
* checking for file ‘methylInheritance/DESCRIPTION’ ... OK
* this is package ‘methylInheritance’ version ‘1.33.1’
* package encoding: UTF-8
* checking package namespace information ... OK
* checking package dependencies ... OK
* checking if this is a source package ... OK
* checking if there is a namespace ... OK
* checking for hidden files and directories ... OK
* checking for portable file names ... OK
* checking for sufficient/correct file permissions ... OK
* checking whether package ‘methylInheritance’ can be installed ... OK
* checking installed package size ... OK
* checking package directory ... OK
* checking ‘build’ directory ... OK
* checking DESCRIPTION meta-information ... OK
* checking top-level files ... OK
* checking for left-over files ... OK
* checking index information ... OK
* checking package subdirectories ... OK
* checking code files for non-ASCII characters ... OK
* checking R files for syntax errors ... OK
* checking whether the package can be loaded ... OK
* checking whether the package can be loaded with stated dependencies ... OK
* checking whether the package can be unloaded cleanly ... OK
* checking whether the namespace can be loaded with stated dependencies ... OK
* checking whether the namespace can be unloaded cleanly ... OK
* checking dependencies in R code ... OK
* checking S3 generic/method consistency ... OK
* checking replacement functions ... OK
* checking foreign function calls ... OK
* checking R code for possible problems ... OK
* checking Rd files ... OK
* checking Rd metadata ... OK
* checking Rd cross-references ... OK
* checking for missing documentation entries ... OK
* checking for code/documentation mismatches ... OK
* checking Rd \usage sections ... OK
* checking Rd contents ... OK
* checking for unstated dependencies in examples ... OK
* checking contents of ‘data’ directory ... OK
* checking data for non-ASCII characters ... OK
* checking data for ASCII and uncompressed saves ... OK
* checking files in ‘vignettes’ ... OK
* checking examples ... OK
Examples with CPU (user + system) or elapsed time > 5s
                                      user system elapsed
runPermutation                      30.694  0.619  32.903
runObservation                      15.242  0.279  16.004
samplesForTransgenerationalAnalysis 11.113  0.406  12.090
* checking for unstated dependencies in ‘tests’ ... OK
* checking tests ...
  Running ‘runTests.R’
 OK
* checking for unstated dependencies in vignettes ... OK
* checking package vignettes ... OK
* checking running R code from vignettes ... SKIPPED
* checking re-building of vignette outputs ... SKIPPED
* checking PDF version of manual ... OK
* DONE
Status: OK
methylInheritance.Rcheck/00install.out
############################################################################## ############################################################################## ### ### Running command: ### ### /Library/Frameworks/R.framework/Resources/bin/R CMD INSTALL methylInheritance ### ############################################################################## ############################################################################## * installing to library ‘/Library/Frameworks/R.framework/Versions/4.5-arm64/Resources/library’ * installing *source* package ‘methylInheritance’ ... ** this is package ‘methylInheritance’ version ‘1.33.1’ ** using staged installation ** R ** data ** inst ** byte-compile and prepare package for lazy loading ** help *** installing help indices ** building package indices ** installing vignettes ** testing if installed package can be loaded from temporary location ** testing if installed package can be loaded from final location ** testing if installed package keeps a record of temporary installation path * DONE (methylInheritance)
methylInheritance.Rcheck/tests/runTests.Rout
R version 4.5.1 Patched (2025-09-10 r88807) -- "Great Square Root"
Copyright (C) 2025 The R Foundation for Statistical Computing
Platform: aarch64-apple-darwin20
R is free software and comes with ABSOLUTELY NO WARRANTY.
You are welcome to redistribute it under certain conditions.
Type 'license()' or 'licence()' for distribution details.
R is a collaborative project with many contributors.
Type 'contributors()' for more information and
'citation()' on how to cite R or R packages in publications.
Type 'demo()' for some demos, 'help()' for on-line help, or
'help.start()' for an HTML browser interface to help.
Type 'q()' to quit R.
> ## Run all tests presnt in the package
> BiocGenerics:::testPackage("methylInheritance")
Loading required package: stats4
Loading required package: BiocGenerics
Loading required package: generics
Attaching package: 'generics'
The following objects are masked from 'package:base':
    as.difftime, as.factor, as.ordered, intersect, is.element, setdiff,
    setequal, union
Attaching package: 'BiocGenerics'
The following objects are masked from 'package:stats':
    IQR, mad, sd, var, xtabs
The following objects are masked from 'package:base':
    Filter, Find, Map, Position, Reduce, anyDuplicated, aperm, append,
    as.data.frame, basename, cbind, colnames, dirname, do.call,
    duplicated, eval, evalq, get, grep, grepl, is.unsorted, lapply,
    mapply, match, mget, order, paste, pmax, pmax.int, pmin, pmin.int,
    rank, rbind, rownames, sapply, saveRDS, table, tapply, unique,
    unsplit, which.max, which.min
Loading required package: S4Vectors
Attaching package: 'S4Vectors'
The following object is masked from 'package:utils':
    findMatches
The following objects are masked from 'package:base':
    I, expand.grid, unname
Loading required package: IRanges
Loading required package: Seqinfo
uniting...
uniting...
uniting...
uniting...
uniting...
uniting...
uniting...
uniting...
uniting...
uniting...
uniting...
uniting...
uniting...
uniting...
uniting...
uniting...
uniting...
uniting...
Permutation Analysis
Number of Generations:  3 
Number of Permutations:  20 
Observation Results: 
        SOURCE ELEMENT ANALYSIS   TYPE RESULT
1  OBSERVATION   SITES       i2 HYPER1      4
2  OBSERVATION   SITES       i2 HYPER2      1
3  OBSERVATION   SITES       i2  HYPO1      2
4  OBSERVATION   SITES       i2  HYPO2      2
5  OBSERVATION   SITES     iAll  HYPER      0
6  OBSERVATION   SITES     iAll   HYPO      0
7  OBSERVATION   TILES       i2 HYPER1   1000
8  OBSERVATION   TILES       i2 HYPER2      0
9  OBSERVATION   TILES       i2  HYPO1      0
10 OBSERVATION   TILES       i2  HYPO2      0
11 OBSERVATION   TILES     iAll  HYPER      0
12 OBSERVATION   TILES     iAll   HYPO      0
RUNIT TEST PROTOCOL -- Thu Oct 23 20:48:04 2025 
*********************************************** 
Number of test functions: 75 
Number of errors: 0 
Number of failures: 0 
 
1 Test Suite : 
methylInheritance RUnit Tests - 75 test functions, 0 errors, 0 failures
Number of test functions: 75 
Number of errors: 0 
Number of failures: 0 
Warning messages:
1: In max(i) : no non-missing arguments to max; returning -Inf
2: In max(i) : no non-missing arguments to max; returning -Inf
> 
> proc.time()
   user  system elapsed 
 13.132   0.315  13.664 
methylInheritance.Rcheck/methylInheritance-Ex.timings
| name | user | system | elapsed | |
| calculateSignificantLevel | 0.006 | 0.001 | 0.009 | |
| createDataStructure | 0.018 | 0.002 | 0.026 | |
| createOutputDir | 0.000 | 0.000 | 0.002 | |
| demoForTransgenerationalAnalysis | 1.690 | 0.031 | 1.886 | |
| extractInfo | 0.059 | 0.002 | 0.079 | |
| formatInputMethylData | 0.089 | 0.015 | 0.137 | |
| getGRangesFromMethylDiff | 0.037 | 0.001 | 0.043 | |
| interGeneration | 0.312 | 0.002 | 0.334 | |
| isInterGenerationResults | 0.001 | 0.000 | 0.000 | |
| loadAllRDSResults | 0.050 | 0.001 | 0.051 | |
| loadConvergenceData | 0.059 | 0.001 | 0.067 | |
| mergePermutationAndObservation | 0.001 | 0.001 | 0.001 | |
| methylInheritanceAllResults | 0.001 | 0.001 | 0.002 | |
| methylInheritanceResults | 0.004 | 0.001 | 0.006 | |
| plotConvergenceGraph | 0.191 | 0.004 | 0.225 | |
| plotGraph | 0.150 | 0.003 | 0.178 | |
| readInterGenerationResults | 0.011 | 0.001 | 0.015 | |
| runObservation | 15.242 | 0.279 | 16.004 | |
| runOnePermutationOnAllGenerations | 3.823 | 0.113 | 4.072 | |
| runPermutation | 30.694 | 0.619 | 32.903 | |
| samplesForTransgenerationalAnalysis | 11.113 | 0.406 | 12.090 | |
| saveInterGenerationResults | 0.294 | 0.002 | 0.304 | |
| validateExtractInfo | 0.000 | 0.001 | 0.001 | |
| validateLoadConvergenceData | 0.001 | 0.000 | 0.001 | |
| validateMergePermutationAndObservation | 0 | 0 | 0 | |
| validateRunObservation | 0.050 | 0.003 | 0.054 | |
| validateRunPermutation | 0.050 | 0.003 | 0.061 | |