| Back to Multiple platform build/check report for BioC 3.23: simplified long |
|
This page was generated on 2025-11-27 11:38 -0500 (Thu, 27 Nov 2025).
| Hostname | OS | Arch (*) | R version | Installed pkgs |
|---|---|---|---|---|
| nebbiolo1 | Linux (Ubuntu 24.04.3 LTS) | x86_64 | R Under development (unstable) (2025-10-20 r88955) -- "Unsuffered Consequences" | 4865 |
| lconway | macOS 12.7.6 Monterey | x86_64 | R Under development (unstable) (2025-10-21 r88958) -- "Unsuffered Consequences" | 4614 |
| kjohnson3 | macOS 13.7.7 Ventura | arm64 | R Under development (unstable) (2025-11-04 r88984) -- "Unsuffered Consequences" | 4571 |
| Click on any hostname to see more info about the system (e.g. compilers) (*) as reported by 'uname -p', except on Windows and Mac OS X | ||||
| Package 1190/2328 | Hostname | OS / Arch | INSTALL | BUILD | CHECK | BUILD BIN | ||||||||
| matter 2.13.0 (landing page) Kylie A. Bemis
| nebbiolo1 | Linux (Ubuntu 24.04.3 LTS) / x86_64 | OK | OK | OK | |||||||||
| lconway | macOS 12.7.6 Monterey / x86_64 | OK | OK | ERROR | OK | |||||||||
| kjohnson3 | macOS 13.7.7 Ventura / arm64 | OK | OK | WARNINGS | OK | |||||||||
|
To the developers/maintainers of the matter package: - Allow up to 24 hours (and sometimes 48 hours) for your latest push to git@git.bioconductor.org:packages/matter.git to reflect on this report. See Troubleshooting Build Report for more information. - Use the following Renviron settings to reproduce errors and warnings. - If 'R CMD check' started to fail recently on the Linux builder(s) over a missing dependency, add the missing dependency to 'Suggests:' in your DESCRIPTION file. See Renviron.bioc for more information. |
| Package: matter |
| Version: 2.13.0 |
| Command: /Library/Frameworks/R.framework/Resources/bin/R CMD check --install=check:matter.install-out.txt --library=/Library/Frameworks/R.framework/Resources/library --no-vignettes --timings matter_2.13.0.tar.gz |
| StartedAt: 2025-11-26 22:08:35 -0500 (Wed, 26 Nov 2025) |
| EndedAt: 2025-11-26 22:12:45 -0500 (Wed, 26 Nov 2025) |
| EllapsedTime: 250.0 seconds |
| RetCode: 1 |
| Status: ERROR |
| CheckDir: matter.Rcheck |
| Warnings: NA |
##############################################################################
##############################################################################
###
### Running command:
###
### /Library/Frameworks/R.framework/Resources/bin/R CMD check --install=check:matter.install-out.txt --library=/Library/Frameworks/R.framework/Resources/library --no-vignettes --timings matter_2.13.0.tar.gz
###
##############################################################################
##############################################################################
* using log directory ‘/Users/biocbuild/bbs-3.23-bioc/meat/matter.Rcheck’
* using R Under development (unstable) (2025-10-21 r88958)
* using platform: x86_64-apple-darwin20
* R was compiled by
Apple clang version 14.0.0 (clang-1400.0.29.202)
GNU Fortran (GCC) 14.2.0
* running under: macOS Ventura 13.7.8
* using session charset: UTF-8
* using option ‘--no-vignettes’
* checking for file ‘matter/DESCRIPTION’ ... OK
* checking extension type ... Package
* this is package ‘matter’ version ‘2.13.0’
* checking package namespace information ... OK
* checking package dependencies ... OK
* checking if this is a source package ... OK
* checking if there is a namespace ... OK
* checking for hidden files and directories ... OK
* checking for portable file names ... OK
* checking for sufficient/correct file permissions ... OK
* checking whether package ‘matter’ can be installed ... OK
* used C++ compiler: ‘Apple clang version 14.0.3 (clang-1403.0.22.14.1)’
* used SDK: ‘MacOSX11.3.1.sdk’
* checking installed package size ... OK
* checking package directory ... OK
* checking ‘build’ directory ... OK
* checking DESCRIPTION meta-information ... OK
* checking top-level files ... OK
* checking for left-over files ... OK
* checking index information ... OK
* checking package subdirectories ... OK
* checking code files for non-ASCII characters ... OK
* checking R files for syntax errors ... OK
* checking whether the package can be loaded ... OK
* checking whether the package can be loaded with stated dependencies ... OK
* checking whether the package can be unloaded cleanly ... OK
* checking whether the namespace can be loaded with stated dependencies ... OK
* checking whether the namespace can be unloaded cleanly ... OK
* checking whether startup messages can be suppressed ... OK
* checking dependencies in R code ... OK
* checking S3 generic/method consistency ... OK
* checking replacement functions ... OK
* checking foreign function calls ... OK
* checking R code for possible problems ... OK
* checking Rd files ... OK
* checking Rd metadata ... OK
* checking Rd cross-references ... NOTE
Found the following Rd file(s) with Rd \link{} targets missing package
anchors:
SnowfastParam-class.Rd: SnowParam, BiocParallelParam, MulticoreParam
checksum.Rd: digest
chunkApply.Rd: bplapply
colscale.Rd: bplapply
cv_do.Rd: bplapply
matter-options.Rd: bplapply
nscentroids.Rd: bplapply
pls.Rd: bplapply
prcomp.Rd: bplapply
rowDists.Rd: bplapply
rowStats.Rd: bplapply
sgmix.Rd: bplapply
Please provide package anchors for all Rd \link{} targets not in the
package itself and the base packages.
* checking for missing documentation entries ... OK
* checking for code/documentation mismatches ... OK
* checking Rd \usage sections ... OK
* checking Rd contents ... OK
* checking for unstated dependencies in examples ... OK
* checking line endings in C/C++/Fortran sources/headers ... OK
* checking compiled code ... NOTE
Note: information on .o files is not available
File ‘matter/libs/matter.so’:
Found non-API calls to R: ‘DATAPTR’, ‘R_tryWrap’, ‘STRING_PTR’
Compiled code should not call non-API entry points in R.
See ‘Writing portable packages’ in the ‘Writing R Extensions’ manual,
and section ‘Moving into C API compliance’ for issues with the use of
non-API entry points.
* checking files in ‘vignettes’ ... OK
* checking examples ... OK
Examples with CPU (user + system) or elapsed time > 5s
user system elapsed
sgmix 8.014 0.12 8.182
* checking for unstated dependencies in ‘tests’ ... OK
* checking tests ...
Running ‘testthat.R’
ERROR
Running the tests in ‘tests/testthat.R’ failed.
Last 13 lines of output:
7. ├─BiocParallel::bploop(...)
8. └─BiocParallel:::bploop.lapply(...)
9. └─BiocParallel:::.bploop_impl(...)
10. ├─BiocParallel::.manager_send(manager, task)
11. └─BiocParallel::.manager_send(manager, task)
12. ├─BiocParallel::.send_to(manager$backend, as.integer(worker), value)
13. └─BiocParallel::.send_to(manager$backend, as.integer(worker), value)
14. ├─parallel:::sendData(backend[[node]], value)
15. └─parallel:::sendData.SOCK0node(backend[[node]], value)
16. └─base::serialize(data, node$con, xdr = FALSE)
[ FAIL 1 | WARN 0 | SKIP 0 | PASS 2076 ]
Error:
! Test failures.
Execution halted
* checking for unstated dependencies in vignettes ... OK
* checking package vignettes ... OK
* checking running R code from vignettes ... SKIPPED
* checking re-building of vignette outputs ... SKIPPED
* checking PDF version of manual ... OK
* DONE
Status: 1 ERROR, 2 NOTEs
See
‘/Users/biocbuild/bbs-3.23-bioc/meat/matter.Rcheck/00check.log’
for details.
matter.Rcheck/00install.out
############################################################################## ############################################################################## ### ### Running command: ### ### /Library/Frameworks/R.framework/Resources/bin/R CMD INSTALL matter ### ############################################################################## ############################################################################## * installing to library ‘/Library/Frameworks/R.framework/Versions/4.6-x86_64/Resources/library’ * installing *source* package ‘matter’ ... ** this is package ‘matter’ version ‘2.13.0’ ** using staged installation ** libs using C++ compiler: ‘Apple clang version 14.0.3 (clang-1403.0.22.14.1)’ using SDK: ‘MacOSX11.3.1.sdk’ clang++ -arch x86_64 -std=gnu++17 -I"/Library/Frameworks/R.framework/Resources/include" -DNDEBUG -I'/Library/Frameworks/R.framework/Versions/4.6-x86_64/Resources/library/BH/include' -I/opt/R/x86_64/include -fPIC -falign-functions=64 -Wall -g -O2 -c altrep.cpp -o altrep.o clang++ -arch x86_64 -std=gnu++17 -I"/Library/Frameworks/R.framework/Resources/include" -DNDEBUG -I'/Library/Frameworks/R.framework/Versions/4.6-x86_64/Resources/library/BH/include' -I/opt/R/x86_64/include -fPIC -falign-functions=64 -Wall -g -O2 -c init.cpp -o init.o clang++ -arch x86_64 -std=gnu++17 -I"/Library/Frameworks/R.framework/Resources/include" -DNDEBUG -I'/Library/Frameworks/R.framework/Versions/4.6-x86_64/Resources/library/BH/include' -I/opt/R/x86_64/include -fPIC -falign-functions=64 -Wall -g -O2 -c matterExports.cpp -o matterExports.o clang++ -arch x86_64 -std=gnu++17 -dynamiclib -Wl,-headerpad_max_install_names -undefined dynamic_lookup -L/Library/Frameworks/R.framework/Resources/lib -L/opt/R/x86_64/lib -o matter.so altrep.o init.o matterExports.o -F/Library/Frameworks/R.framework/.. -framework R installing to /Library/Frameworks/R.framework/Versions/4.6-x86_64/Resources/library/00LOCK-matter/00new/matter/libs ** R ** byte-compile and prepare package for lazy loading ** help *** installing help indices ** building package indices ** installing vignettes ** testing if installed package can be loaded from temporary location ** checking absolute paths in shared objects and dynamic libraries ** testing if installed package can be loaded from final location ** testing if installed package keeps a record of temporary installation path * DONE (matter)
matter.Rcheck/tests/testthat.Rout.fail
R Under development (unstable) (2025-10-21 r88958) -- "Unsuffered Consequences"
Copyright (C) 2025 The R Foundation for Statistical Computing
Platform: x86_64-apple-darwin20
R is free software and comes with ABSOLUTELY NO WARRANTY.
You are welcome to redistribute it under certain conditions.
Type 'license()' or 'licence()' for distribution details.
R is a collaborative project with many contributors.
Type 'contributors()' for more information and
'citation()' on how to cite R or R packages in publications.
Type 'demo()' for some demos, 'help()' for on-line help, or
'help.start()' for an HTML browser interface to help.
Type 'q()' to quit R.
> library(testthat)
> library(matter)
Loading required package: BiocParallel
Loading required package: Matrix
>
> test_check("matter")
Saving _problems/test-parallel-125.R
[ FAIL 1 | WARN 0 | SKIP 0 | PASS 2076 ]
══ Failed tests ════════════════════════════════════════════════════════════════
── Error ('test-parallel.R:125:2'): SnowfastParam ──────────────────────────────
Error in `serialize(data, node$con, xdr = FALSE)`: error writing to connection
Backtrace:
▆
1. └─matter::chunkLapply(x, sum, BPPARAM = sp0) at test-parallel.R:125:9
2. └─matter::chunk_lapply(X, CHUNKFUN, ..., verbose = verbose, BPPARAM = BPPARAM)
3. └─matter:::bplapply_int(CHUNKS, CHUNKFUN, ..., BPPARAM = BPPARAM)
4. ├─BiocParallel::bplapply(X, FUN, ..., BPPARAM = BPPARAM)
5. └─BiocParallel::bplapply(X, FUN, ..., BPPARAM = BPPARAM)
6. └─BiocParallel:::.bpinit(...)
7. ├─BiocParallel::bploop(...)
8. └─BiocParallel:::bploop.lapply(...)
9. └─BiocParallel:::.bploop_impl(...)
10. ├─BiocParallel::.manager_send(manager, task)
11. └─BiocParallel::.manager_send(manager, task)
12. ├─BiocParallel::.send_to(manager$backend, as.integer(worker), value)
13. └─BiocParallel::.send_to(manager$backend, as.integer(worker), value)
14. ├─parallel:::sendData(backend[[node]], value)
15. └─parallel:::sendData.SOCK0node(backend[[node]], value)
16. └─base::serialize(data, node$con, xdr = FALSE)
[ FAIL 1 | WARN 0 | SKIP 0 | PASS 2076 ]
Error:
! Test failures.
Execution halted
matter.Rcheck/matter-Ex.timings
| name | user | system | elapsed | |
| RNGStreams | 0.882 | 0.008 | 0.895 | |
| SnowfastParam-class | 0.221 | 0.030 | 3.049 | |
| approx1 | 0.002 | 0.001 | 0.003 | |
| approx2 | 0.004 | 0.001 | 0.004 | |
| avg | 0.002 | 0.001 | 0.002 | |
| binpeaks | 0.007 | 0.001 | 0.008 | |
| binvec | 0.000 | 0.000 | 0.001 | |
| bsearch | 0.001 | 0.001 | 0.002 | |
| checksum | 0.028 | 0.006 | 0.034 | |
| chunkApply | 0.241 | 0.021 | 0.265 | |
| chunked-class | 0.007 | 0.002 | 0.008 | |
| colscale | 0.273 | 0.008 | 0.281 | |
| colsweep | 0.022 | 0.001 | 0.024 | |
| convolve_at | 0.087 | 0.003 | 0.090 | |
| coscore | 0.040 | 0.007 | 0.048 | |
| cpal | 0.004 | 0.000 | 0.004 | |
| cv_do | 0.189 | 0.002 | 0.192 | |
| deferred-ops | 0.419 | 0.014 | 0.437 | |
| downsample | 0.032 | 0.001 | 0.034 | |
| drle-class | 0.002 | 0.000 | 0.002 | |
| enhance | 0.021 | 0.002 | 0.023 | |
| estbase | 0.009 | 0.001 | 0.012 | |
| estdim | 0.003 | 0.000 | 0.004 | |
| estnoise | 0.031 | 0.002 | 0.033 | |
| estres | 0.001 | 0.000 | 0.002 | |
| fastmap | 0.159 | 0.002 | 0.162 | |
| fetch | 0.144 | 0.013 | 0.158 | |
| filt1 | 0.023 | 0.002 | 0.025 | |
| filt2 | 0.027 | 0.002 | 0.028 | |
| filtn | 0.004 | 0.001 | 0.005 | |
| findpeaks | 0.028 | 0.003 | 0.032 | |
| findpeaks_cwt | 0.111 | 0.013 | 0.127 | |
| findpeaks_knn | 0.003 | 0.000 | 0.004 | |
| iQuote | 0.000 | 0.000 | 0.001 | |
| inpoly | 0.003 | 0.001 | 0.004 | |
| isofun | 0.023 | 0.001 | 0.024 | |
| knnsearch | 0.002 | 0.001 | 0.001 | |
| matter-class | 0.030 | 0.003 | 0.033 | |
| matter_arr-class | 0.028 | 0.002 | 0.030 | |
| matter_fct-class | 0.023 | 0.002 | 0.025 | |
| matter_list-class | 0.012 | 0.002 | 0.014 | |
| matter_str-class | 0.021 | 0.002 | 0.023 | |
| mem | 0.449 | 0.012 | 0.465 | |
| mi_learn | 0.640 | 0.010 | 0.653 | |
| nnmf | 0.040 | 0.000 | 0.041 | |
| nscentroids | 0.114 | 0.001 | 0.115 | |
| peakwidths | 0.001 | 0.000 | 0.001 | |
| pinv | 0.001 | 0.001 | 0.002 | |
| plot_signal | 0.483 | 0.055 | 0.542 | |
| pls | 0.045 | 0.001 | 0.045 | |
| prcomp | 0.157 | 0.016 | 0.174 | |
| predscore | 0.001 | 0.001 | 0.002 | |
| rescale | 0.000 | 0.000 | 0.001 | |
| rocscore | 0.002 | 0.000 | 0.004 | |
| rollvec | 0.001 | 0.000 | 0.001 | |
| rowDists | 0.099 | 0.004 | 0.104 | |
| rowStats | 0.128 | 0.006 | 0.135 | |
| seq_rel | 0.001 | 0.001 | 0.002 | |
| sgmix | 8.014 | 0.120 | 8.182 | |
| shingles | 0.002 | 0.001 | 0.003 | |
| simple_logger-class | 0.005 | 0.001 | 0.006 | |
| simspec | 0.031 | 0.005 | 0.036 | |
| sparse_arr-class | 0.007 | 0.001 | 0.009 | |
| stream_stat | 0.006 | 0.001 | 0.007 | |
| struct | 0.006 | 0.001 | 0.007 | |
| summary-stats | 0.565 | 0.023 | 0.591 | |
| to_raster | 0.003 | 0.001 | 0.004 | |
| trans2d | 0.041 | 0.002 | 0.044 | |
| uuid | 0.001 | 0.000 | 0.001 | |
| vizi-functions | 0.057 | 0.005 | 0.063 | |
| warp1 | 0.035 | 0.003 | 0.039 | |
| warp2 | 0.869 | 0.013 | 0.885 | |