| Back to Multiple platform build/check report for BioC 3.22: simplified long |
|
This page was generated on 2025-10-24 12:07 -0400 (Fri, 24 Oct 2025).
| Hostname | OS | Arch (*) | R version | Installed pkgs |
|---|---|---|---|---|
| nebbiolo2 | Linux (Ubuntu 24.04.3 LTS) | x86_64 | 4.5.1 Patched (2025-08-23 r88802) -- "Great Square Root" | 4898 |
| lconway | macOS 12.7.6 Monterey | x86_64 | 4.5.1 Patched (2025-09-10 r88807) -- "Great Square Root" | 4688 |
| kjohnson3 | macOS 13.7.7 Ventura | arm64 | 4.5.1 Patched (2025-09-10 r88807) -- "Great Square Root" | 4634 |
| taishan | Linux (openEuler 24.03 LTS) | aarch64 | 4.5.0 (2025-04-11) -- "How About a Twenty-Six" | 4658 |
| Click on any hostname to see more info about the system (e.g. compilers) (*) as reported by 'uname -p', except on Windows and Mac OS X | ||||
| Package 1192/2359 | Hostname | OS / Arch | INSTALL | BUILD | CHECK | BUILD BIN | ||||||||
| martini 1.29.0 (landing page) Hector Climente-Gonzalez
| nebbiolo2 | Linux (Ubuntu 24.04.3 LTS) / x86_64 | OK | OK | OK | |||||||||
| lconway | macOS 12.7.6 Monterey / x86_64 | OK | OK | OK | OK | |||||||||
| kjohnson3 | macOS 13.7.7 Ventura / arm64 | OK | OK | OK | OK | |||||||||
| taishan | Linux (openEuler 24.03 LTS) / aarch64 | OK | OK | NA | ||||||||||
|
To the developers/maintainers of the martini package: - Allow up to 24 hours (and sometimes 48 hours) for your latest push to git@git.bioconductor.org:packages/martini.git to reflect on this report. See Troubleshooting Build Report for more information. - Use the following Renviron settings to reproduce errors and warnings. - If 'R CMD check' started to fail recently on the Linux builder(s) over a missing dependency, add the missing dependency to 'Suggests:' in your DESCRIPTION file. See Renviron.bioc for more information. - See Martin Grigorov's blog post for how to debug Linux ARM64 related issues on a x86_64 host. |
| Package: martini |
| Version: 1.29.0 |
| Command: /home/biocbuild/R/R/bin/R CMD INSTALL martini |
| StartedAt: 2025-10-23 20:32:27 -0000 (Thu, 23 Oct 2025) |
| EndedAt: 2025-10-23 20:32:56 -0000 (Thu, 23 Oct 2025) |
| EllapsedTime: 28.9 seconds |
| RetCode: 0 |
| Status: OK |
##############################################################################
##############################################################################
###
### Running command:
###
### /home/biocbuild/R/R/bin/R CMD INSTALL martini
###
##############################################################################
##############################################################################
* installing to library ‘/home/biocbuild/R/R-4.5.0/site-library’
* installing *source* package ‘martini’ ...
** this is package ‘martini’ version ‘1.29.0’
** using staged installation
** libs
using C++ compiler: ‘aarch64-unknown-linux-gnu-g++ (GCC) 14.2.0’
/opt/ohpc/pub/compiler/gcc/14.2.0/bin/aarch64-unknown-linux-gnu-g++ -std=gnu++17 -I"/home/biocbuild/R/R-4.5.0/include" -DNDEBUG -I'/home/biocbuild/R/R-4.5.0/site-library/Rcpp/include' -I'/home/biocbuild/R/R-4.5.0/site-library/RcppEigen/include' -I/usr/local/include -std=c++11 -fopenmp -D_USE_KNETFILE -D_FILE_OFFSET_BITS=64 -U_FORTIFY_SOURCE -DBGZF_CACHE -I./lib `/home/biocbuild/R/R-4.5.0/bin/Rscript -e "Rcpp:::CxxFlags()"` -DEIGEN_PERMANENTLY_DISABLE_STUPID_WARNINGS -fopenmp -fPIC -g -O2 -Wall -Werror=format-security -c RcppExports.cpp -o RcppExports.o
In file included from /home/biocbuild/R/R-4.5.0/site-library/RcppEigen/include/Eigen/Core:214,
from /home/biocbuild/R/R-4.5.0/site-library/RcppEigen/include/Eigen/Dense:1,
from /home/biocbuild/R/R-4.5.0/site-library/RcppEigen/include/RcppEigenForward.h:28,
from /home/biocbuild/R/R-4.5.0/site-library/RcppEigen/include/RcppEigen.h:25,
from ../inst/include/martini_RcppExports.h:7,
from ../inst/include/martini.h:7,
from RcppExports.cpp:4:
/home/biocbuild/R/R-4.5.0/site-library/RcppEigen/include/Eigen/src/Core/arch/NEON/PacketMath.h: In function ‘Packet Eigen::internal::pload(const typename unpacket_traits<T>::type*) [with Packet = eigen_packet_wrapper<int, 2>; typename unpacket_traits<T>::type = signed char]’:
/home/biocbuild/R/R-4.5.0/site-library/RcppEigen/include/Eigen/src/Core/arch/NEON/PacketMath.h:1671:9: warning: ‘void* memcpy(void*, const void*, size_t)’ copying an object of non-trivial type ‘Eigen::internal::Packet4c’ {aka ‘struct Eigen::internal::eigen_packet_wrapper<int, 2>’} from an array of ‘const int8_t’ {aka ‘const signed char’} [-Wclass-memaccess]
1671 | memcpy(&res, from, sizeof(Packet4c));
| ~~~~~~^~~~~~~~~~~~~~~~~~~~~~~~~~~~~~
In file included from /home/biocbuild/R/R-4.5.0/site-library/RcppEigen/include/Eigen/Core:172:
/home/biocbuild/R/R-4.5.0/site-library/RcppEigen/include/Eigen/src/Core/GenericPacketMath.h:159:8: note: ‘Eigen::internal::Packet4c’ {aka ‘struct Eigen::internal::eigen_packet_wrapper<int, 2>’} declared here
159 | struct eigen_packet_wrapper
| ^~~~~~~~~~~~~~~~~~~~
/home/biocbuild/R/R-4.5.0/site-library/RcppEigen/include/Eigen/src/Core/arch/NEON/PacketMath.h: In function ‘Packet Eigen::internal::ploadu(const typename unpacket_traits<T>::type*) [with Packet = eigen_packet_wrapper<int, 2>; typename unpacket_traits<T>::type = signed char]’:
/home/biocbuild/R/R-4.5.0/site-library/RcppEigen/include/Eigen/src/Core/arch/NEON/PacketMath.h:1716:9: warning: ‘void* memcpy(void*, const void*, size_t)’ copying an object of non-trivial type ‘Eigen::internal::Packet4c’ {aka ‘struct Eigen::internal::eigen_packet_wrapper<int, 2>’} from an array of ‘const int8_t’ {aka ‘const signed char’} [-Wclass-memaccess]
1716 | memcpy(&res, from, sizeof(Packet4c));
| ~~~~~~^~~~~~~~~~~~~~~~~~~~~~~~~~~~~~
/home/biocbuild/R/R-4.5.0/site-library/RcppEigen/include/Eigen/src/Core/GenericPacketMath.h:159:8: note: ‘Eigen::internal::Packet4c’ {aka ‘struct Eigen::internal::eigen_packet_wrapper<int, 2>’} declared here
159 | struct eigen_packet_wrapper
| ^~~~~~~~~~~~~~~~~~~~
/opt/ohpc/pub/compiler/gcc/14.2.0/bin/aarch64-unknown-linux-gnu-g++ -std=gnu++17 -I"/home/biocbuild/R/R-4.5.0/include" -DNDEBUG -I'/home/biocbuild/R/R-4.5.0/site-library/Rcpp/include' -I'/home/biocbuild/R/R-4.5.0/site-library/RcppEigen/include' -I/usr/local/include -std=c++11 -fopenmp -D_USE_KNETFILE -D_FILE_OFFSET_BITS=64 -U_FORTIFY_SOURCE -DBGZF_CACHE -I./lib `/home/biocbuild/R/R-4.5.0/bin/Rscript -e "Rcpp:::CxxFlags()"` -DEIGEN_PERMANENTLY_DISABLE_STUPID_WARNINGS -fopenmp -fPIC -g -O2 -Wall -Werror=format-security -c mincut.cpp -o mincut.o
In file included from /home/biocbuild/R/R-4.5.0/site-library/RcppEigen/include/Eigen/Core:214,
from /home/biocbuild/R/R-4.5.0/site-library/RcppEigen/include/Eigen/Dense:1,
from /home/biocbuild/R/R-4.5.0/site-library/RcppEigen/include/RcppEigenForward.h:28,
from /home/biocbuild/R/R-4.5.0/site-library/RcppEigen/include/RcppEigen.h:25,
from mincut.cpp:7:
/home/biocbuild/R/R-4.5.0/site-library/RcppEigen/include/Eigen/src/Core/arch/NEON/PacketMath.h: In function ‘Packet Eigen::internal::pload(const typename unpacket_traits<T>::type*) [with Packet = eigen_packet_wrapper<int, 2>; typename unpacket_traits<T>::type = signed char]’:
/home/biocbuild/R/R-4.5.0/site-library/RcppEigen/include/Eigen/src/Core/arch/NEON/PacketMath.h:1671:9: warning: ‘void* memcpy(void*, const void*, size_t)’ copying an object of non-trivial type ‘Eigen::internal::Packet4c’ {aka ‘struct Eigen::internal::eigen_packet_wrapper<int, 2>’} from an array of ‘const int8_t’ {aka ‘const signed char’} [-Wclass-memaccess]
1671 | memcpy(&res, from, sizeof(Packet4c));
| ~~~~~~^~~~~~~~~~~~~~~~~~~~~~~~~~~~~~
In file included from /home/biocbuild/R/R-4.5.0/site-library/RcppEigen/include/Eigen/Core:172:
/home/biocbuild/R/R-4.5.0/site-library/RcppEigen/include/Eigen/src/Core/GenericPacketMath.h:159:8: note: ‘Eigen::internal::Packet4c’ {aka ‘struct Eigen::internal::eigen_packet_wrapper<int, 2>’} declared here
159 | struct eigen_packet_wrapper
| ^~~~~~~~~~~~~~~~~~~~
/home/biocbuild/R/R-4.5.0/site-library/RcppEigen/include/Eigen/src/Core/arch/NEON/PacketMath.h: In function ‘Packet Eigen::internal::ploadu(const typename unpacket_traits<T>::type*) [with Packet = eigen_packet_wrapper<int, 2>; typename unpacket_traits<T>::type = signed char]’:
/home/biocbuild/R/R-4.5.0/site-library/RcppEigen/include/Eigen/src/Core/arch/NEON/PacketMath.h:1716:9: warning: ‘void* memcpy(void*, const void*, size_t)’ copying an object of non-trivial type ‘Eigen::internal::Packet4c’ {aka ‘struct Eigen::internal::eigen_packet_wrapper<int, 2>’} from an array of ‘const int8_t’ {aka ‘const signed char’} [-Wclass-memaccess]
1716 | memcpy(&res, from, sizeof(Packet4c));
| ~~~~~~^~~~~~~~~~~~~~~~~~~~~~~~~~~~~~
/home/biocbuild/R/R-4.5.0/site-library/RcppEigen/include/Eigen/src/Core/GenericPacketMath.h:159:8: note: ‘Eigen::internal::Packet4c’ {aka ‘struct Eigen::internal::eigen_packet_wrapper<int, 2>’} declared here
159 | struct eigen_packet_wrapper
| ^~~~~~~~~~~~~~~~~~~~
/opt/ohpc/pub/compiler/gcc/14.2.0/bin/aarch64-unknown-linux-gnu-g++ -std=gnu++17 -I"/home/biocbuild/R/R-4.5.0/include" -DNDEBUG -I'/home/biocbuild/R/R-4.5.0/site-library/Rcpp/include' -I'/home/biocbuild/R/R-4.5.0/site-library/RcppEigen/include' -I/usr/local/include -std=c++11 -fopenmp -D_USE_KNETFILE -D_FILE_OFFSET_BITS=64 -U_FORTIFY_SOURCE -DBGZF_CACHE -I./lib `/home/biocbuild/R/R-4.5.0/bin/Rscript -e "Rcpp:::CxxFlags()"` -DEIGEN_PERMANENTLY_DISABLE_STUPID_WARNINGS -fopenmp -fPIC -g -O2 -Wall -Werror=format-security -c lib/maxflow/maxflow.cpp -o lib/maxflow/maxflow.o
lib/maxflow/maxflow.cpp: In member function ‘void Graph<captype, tcaptype, flowtype>::reallocate_nodes(int) [with captype = int; tcaptype = int; flowtype = int]’:
lib/maxflow/maxflow.cpp:777:91: warning: pointer ‘nodes_old’ may be used after ‘void* realloc(void*, size_t)’ [-Wuse-after-free]
777 | if (i->next) i->next = (node*) ((char*)i->next + (((char*) nodes) - ((char*) nodes_old)));
| ~~~~~~~~~~~~~~~~~^~~~~~~~~~~~~~~~~~~~~~
lib/maxflow/maxflow.cpp:765:32: note: call to ‘void* realloc(void*, size_t)’ here
765 | nodes = (node*) realloc(nodes_old, node_num_max*sizeof(node));
| ~~~~~~~^~~~~~~~~~~~~~~~~~~~~~~~~~~~~~~~~~~~~~
lib/maxflow/maxflow.cpp:781:78: warning: pointer ‘nodes_old’ may be used after ‘void* realloc(void*, size_t)’ [-Wuse-after-free]
781 | a->head = (node*) ((char*)a->head + (((char*) nodes) - ((char*) nodes_old)));
| ~~~~~~~~~~~~~~~~~^~~~~~~~~~~~~~~~~~~~~~
lib/maxflow/maxflow.cpp:765:32: note: call to ‘void* realloc(void*, size_t)’ here
765 | nodes = (node*) realloc(nodes_old, node_num_max*sizeof(node));
| ~~~~~~~^~~~~~~~~~~~~~~~~~~~~~~~~~~~~~~~~~~~~~
lib/maxflow/maxflow.cpp: In member function ‘void Graph<captype, tcaptype, flowtype>::reallocate_arcs() [with captype = int; tcaptype = int; flowtype = int]’:
lib/maxflow/maxflow.cpp:807:143: warning: pointer ‘arcs_old’ may be used after ‘void* realloc(void*, size_t)’ [-Wuse-after-free]
807 | if (i->parent && i->parent != ORPHAN && i->parent != TERMINAL) i->parent = (arc*) ((char*)i->parent + (((char*) arcs) - ((char*) arcs_old)));
| ~~~~~~~~~~~~~~~~^~~~~~~~~~~~~~~~~~~~~
lib/maxflow/maxflow.cpp:794:30: note: call to ‘void* realloc(void*, size_t)’ here
794 | arcs = (arc*) realloc(arcs_old, arc_num_max*sizeof(arc));
| ~~~~~~~^~~~~~~~~~~~~~~~~~~~~~~~~~~~~~~~~~~
lib/maxflow/maxflow.cpp:806:92: warning: pointer ‘arcs_old’ may be used after ‘void* realloc(void*, size_t)’ [-Wuse-after-free]
806 | if (i->first) i->first = (arc*) ((char*)i->first + (((char*) arcs) - ((char*) arcs_old)));
| ~~~~~~~~~~~~~~~~^~~~~~~~~~~~~~~~~~~~~
lib/maxflow/maxflow.cpp:794:30: note: call to ‘void* realloc(void*, size_t)’ here
794 | arcs = (arc*) realloc(arcs_old, arc_num_max*sizeof(arc));
| ~~~~~~~^~~~~~~~~~~~~~~~~~~~~~~~~~~~~~~~~~~
lib/maxflow/maxflow.cpp:812:80: warning: pointer ‘arcs_old’ may be used after ‘void* realloc(void*, size_t)’ [-Wuse-after-free]
812 | a->sister = (arc*) ((char*)a->sister + (((char*) arcs) - ((char*) arcs_old)));
| ~~~~~~~~~~~~~~~~^~~~~~~~~~~~~~~~~~~~~
lib/maxflow/maxflow.cpp:794:30: note: call to ‘void* realloc(void*, size_t)’ here
794 | arcs = (arc*) realloc(arcs_old, arc_num_max*sizeof(arc));
| ~~~~~~~^~~~~~~~~~~~~~~~~~~~~~~~~~~~~~~~~~~
lib/maxflow/maxflow.cpp:811:89: warning: pointer ‘arcs_old’ may be used after ‘void* realloc(void*, size_t)’ [-Wuse-after-free]
811 | if (a->next) a->next = (arc*) ((char*)a->next + (((char*) arcs) - ((char*) arcs_old)));
| ~~~~~~~~~~~~~~~~^~~~~~~~~~~~~~~~~~~~~
lib/maxflow/maxflow.cpp:794:30: note: call to ‘void* realloc(void*, size_t)’ here
794 | arcs = (arc*) realloc(arcs_old, arc_num_max*sizeof(arc));
| ~~~~~~~^~~~~~~~~~~~~~~~~~~~~~~~~~~~~~~~~~~
lib/maxflow/maxflow.cpp: In member function ‘void Graph<captype, tcaptype, flowtype>::reallocate_nodes(int) [with captype = short int; tcaptype = int; flowtype = int]’:
lib/maxflow/maxflow.cpp:777:91: warning: pointer ‘nodes_old’ may be used after ‘void* realloc(void*, size_t)’ [-Wuse-after-free]
777 | if (i->next) i->next = (node*) ((char*)i->next + (((char*) nodes) - ((char*) nodes_old)));
| ~~~~~~~~~~~~~~~~~^~~~~~~~~~~~~~~~~~~~~~
lib/maxflow/maxflow.cpp:765:32: note: call to ‘void* realloc(void*, size_t)’ here
765 | nodes = (node*) realloc(nodes_old, node_num_max*sizeof(node));
| ~~~~~~~^~~~~~~~~~~~~~~~~~~~~~~~~~~~~~~~~~~~~~
lib/maxflow/maxflow.cpp:781:78: warning: pointer ‘nodes_old’ may be used after ‘void* realloc(void*, size_t)’ [-Wuse-after-free]
781 | a->head = (node*) ((char*)a->head + (((char*) nodes) - ((char*) nodes_old)));
| ~~~~~~~~~~~~~~~~~^~~~~~~~~~~~~~~~~~~~~~
lib/maxflow/maxflow.cpp:765:32: note: call to ‘void* realloc(void*, size_t)’ here
765 | nodes = (node*) realloc(nodes_old, node_num_max*sizeof(node));
| ~~~~~~~^~~~~~~~~~~~~~~~~~~~~~~~~~~~~~~~~~~~~~
lib/maxflow/maxflow.cpp: In member function ‘void Graph<captype, tcaptype, flowtype>::reallocate_arcs() [with captype = short int; tcaptype = int; flowtype = int]’:
lib/maxflow/maxflow.cpp:807:143: warning: pointer ‘arcs_old’ may be used after ‘void* realloc(void*, size_t)’ [-Wuse-after-free]
807 | if (i->parent && i->parent != ORPHAN && i->parent != TERMINAL) i->parent = (arc*) ((char*)i->parent + (((char*) arcs) - ((char*) arcs_old)));
| ~~~~~~~~~~~~~~~~^~~~~~~~~~~~~~~~~~~~~
lib/maxflow/maxflow.cpp:794:30: note: call to ‘void* realloc(void*, size_t)’ here
794 | arcs = (arc*) realloc(arcs_old, arc_num_max*sizeof(arc));
| ~~~~~~~^~~~~~~~~~~~~~~~~~~~~~~~~~~~~~~~~~~
lib/maxflow/maxflow.cpp:806:92: warning: pointer ‘arcs_old’ may be used after ‘void* realloc(void*, size_t)’ [-Wuse-after-free]
806 | if (i->first) i->first = (arc*) ((char*)i->first + (((char*) arcs) - ((char*) arcs_old)));
| ~~~~~~~~~~~~~~~~^~~~~~~~~~~~~~~~~~~~~
lib/maxflow/maxflow.cpp:794:30: note: call to ‘void* realloc(void*, size_t)’ here
794 | arcs = (arc*) realloc(arcs_old, arc_num_max*sizeof(arc));
| ~~~~~~~^~~~~~~~~~~~~~~~~~~~~~~~~~~~~~~~~~~
lib/maxflow/maxflow.cpp:812:80: warning: pointer ‘arcs_old’ may be used after ‘void* realloc(void*, size_t)’ [-Wuse-after-free]
812 | a->sister = (arc*) ((char*)a->sister + (((char*) arcs) - ((char*) arcs_old)));
| ~~~~~~~~~~~~~~~~^~~~~~~~~~~~~~~~~~~~~
lib/maxflow/maxflow.cpp:794:30: note: call to ‘void* realloc(void*, size_t)’ here
794 | arcs = (arc*) realloc(arcs_old, arc_num_max*sizeof(arc));
| ~~~~~~~^~~~~~~~~~~~~~~~~~~~~~~~~~~~~~~~~~~
lib/maxflow/maxflow.cpp:811:89: warning: pointer ‘arcs_old’ may be used after ‘void* realloc(void*, size_t)’ [-Wuse-after-free]
811 | if (a->next) a->next = (arc*) ((char*)a->next + (((char*) arcs) - ((char*) arcs_old)));
| ~~~~~~~~~~~~~~~~^~~~~~~~~~~~~~~~~~~~~
lib/maxflow/maxflow.cpp:794:30: note: call to ‘void* realloc(void*, size_t)’ here
794 | arcs = (arc*) realloc(arcs_old, arc_num_max*sizeof(arc));
| ~~~~~~~^~~~~~~~~~~~~~~~~~~~~~~~~~~~~~~~~~~
lib/maxflow/maxflow.cpp: In member function ‘void Graph<captype, tcaptype, flowtype>::reallocate_nodes(int) [with captype = float; tcaptype = float; flowtype = float]’:
lib/maxflow/maxflow.cpp:777:91: warning: pointer ‘nodes_old’ may be used after ‘void* realloc(void*, size_t)’ [-Wuse-after-free]
777 | if (i->next) i->next = (node*) ((char*)i->next + (((char*) nodes) - ((char*) nodes_old)));
| ~~~~~~~~~~~~~~~~~^~~~~~~~~~~~~~~~~~~~~~
lib/maxflow/maxflow.cpp:765:32: note: call to ‘void* realloc(void*, size_t)’ here
765 | nodes = (node*) realloc(nodes_old, node_num_max*sizeof(node));
| ~~~~~~~^~~~~~~~~~~~~~~~~~~~~~~~~~~~~~~~~~~~~~
lib/maxflow/maxflow.cpp:781:78: warning: pointer ‘nodes_old’ may be used after ‘void* realloc(void*, size_t)’ [-Wuse-after-free]
781 | a->head = (node*) ((char*)a->head + (((char*) nodes) - ((char*) nodes_old)));
| ~~~~~~~~~~~~~~~~~^~~~~~~~~~~~~~~~~~~~~~
lib/maxflow/maxflow.cpp:765:32: note: call to ‘void* realloc(void*, size_t)’ here
765 | nodes = (node*) realloc(nodes_old, node_num_max*sizeof(node));
| ~~~~~~~^~~~~~~~~~~~~~~~~~~~~~~~~~~~~~~~~~~~~~
lib/maxflow/maxflow.cpp: In member function ‘void Graph<captype, tcaptype, flowtype>::reallocate_arcs() [with captype = float; tcaptype = float; flowtype = float]’:
lib/maxflow/maxflow.cpp:807:143: warning: pointer ‘arcs_old’ may be used after ‘void* realloc(void*, size_t)’ [-Wuse-after-free]
807 | if (i->parent && i->parent != ORPHAN && i->parent != TERMINAL) i->parent = (arc*) ((char*)i->parent + (((char*) arcs) - ((char*) arcs_old)));
| ~~~~~~~~~~~~~~~~^~~~~~~~~~~~~~~~~~~~~
lib/maxflow/maxflow.cpp:794:30: note: call to ‘void* realloc(void*, size_t)’ here
794 | arcs = (arc*) realloc(arcs_old, arc_num_max*sizeof(arc));
| ~~~~~~~^~~~~~~~~~~~~~~~~~~~~~~~~~~~~~~~~~~
lib/maxflow/maxflow.cpp:806:92: warning: pointer ‘arcs_old’ may be used after ‘void* realloc(void*, size_t)’ [-Wuse-after-free]
806 | if (i->first) i->first = (arc*) ((char*)i->first + (((char*) arcs) - ((char*) arcs_old)));
| ~~~~~~~~~~~~~~~~^~~~~~~~~~~~~~~~~~~~~
lib/maxflow/maxflow.cpp:794:30: note: call to ‘void* realloc(void*, size_t)’ here
794 | arcs = (arc*) realloc(arcs_old, arc_num_max*sizeof(arc));
| ~~~~~~~^~~~~~~~~~~~~~~~~~~~~~~~~~~~~~~~~~~
lib/maxflow/maxflow.cpp:812:80: warning: pointer ‘arcs_old’ may be used after ‘void* realloc(void*, size_t)’ [-Wuse-after-free]
812 | a->sister = (arc*) ((char*)a->sister + (((char*) arcs) - ((char*) arcs_old)));
| ~~~~~~~~~~~~~~~~^~~~~~~~~~~~~~~~~~~~~
lib/maxflow/maxflow.cpp:794:30: note: call to ‘void* realloc(void*, size_t)’ here
794 | arcs = (arc*) realloc(arcs_old, arc_num_max*sizeof(arc));
| ~~~~~~~^~~~~~~~~~~~~~~~~~~~~~~~~~~~~~~~~~~
lib/maxflow/maxflow.cpp:811:89: warning: pointer ‘arcs_old’ may be used after ‘void* realloc(void*, size_t)’ [-Wuse-after-free]
811 | if (a->next) a->next = (arc*) ((char*)a->next + (((char*) arcs) - ((char*) arcs_old)));
| ~~~~~~~~~~~~~~~~^~~~~~~~~~~~~~~~~~~~~
lib/maxflow/maxflow.cpp:794:30: note: call to ‘void* realloc(void*, size_t)’ here
794 | arcs = (arc*) realloc(arcs_old, arc_num_max*sizeof(arc));
| ~~~~~~~^~~~~~~~~~~~~~~~~~~~~~~~~~~~~~~~~~~
lib/maxflow/maxflow.cpp: In member function ‘void Graph<captype, tcaptype, flowtype>::reallocate_nodes(int) [with captype = double; tcaptype = double; flowtype = double]’:
lib/maxflow/maxflow.cpp:777:91: warning: pointer ‘nodes_old’ may be used after ‘void* realloc(void*, size_t)’ [-Wuse-after-free]
777 | if (i->next) i->next = (node*) ((char*)i->next + (((char*) nodes) - ((char*) nodes_old)));
| ~~~~~~~~~~~~~~~~~^~~~~~~~~~~~~~~~~~~~~~
lib/maxflow/maxflow.cpp:765:32: note: call to ‘void* realloc(void*, size_t)’ here
765 | nodes = (node*) realloc(nodes_old, node_num_max*sizeof(node));
| ~~~~~~~^~~~~~~~~~~~~~~~~~~~~~~~~~~~~~~~~~~~~~
lib/maxflow/maxflow.cpp:781:78: warning: pointer ‘nodes_old’ may be used after ‘void* realloc(void*, size_t)’ [-Wuse-after-free]
781 | a->head = (node*) ((char*)a->head + (((char*) nodes) - ((char*) nodes_old)));
| ~~~~~~~~~~~~~~~~~^~~~~~~~~~~~~~~~~~~~~~
lib/maxflow/maxflow.cpp:765:32: note: call to ‘void* realloc(void*, size_t)’ here
765 | nodes = (node*) realloc(nodes_old, node_num_max*sizeof(node));
| ~~~~~~~^~~~~~~~~~~~~~~~~~~~~~~~~~~~~~~~~~~~~~
lib/maxflow/maxflow.cpp: In member function ‘void Graph<captype, tcaptype, flowtype>::reallocate_arcs() [with captype = double; tcaptype = double; flowtype = double]’:
lib/maxflow/maxflow.cpp:807:143: warning: pointer ‘arcs_old’ may be used after ‘void* realloc(void*, size_t)’ [-Wuse-after-free]
807 | if (i->parent && i->parent != ORPHAN && i->parent != TERMINAL) i->parent = (arc*) ((char*)i->parent + (((char*) arcs) - ((char*) arcs_old)));
| ~~~~~~~~~~~~~~~~^~~~~~~~~~~~~~~~~~~~~
lib/maxflow/maxflow.cpp:794:30: note: call to ‘void* realloc(void*, size_t)’ here
794 | arcs = (arc*) realloc(arcs_old, arc_num_max*sizeof(arc));
| ~~~~~~~^~~~~~~~~~~~~~~~~~~~~~~~~~~~~~~~~~~
lib/maxflow/maxflow.cpp:806:92: warning: pointer ‘arcs_old’ may be used after ‘void* realloc(void*, size_t)’ [-Wuse-after-free]
806 | if (i->first) i->first = (arc*) ((char*)i->first + (((char*) arcs) - ((char*) arcs_old)));
| ~~~~~~~~~~~~~~~~^~~~~~~~~~~~~~~~~~~~~
lib/maxflow/maxflow.cpp:794:30: note: call to ‘void* realloc(void*, size_t)’ here
794 | arcs = (arc*) realloc(arcs_old, arc_num_max*sizeof(arc));
| ~~~~~~~^~~~~~~~~~~~~~~~~~~~~~~~~~~~~~~~~~~
lib/maxflow/maxflow.cpp:812:80: warning: pointer ‘arcs_old’ may be used after ‘void* realloc(void*, size_t)’ [-Wuse-after-free]
812 | a->sister = (arc*) ((char*)a->sister + (((char*) arcs) - ((char*) arcs_old)));
| ~~~~~~~~~~~~~~~~^~~~~~~~~~~~~~~~~~~~~
lib/maxflow/maxflow.cpp:794:30: note: call to ‘void* realloc(void*, size_t)’ here
794 | arcs = (arc*) realloc(arcs_old, arc_num_max*sizeof(arc));
| ~~~~~~~^~~~~~~~~~~~~~~~~~~~~~~~~~~~~~~~~~~
lib/maxflow/maxflow.cpp:811:89: warning: pointer ‘arcs_old’ may be used after ‘void* realloc(void*, size_t)’ [-Wuse-after-free]
811 | if (a->next) a->next = (arc*) ((char*)a->next + (((char*) arcs) - ((char*) arcs_old)));
| ~~~~~~~~~~~~~~~~^~~~~~~~~~~~~~~~~~~~~
lib/maxflow/maxflow.cpp:794:30: note: call to ‘void* realloc(void*, size_t)’ here
794 | arcs = (arc*) realloc(arcs_old, arc_num_max*sizeof(arc));
| ~~~~~~~^~~~~~~~~~~~~~~~~~~~~~~~~~~~~~~~~~~
ar -crus libmaxflow.a lib/maxflow/maxflow.o
cp -r lib/maxflow "/home/biocbuild/R/R-4.5.0/site-library/00LOCK-martini/00new/martini/include"
mkdir -p "/home/biocbuild/R/R-4.5.0/site-library/00LOCK-martini/00new/martini/usrlib"
cp libmaxflow.a "/home/biocbuild/R/R-4.5.0/site-library/00LOCK-martini/00new/martini/usrlib"
/opt/ohpc/pub/compiler/gcc/14.2.0/bin/aarch64-unknown-linux-gnu-g++ -std=gnu++17 -shared -L/home/biocbuild/R/R-4.5.0/lib -L/usr/local/lib -o martini.so RcppExports.o mincut.o -pthread -fopenmp /home/biocbuild/R/R-4.5.0/site-library/00LOCK-martini/00new/martini/usrlib/libmaxflow.a -fopenmp -pthread -L/home/biocbuild/R/R-4.5.0/lib -lR
installing to /home/biocbuild/R/R-4.5.0/site-library/00LOCK-martini/00new/martini/libs
** R
** data
*** moving datasets to lazyload DB
** inst
** byte-compile and prepare package for lazy loading
** help
*** installing help indices
** building package indices
** installing vignettes
** testing if installed package can be loaded from temporary location
** checking absolute paths in shared objects and dynamic libraries
** testing if installed package can be loaded from final location
** testing if installed package keeps a record of temporary installation path
* DONE (martini)