Back to Multiple platform build/check report for BioC 3.22:   simplified   long
ABCDEFGHIJ[K]LMNOPQRSTUVWXYZ

This page was generated on 2025-05-27 12:08 -0400 (Tue, 27 May 2025).

HostnameOSArch (*)R versionInstalled pkgs
nebbiolo2Linux (Ubuntu 24.04.1 LTS)x86_644.5.0 (2025-04-11) -- "How About a Twenty-Six" 4756
palomino8Windows Server 2022 Datacenterx644.5.0 (2025-04-11 ucrt) -- "How About a Twenty-Six" 4530
lconwaymacOS 12.7.1 Montereyx86_644.5.0 Patched (2025-04-21 r88169) -- "How About a Twenty-Six" 4567
kjohnson3macOS 13.7.1 Venturaarm644.5.0 Patched (2025-04-21 r88169) -- "How About a Twenty-Six" 4507
taishanLinux (openEuler 24.03 LTS)aarch644.5.0 (2025-04-11) -- "How About a Twenty-Six" 4464
Click on any hostname to see more info about the system (e.g. compilers)      (*) as reported by 'uname -p', except on Windows and Mac OS X

Package 1083/2306HostnameOS / ArchINSTALLBUILDCHECKBUILD BIN
katdetectr 1.11.1  (landing page)
Daan Hazelaar
Snapshot Date: 2025-05-26 13:25 -0400 (Mon, 26 May 2025)
git_url: https://git.bioconductor.org/packages/katdetectr
git_branch: devel
git_last_commit: dcd5e85
git_last_commit_date: 2025-04-30 04:44:31 -0400 (Wed, 30 Apr 2025)
nebbiolo2Linux (Ubuntu 24.04.1 LTS) / x86_64  OK    OK    OK  UNNEEDED, same version is already published
palomino8Windows Server 2022 Datacenter / x64  OK    OK    OK    OK  UNNEEDED, same version is already published
lconwaymacOS 12.7.1 Monterey / x86_64  OK    OK    OK    OK  UNNEEDED, same version is already published
kjohnson3macOS 13.7.1 Ventura / arm64  OK    OK    OK    OK  UNNEEDED, same version is already published
taishanLinux (openEuler 24.03 LTS) / aarch64  OK    OK    OK  


CHECK results for katdetectr on lconway

To the developers/maintainers of the katdetectr package:
- Allow up to 24 hours (and sometimes 48 hours) for your latest push to git@git.bioconductor.org:packages/katdetectr.git to reflect on this report. See Troubleshooting Build Report for more information.
- Use the following Renviron settings to reproduce errors and warnings.
- If 'R CMD check' started to fail recently on the Linux builder(s) over a missing dependency, add the missing dependency to 'Suggests:' in your DESCRIPTION file. See Renviron.bioc for more information.

raw results


Summary

Package: katdetectr
Version: 1.11.1
Command: /Library/Frameworks/R.framework/Resources/bin/R CMD check --install=check:katdetectr.install-out.txt --library=/Library/Frameworks/R.framework/Resources/library --no-vignettes --timings katdetectr_1.11.1.tar.gz
StartedAt: 2025-05-26 21:37:24 -0400 (Mon, 26 May 2025)
EndedAt: 2025-05-26 21:43:08 -0400 (Mon, 26 May 2025)
EllapsedTime: 343.7 seconds
RetCode: 0
Status:   OK  
CheckDir: katdetectr.Rcheck
Warnings: 0

Command output

##############################################################################
##############################################################################
###
### Running command:
###
###   /Library/Frameworks/R.framework/Resources/bin/R CMD check --install=check:katdetectr.install-out.txt --library=/Library/Frameworks/R.framework/Resources/library --no-vignettes --timings katdetectr_1.11.1.tar.gz
###
##############################################################################
##############################################################################


* using log directory ‘/Users/biocbuild/bbs-3.22-bioc/meat/katdetectr.Rcheck’
* using R version 4.5.0 Patched (2025-04-21 r88169)
* using platform: x86_64-apple-darwin20
* R was compiled by
    Apple clang version 14.0.0 (clang-1400.0.29.202)
    GNU Fortran (GCC) 14.2.0
* running under: macOS Monterey 12.7.6
* using session charset: UTF-8
* using option ‘--no-vignettes’
* checking for file ‘katdetectr/DESCRIPTION’ ... OK
* this is package ‘katdetectr’ version ‘1.11.1’
* package encoding: UTF-8
* checking package namespace information ... OK
* checking package dependencies ... INFO
Imports includes 23 non-default packages.
Importing from so many packages makes the package vulnerable to any of
them becoming unavailable.  Move as many as possible to Suggests and
use conditionally.
* checking if this is a source package ... OK
* checking if there is a namespace ... OK
* checking for hidden files and directories ... OK
* checking for portable file names ... OK
* checking for sufficient/correct file permissions ... OK
* checking whether package ‘katdetectr’ can be installed ... OK
* checking installed package size ... OK
* checking package directory ... OK
* checking ‘build’ directory ... OK
* checking DESCRIPTION meta-information ... OK
* checking top-level files ... OK
* checking for left-over files ... OK
* checking index information ... OK
* checking package subdirectories ... OK
* checking code files for non-ASCII characters ... OK
* checking R files for syntax errors ... OK
* checking whether the package can be loaded ... OK
* checking whether the package can be loaded with stated dependencies ... OK
* checking whether the package can be unloaded cleanly ... OK
* checking whether the namespace can be loaded with stated dependencies ... OK
* checking whether the namespace can be unloaded cleanly ... OK
* checking dependencies in R code ... OK
* checking S3 generic/method consistency ... OK
* checking replacement functions ... OK
* checking foreign function calls ... OK
* checking R code for possible problems ... NOTE
.addEmptySegments: no visible binding for global variable ‘seqnames’
.annotateKataegisSegments: no visible binding for global variable
  ‘fociID’
.annotateKataegisSegments: no visible binding for global variable
  ‘seqnames’
.annotateKataegisSegments: no visible binding for global variable
  ‘firstVariantID’
.annotateKataegisSegments: no visible binding for global variable
  ‘firstVariantOfSeqname’
.annotateKataegisSegments: no visible binding for global variable
  ‘lastVariantID’
.coerceMAFtoVRanges: no visible binding for global variable ‘start’
.coerceMAFtoVRanges: no visible binding for global variable ‘end’
.convertVariantsToGGplotFormat: no visible binding for global variable
  ‘IMD’
.convertVariantsToGGplotFormat: no visible binding for global variable
  ‘variantType’
.determineInitialProbabilities: no visible binding for global variable
  ‘seqnames’
.determineKataegisSegments: no visible binding for global variable
  ‘meanIMD’
.determineKataegisSegments: no visible binding for global variable
  ‘IMDcutoff’
.determineKataegisSegments: no visible binding for global variable
  ‘seqnames’
.generateBackgroundVariants: no visible binding for global variable
  ‘seqnames’
.generateBackgroundVariants: no visible binding for global variable
  ‘mutType’
.generateBackgroundVariants: no visible binding for global variable
  ‘start’
.generateBackgroundVariants: no visible binding for global variable
  ‘mutLength’
.generateBackgroundVariants: no visible binding for global variable
  ‘REF’
.generateKataegisFoci: no visible binding for global variable
  ‘seqnames’
.generateKataegisFoci: no visible binding for global variable
  ‘startKataegisFoci’
.generateKataegisVariants: no visible binding for global variable
  ‘synthFociID’
.generateKataegisVariants: no visible binding for global variable
  ‘startKataegisFoci’
.generateKataegisVariants: no visible binding for global variable
  ‘endKataegisFoci’
.generateKataegisVariants: no visible binding for global variable
  ‘start’
.generateRainfallPlot: no visible binding for global variable
  ‘variantID’
.generateRainfallPlot: no visible binding for global variable ‘IMD’
.generateRainfallPlot: no visible binding for global variable
  ‘seqnames’
.generateRainfallPlot: no visible binding for global variable
  ‘variantType’
.generateRainfallPlot: no visible binding for global variable
  ‘putativeKataegis’
.generateRainfallPlot: no visible binding for global variable
  ‘firstVariantID’
.generateRainfallPlot: no visible binding for global variable
  ‘lastVariantID’
.generateRainfallPlot: no visible binding for global variable ‘meanIMD’
.mergeKataegisSegments: no visible binding for global variable
  ‘segmentID’
.mergeKataegisSegments: no visible binding for global variable
  ‘seqnames’
.mergeKataegisSegments: no visible binding for global variable ‘fociID’
.mergeKataegisSegments: no visible binding for global variable ‘start’
.mergeKataegisSegments: no visible binding for global variable ‘end’
.mergeKataegisSegments: no visible binding for global variable
  ‘sampleNames’
.mergeKataegisSegments: no visible binding for global variable
  ‘totalVariants’
.mergeKataegisSegments: no visible binding for global variable
  ‘firstVariantID’
.mergeKataegisSegments: no visible binding for global variable
  ‘lastVariantID’
.mergeKataegisSegments: no visible binding for global variable
  ‘meanIMD’
.mergeKataegisSegments: no visible binding for global variable
  ‘IMDcutoff’
.removeValidationColumns: no visible binding for global variable
  ‘seqnames’
.removeValidationColumns: no visible binding for global variable
  ‘start’
.removeValidationColumns: no visible binding for global variable ‘end’
.removeValidationColumns: no visible binding for global variable
  ‘width’
.removeValidationColumns: no visible binding for global variable
  ‘strand’
.removeValidationColumns: no visible binding for global variable ‘ref’
.removeValidationColumns: no visible binding for global variable ‘alt’
.removeValidationColumns: no visible binding for global variable
  ‘totalDepth’
.removeValidationColumns: no visible binding for global variable
  ‘refDepth’
.removeValidationColumns: no visible binding for global variable
  ‘altDepth’
.removeValidationColumns: no visible binding for global variable
  ‘sampleNames’
.selectSequences: no visible binding for global variable ‘seqnames’
determineSegments: no visible binding for global variable ‘sampleNames’
determineSegments: no visible binding for global variable ‘seqnames’
determineSegments: no visible binding for global variable ‘segmentID’
determineSegments: no visible binding for global variable ‘variantID’
determineSegments: no visible binding for global variable ‘start’
determineSegments: no visible binding for global variable ‘IMD’
determineSegments: no visible binding for global variable ‘end’
determineSegments: no visible binding for global variable ‘meanIMD’
determineSegments: no visible binding for global variable
  ‘totalVariants’
determineSegments: no visible binding for global variable
  ‘mutationRate’
rainfallPlot: no visible binding for global variable ‘seqnames’
Undefined global functions or variables:
  IMD IMDcutoff REF alt altDepth end endKataegisFoci firstVariantID
  firstVariantOfSeqname fociID lastVariantID meanIMD mutLength mutType
  mutationRate putativeKataegis ref refDepth sampleNames segmentID
  seqnames start startKataegisFoci strand synthFociID totalDepth
  totalVariants variantID variantType width
Consider adding
  importFrom("stats", "end", "start")
to your NAMESPACE file.
* checking Rd files ... OK
* checking Rd metadata ... OK
* checking Rd cross-references ... NOTE
Non-topic package-anchored link(s) in Rd file 'rainfallPlot.Rd':
  ‘[katdetectr]{KatDetect}’

See section 'Cross-references' in the 'Writing R Extensions' manual.
* checking for missing documentation entries ... OK
* checking for code/documentation mismatches ... OK
* checking Rd \usage sections ... OK
* checking Rd contents ... OK
* checking for unstated dependencies in examples ... OK
* checking files in ‘vignettes’ ... OK
* checking examples ... OK
Examples with CPU (user + system) or elapsed time > 5s
              user system elapsed
rainfallPlot 7.840  0.193   8.075
KatDetect    6.211  0.343   6.583
* checking for unstated dependencies in ‘tests’ ... OK
* checking tests ...
  Running ‘testthat.R’
 OK
* checking for unstated dependencies in vignettes ... OK
* checking package vignettes ... OK
* checking running R code from vignettes ... SKIPPED
* checking re-building of vignette outputs ... SKIPPED
* checking PDF version of manual ... OK
* DONE

Status: 2 NOTEs
See
  ‘/Users/biocbuild/bbs-3.22-bioc/meat/katdetectr.Rcheck/00check.log’
for details.


Installation output

katdetectr.Rcheck/00install.out

##############################################################################
##############################################################################
###
### Running command:
###
###   /Library/Frameworks/R.framework/Resources/bin/R CMD INSTALL katdetectr
###
##############################################################################
##############################################################################


* installing to library ‘/Library/Frameworks/R.framework/Versions/4.5-x86_64/Resources/library’
* installing *source* package ‘katdetectr’ ...
** this is package ‘katdetectr’ version ‘1.11.1’
** using staged installation
** R
** inst
** byte-compile and prepare package for lazy loading
** help
*** installing help indices
** building package indices
** installing vignettes
** testing if installed package can be loaded from temporary location
** testing if installed package can be loaded from final location
** testing if installed package keeps a record of temporary installation path
* DONE (katdetectr)

Tests output

katdetectr.Rcheck/tests/testthat.Rout


R version 4.5.0 Patched (2025-04-21 r88169) -- "How About a Twenty-Six"
Copyright (C) 2025 The R Foundation for Statistical Computing
Platform: x86_64-apple-darwin20

R is free software and comes with ABSOLUTELY NO WARRANTY.
You are welcome to redistribute it under certain conditions.
Type 'license()' or 'licence()' for distribution details.

R is a collaborative project with many contributors.
Type 'contributors()' for more information and
'citation()' on how to cite R or R packages in publications.

Type 'demo()' for some demos, 'help()' for on-line help, or
'help.start()' for an HTML browser interface to help.
Type 'q()' to quit R.

> library(testthat)
> library(katdetectr)
> 
> test_check("katdetectr")
[ FAIL 0 | WARN 0 | SKIP 0 | PASS 187 ]
> 
> proc.time()
   user  system elapsed 
 52.616   1.722  54.747 

Example timings

katdetectr.Rcheck/katdetectr-Ex.timings

nameusersystemelapsed
KatDetect6.2110.3436.583
constructKatdetect0.0590.0010.059
detectKataegis3.8750.1344.032
generateSyntheticData2.5070.1532.674
getGenomicVariants0.0710.0000.072
getInfo0.0570.0000.058
getKataegisFoci0.0620.0000.062
getSegments0.0630.0010.064
rainfallPlot7.8400.1938.075