Back to Multiple platform build/check report for BioC 3.22:   simplified   long
ABCDEFGHIJ[K]LMNOPQRSTUVWXYZ

This page was generated on 2025-10-23 12:05 -0400 (Thu, 23 Oct 2025).

HostnameOSArch (*)R versionInstalled pkgs
nebbiolo2Linux (Ubuntu 24.04.3 LTS)x86_644.5.1 Patched (2025-08-23 r88802) -- "Great Square Root" 4894
lconwaymacOS 12.7.6 Montereyx86_644.5.1 Patched (2025-09-10 r88807) -- "Great Square Root" 4684
kjohnson3macOS 13.7.7 Venturaarm644.5.1 Patched (2025-09-10 r88807) -- "Great Square Root" 4629
taishanLinux (openEuler 24.03 LTS)aarch644.5.0 (2025-04-11) -- "How About a Twenty-Six" 4642
Click on any hostname to see more info about the system (e.g. compilers)      (*) as reported by 'uname -p', except on Windows and Mac OS X

Package 1105/2355HostnameOS / ArchINSTALLBUILDCHECKBUILD BIN
karyoploteR 1.35.3  (landing page)
Bernat Gel
Snapshot Date: 2025-10-22 13:45 -0400 (Wed, 22 Oct 2025)
git_url: https://git.bioconductor.org/packages/karyoploteR
git_branch: devel
git_last_commit: e4bd027
git_last_commit_date: 2025-06-21 02:09:56 -0400 (Sat, 21 Jun 2025)
nebbiolo2Linux (Ubuntu 24.04.3 LTS) / x86_64  OK    OK    OK  UNNEEDED, same version is already published
lconwaymacOS 12.7.6 Monterey / x86_64  OK    OK    OK    OK  UNNEEDED, same version is already published
kjohnson3macOS 13.7.7 Ventura / arm64  OK    OK    OK    OK  UNNEEDED, same version is already published
taishanLinux (openEuler 24.03 LTS) / aarch64  OK    OK    NA  


CHECK results for karyoploteR on lconway

To the developers/maintainers of the karyoploteR package:
- Allow up to 24 hours (and sometimes 48 hours) for your latest push to git@git.bioconductor.org:packages/karyoploteR.git to reflect on this report. See Troubleshooting Build Report for more information.
- Use the following Renviron settings to reproduce errors and warnings.
- If 'R CMD check' started to fail recently on the Linux builder(s) over a missing dependency, add the missing dependency to 'Suggests:' in your DESCRIPTION file. See Renviron.bioc for more information.

raw results


Summary

Package: karyoploteR
Version: 1.35.3
Command: /Library/Frameworks/R.framework/Resources/bin/R CMD check --install=check:karyoploteR.install-out.txt --library=/Library/Frameworks/R.framework/Resources/library --no-vignettes --timings karyoploteR_1.35.3.tar.gz
StartedAt: 2025-10-22 21:56:27 -0400 (Wed, 22 Oct 2025)
EndedAt: 2025-10-22 22:08:33 -0400 (Wed, 22 Oct 2025)
EllapsedTime: 726.1 seconds
RetCode: 0
Status:   OK  
CheckDir: karyoploteR.Rcheck
Warnings: 0

Command output

##############################################################################
##############################################################################
###
### Running command:
###
###   /Library/Frameworks/R.framework/Resources/bin/R CMD check --install=check:karyoploteR.install-out.txt --library=/Library/Frameworks/R.framework/Resources/library --no-vignettes --timings karyoploteR_1.35.3.tar.gz
###
##############################################################################
##############################################################################


* using log directory ‘/Users/biocbuild/bbs-3.22-bioc/meat/karyoploteR.Rcheck’
* using R version 4.5.1 Patched (2025-09-10 r88807)
* using platform: x86_64-apple-darwin20
* R was compiled by
    Apple clang version 14.0.0 (clang-1400.0.29.202)
    GNU Fortran (GCC) 14.2.0
* running under: macOS Monterey 12.7.6
* using session charset: UTF-8
* using option ‘--no-vignettes’
* checking for file ‘karyoploteR/DESCRIPTION’ ... OK
* checking extension type ... Package
* this is package ‘karyoploteR’ version ‘1.35.3’
* package encoding: UTF-8
* checking package namespace information ... OK
* checking package dependencies ... OK
* checking if this is a source package ... OK
* checking if there is a namespace ... OK
* checking for hidden files and directories ... OK
* checking for portable file names ... OK
* checking for sufficient/correct file permissions ... OK
* checking whether package ‘karyoploteR’ can be installed ... OK
* checking installed package size ... OK
* checking package directory ... OK
* checking ‘build’ directory ... OK
* checking DESCRIPTION meta-information ... NOTE
Packages listed in more than one of Depends, Imports, Suggests, Enhances:
  ‘regioneR’ ‘GenomicRanges’
A package should be listed in only one of these fields.
* checking top-level files ... OK
* checking for left-over files ... OK
* checking index information ... OK
* checking package subdirectories ... NOTE
Problems with news in ‘NEWS’:
  Cannot process chunk/lines:
    NEW FEATURES
  Cannot process chunk/lines:
    SIGNIFICANT USER-VISIBLE CHANGES
  Cannot process chunk/lines:
    NEW FEATURES
  Cannot process chunk/lines:
    SIGNIFICANT USER-VISIBLE CHANGES
* checking code files for non-ASCII characters ... OK
* checking R files for syntax errors ... OK
* checking whether the package can be loaded ... OK
* checking whether the package can be loaded with stated dependencies ... OK
* checking whether the package can be unloaded cleanly ... OK
* checking whether the namespace can be loaded with stated dependencies ... OK
* checking whether the namespace can be unloaded cleanly ... OK
* checking whether startup messages can be suppressed ... OK
* checking dependencies in R code ... OK
* checking S3 generic/method consistency ... OK
* checking replacement functions ... OK
* checking foreign function calls ... OK
* checking R code for possible problems ... OK
* checking Rd files ... NOTE
checkRd: (-1) kpPlotBAMCoverage.Rd:48: Lost braces
    48 | There's more information at the \url{https://bernatgel.github.io/karyoploter_tutorial/}{karyoploteR tutorial}.
       |                                                                                        ^
checkRd: (-1) kpPlotBAMDensity.Rd:48: Lost braces
    48 | There's more information at the \url{https://bernatgel.github.io/karyoploter_tutorial/}{karyoploteR tutorial}.
       |                                                                                        ^
checkRd: (-1) kpPlotCoverage.Rd:46: Lost braces
    46 |  There's more information at the \url{https://bernatgel.github.io/karyoploter_tutorial/}{karyoploteR tutorial}.
       |                                                                                         ^
checkRd: (-1) kpPlotDensity.Rd:42: Lost braces
    42 | There's more information at the \url{https://bernatgel.github.io/karyoploter_tutorial/}{karyoploteR tutorial}.
       |                                                                                        ^
checkRd: (-1) kpPlotManhattan.Rd:80: Lost braces
    80 | There's more information at the \url{https://bernatgel.github.io/karyoploter_tutorial/}{karyoploteR tutorial}.
       |                                                                                        ^
checkRd: (-1) kpPlotMarkers.Rd:81: Lost braces
    81 | There's more information at the \url{https://bernatgel.github.io/karyoploter_tutorial/}{karyoploteR tutorial}.
       |                                                                                        ^
checkRd: (-1) kpPlotRainfall.Rd:47: Lost braces
    47 | There's more information at the \url{https://bernatgel.github.io/karyoploter_tutorial/}{karyoploteR tutorial}.
       |                                                                                        ^
checkRd: (-1) kpPoints.Rd:54: Lost braces
    54 | There's more information at the \url{https://bernatgel.github.io/karyoploter_tutorial/}{karyoploteR tutorial}.
       |                                                                                        ^
checkRd: (-1) kpRect.Rd:55: Lost braces
    55 | There's more information at the \url{https://bernatgel.github.io/karyoploter_tutorial/}{karyoploteR tutorial}.
       |                                                                                        ^
checkRd: (-1) plotKaryotype.Rd:61: Lost braces
    61 | There's more information at the \url{https://bernatgel.github.io/karyoploter_tutorial/}{karyoploteR tutorial}.
       |                                                                                        ^
* checking Rd metadata ... OK
* checking Rd cross-references ... NOTE
Found the following Rd file(s) with Rd \link{} targets missing package
anchors:
  getCytobands.Rd: GenomicRanges, memoise, forget
  kpPlotBAMCoverage.Rd: bamsignals
  kpPlotBAMDensity.Rd: Rsamtools
  kpPlotBigWig.Rd: BigWigFile
Please provide package anchors for all Rd \link{} targets not in the
package itself and the base packages.
* checking for missing documentation entries ... OK
* checking for code/documentation mismatches ... OK
* checking Rd \usage sections ... OK
* checking Rd contents ... OK
* checking for unstated dependencies in examples ... OK
* checking R/sysdata.rda ... OK
* checking files in ‘vignettes’ ... OK
* checking examples ... OK
Examples with CPU (user + system) or elapsed time > 5s
                         user system elapsed
mergeTranscripts      105.727  1.139 107.669
kpPlotGenes            82.484  1.395  84.509
kpPlotDensity          45.016  3.598  49.143
kpPlotHorizon          16.385  0.107  16.602
kpPlotRegions          12.923  0.097  13.082
kpPlotBAMCoverage       8.943  0.337   9.353
kpPlotTranscripts       7.481  0.057   7.578
makeGenesDataFromTxDb   6.932  0.158   7.139
addGeneNames            6.213  0.203   6.470
kpPlotManhattan         5.177  0.172   5.390
* checking for unstated dependencies in ‘tests’ ... OK
* checking tests ...
  Running ‘testthat.R’
 OK
* checking for unstated dependencies in vignettes ... OK
* checking package vignettes ... OK
* checking running R code from vignettes ... SKIPPED
* checking re-building of vignette outputs ... SKIPPED
* checking PDF version of manual ... OK
* DONE

Status: 4 NOTEs
See
  ‘/Users/biocbuild/bbs-3.22-bioc/meat/karyoploteR.Rcheck/00check.log’
for details.


Installation output

karyoploteR.Rcheck/00install.out

##############################################################################
##############################################################################
###
### Running command:
###
###   /Library/Frameworks/R.framework/Resources/bin/R CMD INSTALL karyoploteR
###
##############################################################################
##############################################################################


* installing to library ‘/Library/Frameworks/R.framework/Versions/4.5-x86_64/Resources/library’
* installing *source* package ‘karyoploteR’ ...
** this is package ‘karyoploteR’ version ‘1.35.3’
** using staged installation
** R
** inst
** byte-compile and prepare package for lazy loading
** help
*** installing help indices
** building package indices
** installing vignettes
** testing if installed package can be loaded from temporary location
** testing if installed package can be loaded from final location
** testing if installed package keeps a record of temporary installation path
* DONE (karyoploteR)

Tests output

karyoploteR.Rcheck/tests/testthat.Rout


R version 4.5.1 Patched (2025-09-10 r88807) -- "Great Square Root"
Copyright (C) 2025 The R Foundation for Statistical Computing
Platform: x86_64-apple-darwin20

R is free software and comes with ABSOLUTELY NO WARRANTY.
You are welcome to redistribute it under certain conditions.
Type 'license()' or 'licence()' for distribution details.

R is a collaborative project with many contributors.
Type 'contributors()' for more information and
'citation()' on how to cite R or R packages in publications.

Type 'demo()' for some demos, 'help()' for on-line help, or
'help.start()' for an HTML browser interface to help.
Type 'q()' to quit R.

> library(testthat)
> library(karyoploteR)
Loading required package: regioneR
Loading required package: GenomicRanges
Loading required package: stats4
Loading required package: BiocGenerics
Loading required package: generics

Attaching package: 'generics'

The following objects are masked from 'package:base':

    as.difftime, as.factor, as.ordered, intersect, is.element, setdiff,
    setequal, union


Attaching package: 'BiocGenerics'

The following objects are masked from 'package:stats':

    IQR, mad, sd, var, xtabs

The following objects are masked from 'package:base':

    Filter, Find, Map, Position, Reduce, anyDuplicated, aperm, append,
    as.data.frame, basename, cbind, colnames, dirname, do.call,
    duplicated, eval, evalq, get, grep, grepl, is.unsorted, lapply,
    mapply, match, mget, order, paste, pmax, pmax.int, pmin, pmin.int,
    rank, rbind, rownames, sapply, saveRDS, table, tapply, unique,
    unsplit, which.max, which.min

Loading required package: S4Vectors

Attaching package: 'S4Vectors'

The following object is masked from 'package:utils':

    findMatches

The following objects are masked from 'package:base':

    I, expand.grid, unname

Loading required package: IRanges
Loading required package: Seqinfo
> 
> test_check("karyoploteR")
[ FAIL 0 | WARN 0 | SKIP 3 | PASS 177 ]

══ Skipped tests (3) ═══════════════════════════════════════════════════════════
• empty test (3): 'test_plotKaryotype.R:27:1', 'test_plotKaryotype.R:34:1',
  'test_plotKaryotype.R:44:1'

[ FAIL 0 | WARN 0 | SKIP 3 | PASS 177 ]
> 
> proc.time()
   user  system elapsed 
 20.058   1.084  21.255 

Example timings

karyoploteR.Rcheck/karyoploteR-Ex.timings

nameusersystemelapsed
addGeneNames6.2130.2036.470
autotrack0.0010.0000.001
colByCategory0.0030.0010.004
colByChr0.6440.0090.660
colByRegion1.3730.1541.545
colByValue0.2600.0060.270
darker0.0010.0010.001
filterParams000
findIntersections0.1740.0020.177
getChromosomeNamesBoundingBox0.0670.0010.070
getColorSchemas0.0010.0030.005
getCytobandColors0.0010.0010.002
getCytobands0.0020.0000.003
getDataPanelBoundingBox0.0610.0010.064
getDefaultPlotParams0.1020.0100.113
getMainTitleBoundingBox0.0570.0030.061
getTextSize0.1140.0030.117
getVariantsColors0.0010.0000.002
horizonColors0.0040.0010.005
is.color0.0000.0010.001
kpAbline2.6921.0593.804
kpAddBaseNumbers0.4490.0050.461
kpAddChromosomeNames0.0530.0030.056
kpAddChromosomeSeparators0.6510.0070.662
kpAddColorRect0.1710.0030.175
kpAddCytobandLabels0.4550.0050.463
kpAddCytobands0.0450.0020.048
kpAddCytobandsAsLine0.0830.0020.087
kpAddLabels0.5290.0080.542
kpAddMainTitle0.0440.0020.046
kpArea0.4490.0060.459
kpArrows0.6340.0090.647
kpAxis0.3770.0050.385
kpBars0.2210.0020.225
kpDataBackground0.3080.0040.314
kpHeatmap0.1450.0030.148
kpLines0.3000.0050.306
kpPlotBAMCoverage8.9430.3379.353
kpPlotBAMDensity1.6400.0461.699
kpPlotBigWig0.9820.0321.021
kpPlotCoverage0.4830.0120.499
kpPlotDensity45.016 3.59849.143
kpPlotGenes82.484 1.39584.509
kpPlotHorizon16.385 0.10716.602
kpPlotLinks1.1000.0131.119
kpPlotLoess0.0710.0020.074
kpPlotManhattan5.1770.1725.390
kpPlotMarkers1.8130.0221.848
kpPlotNames0.1090.0020.112
kpPlotRainfall0.7890.0100.804
kpPlotRegions12.923 0.09713.082
kpPlotRibbon0.1000.0020.102
kpPlotTranscripts7.4810.0577.578
kpPoints0.2810.0050.288
kpPolygon0.2530.0070.263
kpRect0.8730.0080.887
kpSegments0.6160.0050.624
kpText0.3280.0060.337
lighter0.0000.0010.001
makeGenesDataFromTxDb6.9320.1587.139
mergeTranscripts105.727 1.139107.669
plotDefaultPlotParams0.2140.0030.219
plotKaryotype1.2340.0341.277
plotPalettes0.0190.0030.022
prepareParameters20.0490.0020.052
prepareParameters40.0500.0020.052
processClipping0.0470.0030.050
transparent0.0010.0010.001