| Back to Multiple platform build/check report for BioC 3.22: simplified long |
|
This page was generated on 2025-10-23 12:06 -0400 (Thu, 23 Oct 2025).
| Hostname | OS | Arch (*) | R version | Installed pkgs |
|---|---|---|---|---|
| nebbiolo2 | Linux (Ubuntu 24.04.3 LTS) | x86_64 | 4.5.1 Patched (2025-08-23 r88802) -- "Great Square Root" | 4894 |
| lconway | macOS 12.7.6 Monterey | x86_64 | 4.5.1 Patched (2025-09-10 r88807) -- "Great Square Root" | 4684 |
| kjohnson3 | macOS 13.7.7 Ventura | arm64 | 4.5.1 Patched (2025-09-10 r88807) -- "Great Square Root" | 4629 |
| taishan | Linux (openEuler 24.03 LTS) | aarch64 | 4.5.0 (2025-04-11) -- "How About a Twenty-Six" | 4642 |
| Click on any hostname to see more info about the system (e.g. compilers) (*) as reported by 'uname -p', except on Windows and Mac OS X | ||||
| Package 1047/2355 | Hostname | OS / Arch | INSTALL | BUILD | CHECK | BUILD BIN | ||||||||
| immApex 1.3.7 (landing page) Nick Borcherding
| nebbiolo2 | Linux (Ubuntu 24.04.3 LTS) / x86_64 | OK | OK | ERROR | |||||||||
| lconway | macOS 12.7.6 Monterey / x86_64 | OK | OK | ERROR | OK | |||||||||
| kjohnson3 | macOS 13.7.7 Ventura / arm64 | OK | OK | ERROR | OK | |||||||||
| taishan | Linux (openEuler 24.03 LTS) / aarch64 | OK | OK | NA | ||||||||||
|
To the developers/maintainers of the immApex package: - Allow up to 24 hours (and sometimes 48 hours) for your latest push to git@git.bioconductor.org:packages/immApex.git to reflect on this report. See Troubleshooting Build Report for more information. - Use the following Renviron settings to reproduce errors and warnings. - If 'R CMD check' started to fail recently on the Linux builder(s) over a missing dependency, add the missing dependency to 'Suggests:' in your DESCRIPTION file. See Renviron.bioc for more information. |
| Package: immApex |
| Version: 1.3.7 |
| Command: /Library/Frameworks/R.framework/Resources/bin/R CMD check --install=check:immApex.install-out.txt --library=/Library/Frameworks/R.framework/Resources/library --no-vignettes --timings immApex_1.3.7.tar.gz |
| StartedAt: 2025-10-22 20:16:58 -0400 (Wed, 22 Oct 2025) |
| EndedAt: 2025-10-22 20:18:30 -0400 (Wed, 22 Oct 2025) |
| EllapsedTime: 92.1 seconds |
| RetCode: 1 |
| Status: ERROR |
| CheckDir: immApex.Rcheck |
| Warnings: NA |
##############################################################################
##############################################################################
###
### Running command:
###
### /Library/Frameworks/R.framework/Resources/bin/R CMD check --install=check:immApex.install-out.txt --library=/Library/Frameworks/R.framework/Resources/library --no-vignettes --timings immApex_1.3.7.tar.gz
###
##############################################################################
##############################################################################
* using log directory ‘/Users/biocbuild/bbs-3.22-bioc/meat/immApex.Rcheck’
* using R version 4.5.1 Patched (2025-09-10 r88807)
* using platform: aarch64-apple-darwin20
* R was compiled by
Apple clang version 16.0.0 (clang-1600.0.26.6)
GNU Fortran (GCC) 14.2.0
* running under: macOS Ventura 13.7.7
* using session charset: UTF-8
* using option ‘--no-vignettes’
* checking for file ‘immApex/DESCRIPTION’ ... OK
* this is package ‘immApex’ version ‘1.3.7’
* package encoding: UTF-8
* checking package namespace information ... OK
* checking package dependencies ... OK
* checking if this is a source package ... OK
* checking if there is a namespace ... OK
* checking for hidden files and directories ... OK
* checking for portable file names ... OK
* checking for sufficient/correct file permissions ... OK
* checking whether package ‘immApex’ can be installed ... OK
* used C++ compiler: ‘Apple clang version 15.0.0 (clang-1500.1.0.2.5)’
* used SDK: ‘MacOSX11.3.1.sdk’
* checking C++ specification ... OK
* checking installed package size ... OK
* checking package directory ... OK
* checking ‘build’ directory ... OK
* checking DESCRIPTION meta-information ... OK
* checking top-level files ... OK
* checking for left-over files ... OK
* checking index information ... OK
* checking package subdirectories ... OK
* checking code files for non-ASCII characters ... OK
* checking R files for syntax errors ... OK
* checking whether the package can be loaded ... OK
* checking whether the package can be loaded with stated dependencies ... OK
* checking whether the package can be unloaded cleanly ... OK
* checking whether the namespace can be loaded with stated dependencies ... OK
* checking whether the namespace can be unloaded cleanly ... OK
* checking whether startup messages can be suppressed ... OK
* checking dependencies in R code ... OK
* checking S3 generic/method consistency ... OK
* checking replacement functions ... OK
* checking foreign function calls ... OK
* checking R code for possible problems ... OK
* checking Rd files ... OK
* checking Rd metadata ... OK
* checking Rd cross-references ... OK
* checking for missing documentation entries ... OK
* checking for code/documentation mismatches ... OK
* checking Rd \usage sections ... OK
* checking Rd contents ... OK
* checking for unstated dependencies in examples ... OK
* checking contents of ‘data’ directory ... OK
* checking data for non-ASCII characters ... OK
* checking data for ASCII and uncompressed saves ... OK
* checking line endings in C/C++/Fortran sources/headers ... OK
* checking line endings in Makefiles ... OK
* checking compilation flags in Makevars ... OK
* checking for GNU extensions in Makefiles ... OK
* checking for portable use of $(BLAS_LIBS) and $(LAPACK_LIBS) ... OK
* checking use of PKG_*FLAGS in Makefiles ... OK
* checking compiled code ... NOTE
Note: information on .o files is not available
* checking files in ‘vignettes’ ... OK
* checking examples ... OK
* checking for unstated dependencies in ‘tests’ ... OK
* checking tests ...
Running ‘spelling.R’
Running ‘testthat.R’
ERROR
Running the tests in ‘tests/testthat.R’ failed.
Last 13 lines of output:
`TRBV_human_inframe_aa` not equal to getdata("getIMGT", "getIMGT_TRBV_human_inframe_aa").
Component "sequences": Names: 142 string mismatches
Component "sequences": Length mismatch: comparison on first 155 components
Component "sequences": Component "TRBV10-3*03": 1 string mismatch
Component "sequences": Component 14: 1 string mismatch
Component "sequences": Component 15: 1 string mismatch
Component "sequences": Component 16: 1 string mismatch
Component "sequences": Component 17: 1 string mismatch
Component "sequences": Component 18: 1 string mismatch
Component "sequences": Component 19: 1 string mismatch
...
[ FAIL 1 | WARN 0 | SKIP 0 | PASS 361 ]
Error: Test failures
Execution halted
* checking for unstated dependencies in vignettes ... OK
* checking package vignettes ... OK
* checking running R code from vignettes ... SKIPPED
* checking re-building of vignette outputs ... SKIPPED
* checking PDF version of manual ... OK
* DONE
Status: 1 ERROR, 1 NOTE
See
‘/Users/biocbuild/bbs-3.22-bioc/meat/immApex.Rcheck/00check.log’
for details.
immApex.Rcheck/00install.out
##############################################################################
##############################################################################
###
### Running command:
###
### /Library/Frameworks/R.framework/Resources/bin/R CMD INSTALL immApex
###
##############################################################################
##############################################################################
* installing to library ‘/Library/Frameworks/R.framework/Versions/4.5-arm64/Resources/library’
* installing *source* package ‘immApex’ ...
** this is package ‘immApex’ version ‘1.3.7’
** using staged installation
** libs
using C++ compiler: ‘Apple clang version 15.0.0 (clang-1500.1.0.2.5)’
using C++17
using SDK: ‘MacOSX11.3.1.sdk’
clang++ -arch arm64 -std=gnu++17 -I"/Library/Frameworks/R.framework/Resources/include" -DNDEBUG -I'/Library/Frameworks/R.framework/Versions/4.5-arm64/Resources/library/Rcpp/include' -I/opt/R/arm64/include -fPIC -falign-functions=64 -Wall -g -O2 -c RcppExports.cpp -o RcppExports.o
clang++ -arch arm64 -std=gnu++17 -I"/Library/Frameworks/R.framework/Resources/include" -DNDEBUG -I'/Library/Frameworks/R.framework/Versions/4.5-arm64/Resources/library/Rcpp/include' -I/opt/R/arm64/include -fPIC -falign-functions=64 -Wall -g -O2 -c calculateMotif.cpp -o calculateMotif.o
calculateMotif.cpp:44:7: warning: variable 'nthreads' set but not used [-Wunused-but-set-variable]
int nthreads = std::max(1, nthreads_requested);
^
1 warning generated.
clang++ -arch arm64 -std=gnu++17 -I"/Library/Frameworks/R.framework/Resources/include" -DNDEBUG -I'/Library/Frameworks/R.framework/Versions/4.5-arm64/Resources/library/Rcpp/include' -I/opt/R/arm64/include -fPIC -falign-functions=64 -Wall -g -O2 -c encodeSequences.cpp -o encodeSequences.o
clang++ -arch arm64 -std=gnu++17 -I"/Library/Frameworks/R.framework/Resources/include" -DNDEBUG -I'/Library/Frameworks/R.framework/Versions/4.5-arm64/Resources/library/Rcpp/include' -I/opt/R/arm64/include -fPIC -falign-functions=64 -Wall -g -O2 -c fastEditEdges.cpp -o fastEditEdges.o
clang++ -arch arm64 -std=gnu++17 -dynamiclib -Wl,-headerpad_max_install_names -undefined dynamic_lookup -L/Library/Frameworks/R.framework/Resources/lib -L/opt/R/arm64/lib -o immApex.so RcppExports.o calculateMotif.o encodeSequences.o fastEditEdges.o -F/Library/Frameworks/R.framework/.. -framework R
installing to /Library/Frameworks/R.framework/Versions/4.5-arm64/Resources/library/00LOCK-immApex/00new/immApex/libs
** R
** data
** inst
** byte-compile and prepare package for lazy loading
** help
*** installing help indices
** building package indices
** installing vignettes
** testing if installed package can be loaded from temporary location
** checking absolute paths in shared objects and dynamic libraries
** testing if installed package can be loaded from final location
** testing if installed package keeps a record of temporary installation path
* DONE (immApex)
immApex.Rcheck/tests/spelling.Rout
R version 4.5.1 Patched (2025-09-10 r88807) -- "Great Square Root"
Copyright (C) 2025 The R Foundation for Statistical Computing
Platform: aarch64-apple-darwin20
R is free software and comes with ABSOLUTELY NO WARRANTY.
You are welcome to redistribute it under certain conditions.
Type 'license()' or 'licence()' for distribution details.
R is a collaborative project with many contributors.
Type 'contributors()' for more information and
'citation()' on how to cite R or R packages in publications.
Type 'demo()' for some demos, 'help()' for on-line help, or
'help.start()' for an HTML browser interface to help.
Type 'q()' to quit R.
> if(requireNamespace('spelling', quietly = TRUE))
+ spelling::spell_check_test(vignettes = TRUE, error = FALSE,
+ skip_on_cran = TRUE)
All Done!
>
> proc.time()
user system elapsed
0.067 0.019 0.082
immApex.Rcheck/tests/testthat.Rout.fail
R version 4.5.1 Patched (2025-09-10 r88807) -- "Great Square Root"
Copyright (C) 2025 The R Foundation for Statistical Computing
Platform: aarch64-apple-darwin20
R is free software and comes with ABSOLUTELY NO WARRANTY.
You are welcome to redistribute it under certain conditions.
Type 'license()' or 'licence()' for distribution details.
R is a collaborative project with many contributors.
Type 'contributors()' for more information and
'citation()' on how to cite R or R packages in publications.
Type 'demo()' for some demos, 'help()' for on-line help, or
'help.start()' for an HTML browser interface to help.
Type 'q()' to quit R.
> # This file is part of the standard setup for testthat.
> # It is recommended that you do not modify it.
> #
> # Where should you do additional test configuration?
> # Learn more about the roles of various files in:
> # * https://r-pkgs.org/tests.html
> # * https://testthat.r-lib.org/reference/test_package.html#special-files
>
> library(testthat)
> library(immApex)
>
> test_check("immApex")
[ FAIL 1 | WARN 0 | SKIP 0 | PASS 361 ]
══ Failed tests ════════════════════════════════════════════════════════════════
── Failure ('test-getIMGT.R:24:3'): getIMGT works when IMGT website is available ──
`TRBV_human_inframe_aa` not equal to getdata("getIMGT", "getIMGT_TRBV_human_inframe_aa").
Component "sequences": Names: 142 string mismatches
Component "sequences": Length mismatch: comparison on first 155 components
Component "sequences": Component "TRBV10-3*03": 1 string mismatch
Component "sequences": Component 14: 1 string mismatch
Component "sequences": Component 15: 1 string mismatch
Component "sequences": Component 16: 1 string mismatch
Component "sequences": Component 17: 1 string mismatch
Component "sequences": Component 18: 1 string mismatch
Component "sequences": Component 19: 1 string mismatch
...
[ FAIL 1 | WARN 0 | SKIP 0 | PASS 361 ]
Error: Test failures
Execution halted
immApex.Rcheck/immApex-Ex.timings
| name | user | system | elapsed | |
| ace_richness | 0 | 0 | 0 | |
| adjacencyMatrix | 0.000 | 0.000 | 0.001 | |
| buildNetwork | 0.303 | 0.006 | 0.309 | |
| calculateEntropy | 0.001 | 0.000 | 0.001 | |
| calculateFrequency | 0.002 | 0.001 | 0.001 | |
| calculateGeneUsage | 0 | 0 | 0 | |
| calculateMotif | 0.001 | 0.000 | 0.001 | |
| calculateProperty | 0.000 | 0.000 | 0.001 | |
| chao1_richness | 0 | 0 | 0 | |
| d50_dom | 0.000 | 0.000 | 0.001 | |
| dxx_dom | 0 | 0 | 0 | |
| formatGenes | 0.683 | 0.198 | 0.891 | |
| generateSequences | 0.001 | 0.000 | 0.001 | |
| getIMGT | 0 | 0 | 0 | |
| gini_coef | 0 | 0 | 0 | |
| gini_simpson | 0 | 0 | 0 | |
| hill_q | 0 | 0 | 0 | |
| inferCDR | 0 | 0 | 0 | |
| inv_simpson | 0 | 0 | 0 | |
| mutateSequences | 0.001 | 0.001 | 0.002 | |
| norm_entropy | 0 | 0 | 0 | |
| pielou_evenness | 0.001 | 0.000 | 0.000 | |
| positionalEncoder | 0 | 0 | 0 | |
| probabilityMatrix | 0.001 | 0.000 | 0.001 | |
| scaleMatrix | 0.001 | 0.000 | 0.001 | |
| sequenceDecoder | 0.007 | 0.006 | 0.015 | |
| sequenceEncoder | 0.004 | 0.005 | 0.010 | |
| shannon_entropy | 0 | 0 | 0 | |
| summaryMatrix | 0.002 | 0.000 | 0.002 | |
| tokenizeSequences | 0.002 | 0.000 | 0.001 | |