Back to Multiple platform build/check report for BioC 3.21:   simplified   long
ABCDEFG[H]IJKLMNOPQRSTUVWXYZ

This page was generated on 2025-02-03 12:37 -0500 (Mon, 03 Feb 2025).

HostnameOSArch (*)R versionInstalled pkgs
nebbiolo1Linux (Ubuntu 24.04.1 LTS)x86_64R Under development (unstable) (2025-01-20 r87609) -- "Unsuffered Consequences" 4704
palomino7Windows Server 2022 Datacenterx64R Under development (unstable) (2025-01-21 r87610 ucrt) -- "Unsuffered Consequences" 4467
lconwaymacOS 12.7.1 Montereyx86_64R Under development (unstable) (2025-01-22 r87618) -- "Unsuffered Consequences" 4478
Click on any hostname to see more info about the system (e.g. compilers)      (*) as reported by 'uname -p', except on Windows and Mac OS X

Package 967/2289HostnameOS / ArchINSTALLBUILDCHECKBUILD BIN
hiReadsProcessor 1.43.0  (landing page)
Nirav V Malani
Snapshot Date: 2025-02-02 13:40 -0500 (Sun, 02 Feb 2025)
git_url: https://git.bioconductor.org/packages/hiReadsProcessor
git_branch: devel
git_last_commit: b964203
git_last_commit_date: 2024-10-29 09:54:10 -0500 (Tue, 29 Oct 2024)
nebbiolo1Linux (Ubuntu 24.04.1 LTS) / x86_64  OK    OK    OK  UNNEEDED, same version is already published
palomino7Windows Server 2022 Datacenter / x64... NOT SUPPORTED ...
lconwaymacOS 12.7.1 Monterey / x86_64  OK    OK    OK    OK  UNNEEDED, same version is already published


CHECK results for hiReadsProcessor on nebbiolo1

To the developers/maintainers of the hiReadsProcessor package:
- Allow up to 24 hours (and sometimes 48 hours) for your latest push to git@git.bioconductor.org:packages/hiReadsProcessor.git to reflect on this report. See Troubleshooting Build Report for more information.
- Use the following Renviron settings to reproduce errors and warnings.
- If 'R CMD check' started to fail recently on the Linux builder(s) over a missing dependency, add the missing dependency to 'Suggests:' in your DESCRIPTION file. See Renviron.bioc for more information.

raw results


Summary

Package: hiReadsProcessor
Version: 1.43.0
Command: /home/biocbuild/bbs-3.21-bioc/R/bin/R CMD check --install=check:hiReadsProcessor.install-out.txt --library=/home/biocbuild/bbs-3.21-bioc/R/site-library --timings hiReadsProcessor_1.43.0.tar.gz
StartedAt: 2025-02-02 23:03:54 -0500 (Sun, 02 Feb 2025)
EndedAt: 2025-02-02 23:08:50 -0500 (Sun, 02 Feb 2025)
EllapsedTime: 295.4 seconds
RetCode: 0
Status:   OK  
CheckDir: hiReadsProcessor.Rcheck
Warnings: 0

Command output

##############################################################################
##############################################################################
###
### Running command:
###
###   /home/biocbuild/bbs-3.21-bioc/R/bin/R CMD check --install=check:hiReadsProcessor.install-out.txt --library=/home/biocbuild/bbs-3.21-bioc/R/site-library --timings hiReadsProcessor_1.43.0.tar.gz
###
##############################################################################
##############################################################################


* using log directory ‘/home/biocbuild/bbs-3.21-bioc/meat/hiReadsProcessor.Rcheck’
* using R Under development (unstable) (2025-01-20 r87609)
* using platform: x86_64-pc-linux-gnu
* R was compiled by
    gcc (Ubuntu 13.3.0-6ubuntu2~24.04) 13.3.0
    GNU Fortran (Ubuntu 13.3.0-6ubuntu2~24.04) 13.3.0
* running under: Ubuntu 24.04.1 LTS
* using session charset: UTF-8
* checking for file ‘hiReadsProcessor/DESCRIPTION’ ... OK
* this is package ‘hiReadsProcessor’ version ‘1.43.0’
* checking package namespace information ... OK
* checking package dependencies ... OK
* checking if this is a source package ... OK
* checking if there is a namespace ... OK
* checking for hidden files and directories ... NOTE
Found the following hidden files and directories:
  .BBSoptions
These were most likely included in error. See section ‘Package
structure’ in the ‘Writing R Extensions’ manual.
* checking for portable file names ... OK
* checking for sufficient/correct file permissions ... OK
* checking whether package ‘hiReadsProcessor’ can be installed ... OK
* checking installed package size ... OK
* checking package directory ... OK
* checking ‘build’ directory ... OK
* checking DESCRIPTION meta-information ... OK
* checking top-level files ... OK
* checking for left-over files ... OK
* checking index information ... OK
* checking package subdirectories ... OK
* checking code files for non-ASCII characters ... OK
* checking R files for syntax errors ... OK
* checking whether the package can be loaded ... OK
* checking whether the package can be loaded with stated dependencies ... OK
* checking whether the package can be unloaded cleanly ... OK
* checking whether the namespace can be loaded with stated dependencies ... OK
* checking whether the namespace can be unloaded cleanly ... OK
* checking loading without being on the library search path ... OK
* checking dependencies in R code ... OK
* checking S3 generic/method consistency ... OK
* checking replacement functions ... OK
* checking foreign function calls ... OK
* checking R code for possible problems ... NOTE
chunkize: no visible global function definition for ‘breakInChunks’
chunkize: no visible global function definition for ‘detectCores’
clusterSites : <anonymous>: no visible binding for global variable
  ‘queryHits’
clusterSites: no visible binding for global variable ‘clusteredValue’
clusterSites: no visible binding for global variable
  ‘clusteredValue.freq’
crossOverCheck: no visible binding for global variable ‘queryHits’
decodeByBarcode: no visible global function definition for ‘metadata<-’
decodeByBarcode: no visible global function definition for ‘metadata’
extractSeqs : <anonymous>: no visible global function definition for
  ‘metadata’
extractSeqs : <anonymous> : <anonymous> : <anonymous>: no visible
  global function definition for ‘IRanges’
extractSeqs : <anonymous> : <anonymous>: no visible global function
  definition for ‘IRanges’
findBarcodes: no visible global function definition for ‘metadata<-’
findBarcodes: no visible global function definition for ‘metadata’
findIntegrations: no visible global function definition for
  ‘fasta.info’
findIntegrations : <anonymous>: no visible global function definition
  for ‘IRanges’
findVector : <anonymous>: no visible global function definition for
  ‘IRanges’
pairUpAlignments : <anonymous>: no visible binding for global variable
  ‘queryHits’
pairwiseAlignSeqs: no visible global function definition for
  ‘IRangesList’
pairwiseAlignSeqs: no visible global function definition for ‘IRanges’
primerIDAlignSeqs: no visible global function definition for ‘IRanges’
primerIDAlignSeqs: no visible global function definition for
  ‘IRangesList’
pslToRangedObject: no visible global function definition for ‘IRanges’
read.BAMasPSL: no visible global function definition for ‘ScanBamParam’
read.BAMasPSL: no visible global function definition for ‘scanBamFlag’
read.BAMasPSL: no visible global function definition for ‘DataFrame’
read.SeqFolder: no visible global function definition for ‘SimpleList’
read.psl: no visible global function definition for ‘mclapply’
read.psl : <anonymous>: no visible binding for global variable
  ‘matches’
read.psl : <anonymous>: no visible binding for global variable
  ‘misMatches’
read.psl : <anonymous>: no visible binding for global variable
  ‘qBaseInsert’
read.psl : <anonymous>: no visible binding for global variable
  ‘tBaseInsert’
read.psl: no visible binding for global variable ‘matches’
read.psl: no visible binding for global variable ‘misMatches’
read.psl: no visible binding for global variable ‘qBaseInsert’
read.psl: no visible binding for global variable ‘tBaseInsert’
read.sampleInfo: no visible global function definition for ‘SimpleList’
splitSeqsToFiles: no visible global function definition for
  ‘fasta.info’
vpairwiseAlignSeqs: no visible global function definition for ‘Rle’
vpairwiseAlignSeqs: no visible global function definition for
  ‘runLength’
vpairwiseAlignSeqs: no visible global function definition for ‘IRanges’
vpairwiseAlignSeqs: no visible global function definition for
  ‘runValue’
Undefined global functions or variables:
  DataFrame IRanges IRangesList Rle ScanBamParam SimpleList
  breakInChunks clusteredValue clusteredValue.freq detectCores
  fasta.info matches mclapply metadata metadata<- misMatches
  qBaseInsert queryHits runLength runValue scanBamFlag tBaseInsert
* checking Rd files ... OK
* checking Rd metadata ... OK
* checking Rd cross-references ... NOTE
Found the following Rd file(s) with Rd \link{} targets missing package
anchors:
  annotateSites.Rd: SerialParam, doAnnotation
  blatSeqs.Rd: BiocParallel, SerialParam
  clusterSites.Rd: BiocParallel, SerialParam
  doRCtest.Rd: vcountPattern, BiocParallel, SerialParam
  findAndRemoveVector.Rd: BiocParallel, SerialParam, MulticoreParam,
    SnowParam
  findAndTrimSeq.Rd: vmatchPattern, pairwiseAlignment, MulticoreParam,
    SnowParam
  findIntegrations.Rd: BiocParallel, SerialParam, MulticoreParam,
    SnowParam
  findLTRs.Rd: BiocParallel, SerialParam, pairwiseAlignment,
    MulticoreParam, SnowParam
  findLinkers.Rd: BiocParallel, SerialParam, pairwiseAlignment,
    MulticoreParam, SnowParam
  findPrimers.Rd: vmatchPattern, pairwiseAlignment, SerialParam,
    MulticoreParam, SnowParam
  findVector.Rd: BiocParallel, SerialParam, MulticoreParam, SnowParam
  getSonicAbund.Rd: sonicLength, BiocParallel, SerialParam
  isuSites.Rd: BiocParallel, SerialParam
  otuSites.Rd: BiocParallel, SerialParam
  pairUpAlignments.Rd: BiocParallel, SerialParam
  pairwiseAlignSeqs.Rd: pairwiseAlignment, BiocParallel, SerialParam,
    MulticoreParam, SnowParam
  primerIDAlignSeqs.Rd: pairwiseAlignment
  read.blast8.Rd: BiocParallel, SerialParam, MulticoreParam, SnowParam
  read.psl.Rd: BiocParallel, SerialParam, MulticoreParam, SnowParam
  troubleshootLinkers.Rd: BiocParallel, SerialParam, pairwiseAlignment,
    MulticoreParam, SnowParam
  vpairwiseAlignSeqs.Rd: vmatchPattern, BiocParallel, SerialParam,
    MulticoreParam, SnowParam
  write.listedDNAStringSet.Rd: BiocParallel, SerialParam,
    writeXStringSet, MulticoreParam, SnowParam
Please provide package anchors for all Rd \link{} targets not in the
package itself and the base packages.
* checking for missing documentation entries ... OK
* checking for code/documentation mismatches ... OK
* checking Rd \usage sections ... OK
* checking Rd contents ... OK
* checking for unstated dependencies in examples ... OK
* checking contents of ‘data’ directory ... OK
* checking data for non-ASCII characters ... OK
* checking data for ASCII and uncompressed saves ... OK
* checking files in ‘vignettes’ ... OK
* checking examples ... OK
* checking for unstated dependencies in vignettes ... OK
* checking package vignettes ... OK
* checking re-building of vignette outputs ... OK
* checking PDF version of manual ... OK
* DONE

Status: 3 NOTEs
See
  ‘/home/biocbuild/bbs-3.21-bioc/meat/hiReadsProcessor.Rcheck/00check.log’
for details.


Installation output

hiReadsProcessor.Rcheck/00install.out

##############################################################################
##############################################################################
###
### Running command:
###
###   /home/biocbuild/bbs-3.21-bioc/R/bin/R CMD INSTALL hiReadsProcessor
###
##############################################################################
##############################################################################


* installing to library ‘/home/biocbuild/bbs-3.21-bioc/R/site-library’
* installing *source* package ‘hiReadsProcessor’ ...
** this is package ‘hiReadsProcessor’ version ‘1.43.0’
** using staged installation
** R
** data
** inst
** byte-compile and prepare package for lazy loading
** help
*** installing help indices
** building package indices
** installing vignettes
** testing if installed package can be loaded from temporary location
** testing if installed package can be loaded from final location
** testing if installed package keeps a record of temporary installation path
* DONE (hiReadsProcessor)

Tests output


Example timings

hiReadsProcessor.Rcheck/hiReadsProcessor-Ex.timings

nameusersystemelapsed
addFeature0.1720.0210.193
addListNameToReads0.2400.0260.266
annotateSites000
blatSeqs0.0000.0000.001
chunkize0.0260.0050.031
clusterSites0.2980.0430.342
crossOverCheck0.0890.0000.089
dereplicateReads0.0360.0000.036
doRCtest3.3750.0593.454
extractFeature0.1500.1110.134
extractSeqs0.3590.0360.395
findAndTrimSeq1.1590.1551.313
findBarcodes0.8540.0020.856
findIntegrations0.0000.0010.000
findLTRs000
findLinkers000
findPrimers0.0000.0010.001
findVector000
getIntegrationSites1.8690.0041.873
getSectorsForSamples0.0810.0030.084
getSonicAbund0.3250.1670.455
isuSites3.7610.4184.180
otuSites3.9580.1794.137
pairUpAlignments000
pairwiseAlignSeqs2.2120.7652.770
primerIDAlignSeqs3.0780.3253.331
pslCols0.0000.0010.001
pslToRangedObject0.1540.0030.157
read.BAMasPSL000
read.SeqFolder0.8810.0150.896
read.blast8000
read.psl000
read.sampleInfo0.9280.0020.931
read.seqsFromSector000
removeReadsWithNs0.0170.0010.017
replicateReads0.0390.0010.040
sampleSummary0.5570.0090.566
splitByBarcode0.0270.0000.027
splitSeqsToFiles0.1160.0060.122
startgfServer000
trimSeqs0.0220.0000.022
vpairwiseAlignSeqs1.8130.6852.335
write.listedDNAStringSet000
write.psl0.0170.0010.019