| Back to Multiple platform build/check report for BioC 3.22: simplified long |
|
This page was generated on 2025-10-21 12:07 -0400 (Tue, 21 Oct 2025).
| Hostname | OS | Arch (*) | R version | Installed pkgs |
|---|---|---|---|---|
| nebbiolo2 | Linux (Ubuntu 24.04.3 LTS) | x86_64 | 4.5.1 Patched (2025-08-23 r88802) -- "Great Square Root" | 4887 |
| lconway | macOS 12.7.6 Monterey | x86_64 | 4.5.1 Patched (2025-09-10 r88807) -- "Great Square Root" | 4677 |
| kjohnson3 | macOS 13.7.7 Ventura | arm64 | 4.5.1 Patched (2025-09-10 r88807) -- "Great Square Root" | 4622 |
| taishan | Linux (openEuler 24.03 LTS) | aarch64 | 4.5.0 (2025-04-11) -- "How About a Twenty-Six" | 4642 |
| Click on any hostname to see more info about the system (e.g. compilers) (*) as reported by 'uname -p', except on Windows and Mac OS X | ||||
| Package 950/2353 | Hostname | OS / Arch | INSTALL | BUILD | CHECK | BUILD BIN | ||||||||
| gypsum 1.5.0 (landing page) Aaron Lun
| nebbiolo2 | Linux (Ubuntu 24.04.3 LTS) / x86_64 | OK | OK | OK | |||||||||
| lconway | macOS 12.7.6 Monterey / x86_64 | OK | OK | OK | OK | |||||||||
| kjohnson3 | macOS 13.7.7 Ventura / arm64 | OK | OK | OK | OK | |||||||||
| taishan | Linux (openEuler 24.03 LTS) / aarch64 | OK | OK | ERROR | ||||||||||
|
To the developers/maintainers of the gypsum package: - Allow up to 24 hours (and sometimes 48 hours) for your latest push to git@git.bioconductor.org:packages/gypsum.git to reflect on this report. See Troubleshooting Build Report for more information. - Use the following Renviron settings to reproduce errors and warnings. - If 'R CMD check' started to fail recently on the Linux builder(s) over a missing dependency, add the missing dependency to 'Suggests:' in your DESCRIPTION file. See Renviron.bioc for more information. - See Martin Grigorov's blog post for how to debug Linux ARM64 related issues on a x86_64 host. |
| Package: gypsum |
| Version: 1.5.0 |
| Command: /home/biocbuild/R/R/bin/R CMD check --install=check:gypsum.install-out.txt --library=/home/biocbuild/R/R/site-library --no-vignettes --timings gypsum_1.5.0.tar.gz |
| StartedAt: 2025-10-17 09:57:12 -0000 (Fri, 17 Oct 2025) |
| EndedAt: 2025-10-17 10:00:51 -0000 (Fri, 17 Oct 2025) |
| EllapsedTime: 219.2 seconds |
| RetCode: 1 |
| Status: ERROR |
| CheckDir: gypsum.Rcheck |
| Warnings: NA |
##############################################################################
##############################################################################
###
### Running command:
###
### /home/biocbuild/R/R/bin/R CMD check --install=check:gypsum.install-out.txt --library=/home/biocbuild/R/R/site-library --no-vignettes --timings gypsum_1.5.0.tar.gz
###
##############################################################################
##############################################################################
* using log directory ‘/home/biocbuild/bbs-3.22-bioc/meat/gypsum.Rcheck’
* using R version 4.5.0 (2025-04-11)
* using platform: aarch64-unknown-linux-gnu
* R was compiled by
aarch64-unknown-linux-gnu-gcc (GCC) 14.2.0
GNU Fortran (GCC) 14.2.0
* running under: openEuler 24.03 (LTS)
* using session charset: UTF-8
* using option ‘--no-vignettes’
* checking for file ‘gypsum/DESCRIPTION’ ... OK
* this is package ‘gypsum’ version ‘1.5.0’
* checking package namespace information ... OK
* checking package dependencies ... OK
* checking if this is a source package ... OK
* checking if there is a namespace ... OK
* checking for hidden files and directories ... OK
* checking for portable file names ... OK
* checking for sufficient/correct file permissions ... OK
* checking whether package ‘gypsum’ can be installed ... OK
* checking installed package size ... OK
* checking package directory ... OK
* checking ‘build’ directory ... OK
* checking DESCRIPTION meta-information ... NOTE
License stub is invalid DCF.
* checking top-level files ... OK
* checking for left-over files ... OK
* checking index information ... OK
* checking package subdirectories ... OK
* checking code files for non-ASCII characters ... OK
* checking R files for syntax errors ... OK
* checking whether the package can be loaded ... OK
* checking whether the package can be loaded with stated dependencies ... OK
* checking whether the package can be unloaded cleanly ... OK
* checking whether the namespace can be loaded with stated dependencies ... OK
* checking whether the namespace can be unloaded cleanly ... OK
* checking loading without being on the library search path ... OK
* checking dependencies in R code ... OK
* checking S3 generic/method consistency ... OK
* checking replacement functions ... OK
* checking foreign function calls ... OK
* checking R code for possible problems ... OK
* checking Rd files ... OK
* checking Rd metadata ... OK
* checking Rd cross-references ... OK
* checking for missing documentation entries ... OK
* checking for code/documentation mismatches ... OK
* checking Rd \usage sections ... OK
* checking Rd contents ... OK
* checking for unstated dependencies in examples ... OK
* checking files in ‘vignettes’ ... OK
* checking examples ... OK
Examples with CPU (user + system) or elapsed time > 5s
user system elapsed
fetchMetadataDatabase 0.015 0 9.914
* checking for unstated dependencies in ‘tests’ ... OK
* checking tests ...
Running ‘testthat.R’
ERROR
Running the tests in ‘tests/testthat.R’ failed.
Last 13 lines of output:
Error in `req_perform(req, path = tmp)`: Failed to perform HTTP request.
Caused by error in `curl::curl_fetch_disk()`:
! Timeout was reached [artifactdb.github.io]:
Connection timed out after 10001 milliseconds
Backtrace:
▆
1. └─gypsum::fetchMetadataSchema(cache = cache) at test-metadata.R:7:5
2. └─gypsum:::download_and_rename_file(url, cache.path)
3. └─httr2::req_perform(req, path = tmp)
4. └─httr2:::handle_resp(req, resp, error_call = error_call)
5. └─rlang::cnd_signal(resp)
[ FAIL 1 | WARN 0 | SKIP 13 | PASS 248 ]
Error: Test failures
Execution halted
* checking for unstated dependencies in vignettes ... OK
* checking package vignettes ... OK
* checking running R code from vignettes ... SKIPPED
* checking re-building of vignette outputs ... SKIPPED
* checking PDF version of manual ... OK
* DONE
Status: 1 ERROR, 1 NOTE
See
‘/home/biocbuild/bbs-3.22-bioc/meat/gypsum.Rcheck/00check.log’
for details.
gypsum.Rcheck/00install.out
############################################################################## ############################################################################## ### ### Running command: ### ### /home/biocbuild/R/R/bin/R CMD INSTALL gypsum ### ############################################################################## ############################################################################## * installing to library ‘/home/biocbuild/R/R-4.5.0/site-library’ * installing *source* package ‘gypsum’ ... ** this is package ‘gypsum’ version ‘1.5.0’ ** using staged installation ** R ** inst ** byte-compile and prepare package for lazy loading ** help *** installing help indices ** building package indices ** installing vignettes ** testing if installed package can be loaded from temporary location ** testing if installed package can be loaded from final location ** testing if installed package keeps a record of temporary installation path * DONE (gypsum)
gypsum.Rcheck/tests/testthat.Rout.fail
R version 4.5.0 (2025-04-11) -- "How About a Twenty-Six"
Copyright (C) 2025 The R Foundation for Statistical Computing
Platform: aarch64-unknown-linux-gnu
R is free software and comes with ABSOLUTELY NO WARRANTY.
You are welcome to redistribute it under certain conditions.
Type 'license()' or 'licence()' for distribution details.
R is a collaborative project with many contributors.
Type 'contributors()' for more information and
'citation()' on how to cite R or R packages in publications.
Type 'demo()' for some demos, 'help()' for on-line help, or
'help.start()' for an HTML browser interface to help.
Type 'q()' to quit R.
> library(testthat)
> library(gypsum)
> test_check("gypsum")
[ FAIL 1 | WARN 0 | SKIP 13 | PASS 248 ]
══ Skipped tests (13) ══════════════════════════════════════════════════════════
• is.na(gh_token) is TRUE (13): 'test-accessToken.R:5:5', 'test-latest.R:5:5',
'test-permissions.R:5:5', 'test-probation.R:5:5', 'test-probation.R:28:5',
'test-quota.R:5:5', 'test-quota.R:23:5', 'test-remove.R:5:5',
'test-unlockProject.R:5:5', 'test-upload.R:5:5', 'test-upload.R:55:5',
'test-upload.R:89:5', 'test-upload.R:107:5'
══ Failed tests ════════════════════════════════════════════════════════════════
── Error ('test-metadata.R:7:5'): fetchMetadataSchema works as expected ────────
<httr2_failure/httr2_error/rlang_error/error/condition>
Error in `req_perform(req, path = tmp)`: Failed to perform HTTP request.
Caused by error in `curl::curl_fetch_disk()`:
! Timeout was reached [artifactdb.github.io]:
Connection timed out after 10001 milliseconds
Backtrace:
▆
1. └─gypsum::fetchMetadataSchema(cache = cache) at test-metadata.R:7:5
2. └─gypsum:::download_and_rename_file(url, cache.path)
3. └─httr2::req_perform(req, path = tmp)
4. └─httr2:::handle_resp(req, resp, error_call = error_call)
5. └─rlang::cnd_signal(resp)
[ FAIL 1 | WARN 0 | SKIP 13 | PASS 248 ]
Error: Test failures
Execution halted
gypsum.Rcheck/gypsum-Ex.timings
| name | user | system | elapsed | |
| abortUpload | 0.000 | 0.001 | 0.001 | |
| accessToken | 0 | 0 | 0 | |
| approveProbation | 0 | 0 | 0 | |
| cacheDirectory | 0.000 | 0.000 | 0.001 | |
| cloneVersion | 0.009 | 0.001 | 0.014 | |
| completeUpload | 0.001 | 0.000 | 0.001 | |
| createProject | 0 | 0 | 0 | |
| fetchLatest | 0.047 | 0.008 | 2.591 | |
| fetchManifest | 0.000 | 0.000 | 0.001 | |
| fetchMetadataDatabase | 0.015 | 0.000 | 9.914 | |
| fetchMetadataSchema | 0.001 | 0.000 | 0.002 | |
| fetchPermissions | 0.006 | 0.000 | 0.247 | |
| fetchQuota | 0.007 | 0.000 | 0.262 | |
| fetchSummary | 0.002 | 0.000 | 0.003 | |
| fetchUsage | 0.007 | 0.000 | 0.268 | |
| formatObjectMetadata | 1.063 | 0.132 | 1.224 | |
| listAssets | 0.008 | 0.000 | 0.247 | |
| listFiles | 0.007 | 0.000 | 0.245 | |
| listProjects | 0.001 | 0.000 | 0.000 | |
| listVersions | 0.003 | 0.004 | 0.239 | |
| prepareDirectoryUpload | 0.005 | 0.000 | 0.005 | |
| publicS3Config | 0.01 | 0.00 | 0.02 | |
| refreshLatest | 0 | 0 | 0 | |
| refreshUsage | 0 | 0 | 0 | |
| rejectProbation | 0 | 0 | 0 | |
| removeAsset | 0.001 | 0.000 | 0.001 | |
| removeProject | 0 | 0 | 0 | |
| removeVersion | 0 | 0 | 0 | |
| resolveLinks | 0.049 | 0.001 | 2.794 | |
| restUrl | 0.000 | 0.000 | 0.001 | |
| saveFile | 0.001 | 0.000 | 0.002 | |
| saveVersion | 0 | 0 | 0 | |
| searchMetadata | 0.625 | 0.019 | 0.711 | |
| setPermissions | 0 | 0 | 0 | |
| setQuota | 0 | 0 | 0 | |
| startUpload | 0.000 | 0.000 | 0.001 | |
| translateTextQuery | 0.059 | 0.012 | 0.071 | |
| unlockProject | 0 | 0 | 0 | |
| uploadDirectory | 0.001 | 0.000 | 0.000 | |
| uploadFiles | 0.001 | 0.000 | 0.001 | |
| validateMetadata | 0.647 | 0.052 | 0.653 | |