Back to Build/check report for BioC 3.23:   simplified   long
ABCDEF[G]HIJKLMNOPQRSTUVWXYZ

This page was generated on 2025-11-03 11:33 -0500 (Mon, 03 Nov 2025).

HostnameOSArch (*)R versionInstalled pkgs
nebbiolo1Linux (Ubuntu 24.04.3 LTS)x86_64R Under development (unstable) (2025-10-20 r88955) -- "Unsuffered Consequences" 4775
Click on any hostname to see more info about the system (e.g. compilers)      (*) as reported by 'uname -p', except on Windows and Mac OS X

Package 940/2321HostnameOS / ArchINSTALLBUILDCHECKBUILD BIN
gwasurvivr 1.29.0  (landing page)
Abbas Rizvi
Snapshot Date: 2025-11-02 13:40 -0500 (Sun, 02 Nov 2025)
git_url: https://git.bioconductor.org/packages/gwasurvivr
git_branch: devel
git_last_commit: f8ecda5
git_last_commit_date: 2025-10-29 10:45:55 -0500 (Wed, 29 Oct 2025)
nebbiolo1Linux (Ubuntu 24.04.3 LTS) / x86_64  OK    OK    OK  NO, package depends on 'VariantAnnotation' which is not available


BUILD results for gwasurvivr on nebbiolo1

To the developers/maintainers of the gwasurvivr package:
- Allow up to 24 hours (and sometimes 48 hours) for your latest push to git@git.bioconductor.org:packages/gwasurvivr.git to reflect on this report. See Troubleshooting Build Report for more information.
- Use the following Renviron settings to reproduce errors and warnings.
- If 'R CMD check' started to fail recently on the Linux builder(s) over a missing dependency, add the missing dependency to 'Suggests:' in your DESCRIPTION file. See Renviron.bioc for more information.

raw results


Summary

Package: gwasurvivr
Version: 1.29.0
Command: /home/biocbuild/bbs-3.23-bioc/R/bin/R CMD build --keep-empty-dirs --no-resave-data gwasurvivr
StartedAt: 2025-11-02 17:58:54 -0500 (Sun, 02 Nov 2025)
EndedAt: 2025-11-02 18:01:18 -0500 (Sun, 02 Nov 2025)
EllapsedTime: 144.2 seconds
RetCode: 0
Status:   OK  
PackageFile: gwasurvivr_1.29.0.tar.gz
PackageFileSize: 343.1 KiB

Command output

##############################################################################
##############################################################################
###
### Running command:
###
###   /home/biocbuild/bbs-3.23-bioc/R/bin/R CMD build --keep-empty-dirs --no-resave-data gwasurvivr
###
##############################################################################
##############################################################################


* checking for file ‘gwasurvivr/DESCRIPTION’ ... OK
* preparing ‘gwasurvivr’:
* checking DESCRIPTION meta-information ... OK
* installing the package (it is needed to build vignettes)
* creating vignettes ... OK
* checking for LF line-endings in source and make files and shell scripts
* checking for empty or unneeded directories
* building ‘gwasurvivr_1.29.0.tar.gz’