Back to Multiple platform build/check report for BioC 3.22:   simplified   long
ABCDEF[G]HIJKLMNOPQRSTUVWXYZ

This page was generated on 2025-09-30 12:03 -0400 (Tue, 30 Sep 2025).

HostnameOSArch (*)R versionInstalled pkgs
nebbiolo2Linux (Ubuntu 24.04.3 LTS)x86_644.5.1 Patched (2025-08-23 r88802) -- "Great Square Root" 4843
lconwaymacOS 12.7.1 Montereyx86_644.5.1 Patched (2025-09-10 r88807) -- "Great Square Root" 4631
kjohnson3macOS 13.7.7 Venturaarm644.5.1 Patched (2025-09-10 r88807) -- "Great Square Root" 4575
taishanLinux (openEuler 24.03 LTS)aarch644.5.0 (2025-04-11) -- "How About a Twenty-Six" 4576
Click on any hostname to see more info about the system (e.g. compilers)      (*) as reported by 'uname -p', except on Windows and Mac OS X

Package 879/2337HostnameOS / ArchINSTALLBUILDCHECKBUILD BIN
ginmappeR 1.5.0  (landing page)
Fernando Sola
Snapshot Date: 2025-09-29 13:45 -0400 (Mon, 29 Sep 2025)
git_url: https://git.bioconductor.org/packages/ginmappeR
git_branch: devel
git_last_commit: 1ea1ef8
git_last_commit_date: 2025-04-15 13:30:43 -0400 (Tue, 15 Apr 2025)
nebbiolo2Linux (Ubuntu 24.04.3 LTS) / x86_64  OK    OK    OK  UNNEEDED, same version is already published
lconwaymacOS 12.7.1 Monterey / x86_64  OK    OK    OK    OK  UNNEEDED, same version is already published
kjohnson3macOS 13.7.7 Ventura / arm64  OK    OK    OK    OK  UNNEEDED, same version is already published
taishanLinux (openEuler 24.03 LTS) / aarch64  OK    OK    OK  


CHECK results for ginmappeR on nebbiolo2

To the developers/maintainers of the ginmappeR package:
- Allow up to 24 hours (and sometimes 48 hours) for your latest push to git@git.bioconductor.org:packages/ginmappeR.git to reflect on this report. See Troubleshooting Build Report for more information.
- Use the following Renviron settings to reproduce errors and warnings.
- If 'R CMD check' started to fail recently on the Linux builder(s) over a missing dependency, add the missing dependency to 'Suggests:' in your DESCRIPTION file. See Renviron.bioc for more information.

raw results


Summary

Package: ginmappeR
Version: 1.5.0
Command: /home/biocbuild/bbs-3.22-bioc/R/bin/R CMD check --install=check:ginmappeR.install-out.txt --library=/home/biocbuild/bbs-3.22-bioc/R/site-library --timings ginmappeR_1.5.0.tar.gz
StartedAt: 2025-09-30 00:33:55 -0400 (Tue, 30 Sep 2025)
EndedAt: 2025-09-30 00:45:24 -0400 (Tue, 30 Sep 2025)
EllapsedTime: 688.8 seconds
RetCode: 0
Status:   OK  
CheckDir: ginmappeR.Rcheck
Warnings: 0

Command output

##############################################################################
##############################################################################
###
### Running command:
###
###   /home/biocbuild/bbs-3.22-bioc/R/bin/R CMD check --install=check:ginmappeR.install-out.txt --library=/home/biocbuild/bbs-3.22-bioc/R/site-library --timings ginmappeR_1.5.0.tar.gz
###
##############################################################################
##############################################################################


* using log directory ‘/home/biocbuild/bbs-3.22-bioc/meat/ginmappeR.Rcheck’
* using R version 4.5.1 Patched (2025-08-23 r88802)
* using platform: x86_64-pc-linux-gnu
* R was compiled by
    gcc (Ubuntu 13.3.0-6ubuntu2~24.04) 13.3.0
    GNU Fortran (Ubuntu 13.3.0-6ubuntu2~24.04) 13.3.0
* running under: Ubuntu 24.04.3 LTS
* using session charset: UTF-8
* checking for file ‘ginmappeR/DESCRIPTION’ ... OK
* checking extension type ... Package
* this is package ‘ginmappeR’ version ‘1.5.0’
* package encoding: UTF-8
* checking package namespace information ... OK
* checking package dependencies ... OK
* checking if this is a source package ... OK
* checking if there is a namespace ... OK
* checking for hidden files and directories ... NOTE
Found the following hidden files and directories:
  .BBSoptions
These were most likely included in error. See section ‘Package
structure’ in the ‘Writing R Extensions’ manual.
* checking for portable file names ... OK
* checking for sufficient/correct file permissions ... OK
* checking whether package ‘ginmappeR’ can be installed ... OK
* checking installed package size ... OK
* checking package directory ... OK
* checking ‘build’ directory ... OK
* checking DESCRIPTION meta-information ... OK
* checking top-level files ... OK
* checking for left-over files ... OK
* checking index information ... OK
* checking package subdirectories ... OK
* checking code files for non-ASCII characters ... OK
* checking R files for syntax errors ... OK
* checking whether the package can be loaded ... OK
* checking whether the package can be loaded with stated dependencies ... OK
* checking whether the package can be unloaded cleanly ... OK
* checking whether the namespace can be loaded with stated dependencies ... OK
* checking whether the namespace can be unloaded cleanly ... OK
* checking loading without being on the library search path ... OK
* checking whether startup messages can be suppressed ... OK
* checking dependencies in R code ... OK
* checking S3 generic/method consistency ... OK
* checking replacement functions ... OK
* checking foreign function calls ... OK
* checking R code for possible problems ... OK
* checking Rd files ... OK
* checking Rd metadata ... OK
* checking Rd cross-references ... OK
* checking for missing documentation entries ... OK
* checking for code/documentation mismatches ... OK
* checking Rd \usage sections ... OK
* checking Rd contents ... OK
* checking for unstated dependencies in examples ... OK
* checking files in ‘vignettes’ ... OK
* checking examples ... OK
Examples with CPU (user + system) or elapsed time > 5s
                           user system elapsed
getCARD2KEGG              5.353  0.360  81.739
getUniProt2NCBINucleotide 5.466  0.240 123.101
getNCBINucleotide2KEGG    1.474  0.115  63.006
getCARD2UniProt           0.975  0.049  12.944
getKEGG2NCBINucleotide    0.553  0.045   8.822
getNCBIGene2UniProt       0.387  0.016  11.715
getNCBINucleotide2UniProt 0.396  0.005  11.197
getNCBIProtein2UniProt    0.361  0.009  12.442
* checking for unstated dependencies in ‘tests’ ... OK
* checking tests ...
  Running ‘runTests.R’
 OK
* checking for unstated dependencies in vignettes ... OK
* checking package vignettes ... OK
* checking re-building of vignette outputs ... OK
* checking PDF version of manual ... OK
* DONE

Status: 1 NOTE
See
  ‘/home/biocbuild/bbs-3.22-bioc/meat/ginmappeR.Rcheck/00check.log’
for details.


Installation output

ginmappeR.Rcheck/00install.out

##############################################################################
##############################################################################
###
### Running command:
###
###   /home/biocbuild/bbs-3.22-bioc/R/bin/R CMD INSTALL ginmappeR
###
##############################################################################
##############################################################################


* installing to library ‘/home/biocbuild/bbs-3.22-bioc/R/site-library’
* installing *source* package ‘ginmappeR’ ...
** this is package ‘ginmappeR’ version ‘1.5.0’
** using staged installation
** R
** inst
** byte-compile and prepare package for lazy loading
** help
*** installing help indices
** building package indices
** installing vignettes
** testing if installed package can be loaded from temporary location
** testing if installed package can be loaded from final location
** testing if installed package keeps a record of temporary installation path
* DONE (ginmappeR)

Tests output

ginmappeR.Rcheck/tests/runTests.Rout


R version 4.5.1 Patched (2025-08-23 r88802) -- "Great Square Root"
Copyright (C) 2025 The R Foundation for Statistical Computing
Platform: x86_64-pc-linux-gnu

R is free software and comes with ABSOLUTELY NO WARRANTY.
You are welcome to redistribute it under certain conditions.
Type 'license()' or 'licence()' for distribution details.

R is a collaborative project with many contributors.
Type 'contributors()' for more information and
'citation()' on how to cite R or R packages in publications.

Type 'demo()' for some demos, 'help()' for on-line help, or
'help.start()' for an HTML browser interface to help.
Type 'q()' to quit R.

> BiocGenerics:::testPackage("ginmappeR")
Testing getKEGG2UniProt

                                                                                  

  |=.............................| Step   1: Translating from KEGG to UniProt

                                                                                  

  |==............................| Step   2: Connecting to KEGG web services

                                                                                  

  |===...........................| Step   3: Connecting to KEGG API and translating id aag:5579347 to Uniprot

                                                                                  
[1] "A0A1S4G4Z1"
Testing getKEGG2NCBIProtein, getKEGG2NCBINucleotide, getKEGG2NCBIGene

                                                                                  

  |=.............................| Step   1: Translating from KEGG to NCBI Protein

                                                                                  

  |==............................| Step   2: Trying to get a direct translation for KEGG id bha:BH0380 to NCBI

                                                                                  
[1] "BAB04099"
Testing getKEGG2CARD

                                                                                  

  |=.............................| Step   1: Translating from KEGG to CARD
Updating CARD database data...
Deleting previous versions of CARD if any.

Downloading latest version

Extracting database

CARD database downloaded successfully!
Located at /tmp/RtmpTWZqbQ/card-data
CARD database version 4.0.1 (2025-05-29)

                                                                                  

  |==............................| Step   2: Searching CARD database and translating to KEGG

                                                                                  

  |===...........................| Step   3: Trying to get a direct translation for KEGG id ag:ACC85616 to CARD

                                                                                  
[1] "ARO:3002804"
Testing getUniProtSimilarGenes

                                                                                  

  |=.............................| Step   1: Accessing UniProt similar genes database

                                                                                  

  |==............................| Step   2: Connecting to UniProt API and retrieving cluster of id G9JVE6

                                                                                  

  |===...........................| Step   3: Retrieving and parsing genes of cluster UniRef100_G9JVE6

                                                                                  
[1] "UniRef100_G9JVE6"
Testing getUniProt2KEGG

                                                                                  

  |=.............................| Step   1: Translating from UniProt to KEGG

                                                                                  

  |==............................| Step   2: Trying to get a direct translation for UniProt id A0A6I6H1L5 to KEGG

                                                                                  
[1] "fls:GLV81_10715"
Testing getUniProt2NCBIProtein, getUniProt2NCBINucleotide, getUniProt2NCBIGene

                                                                                  

  |=.............................| Step   1: Translating from UniProt to NCBI Protein

                                                                                  

                                                                                  

  |=.............................| Step   1: Trying to get a direct translation for UniProt id A0A6H2TXZ6 to NCBI

                                                                                  
[1] "QIB98918.1"
Testing getUniProt2CARD

                                                                                  

  |=.............................| Step   1: Translating from UniProt to CARD
Using a CARD database version downloaded on Tue 09/30/2025 00:41:44, please consider updating it with updateCARDDataBase() function.

                                                                                  

  |==............................| Step   2: Translating Uniprot id A0A1S7BGS4 to CARD

                                                                                  

  |===...........................| Step   3: Trying to get a direct translation for Uniprot id A0A1S7BGS4 to CARD

                                                                                  
[1] "ARO:3004185"


RUNIT TEST PROTOCOL -- Tue Sep 30 00:45:19 2025 
*********************************************** 
Number of test functions: 0 
Number of errors: 0 
Number of failures: 0 

 
1 Test Suite : 
ginmappeR RUnit Tests - 0 test functions, 0 errors, 0 failures
Number of test functions: 0 
Number of errors: 0 
Number of failures: 0 
> 
> proc.time()
   user  system elapsed 
 10.989   0.773 223.875 

Example timings

ginmappeR.Rcheck/ginmappeR-Ex.timings

nameusersystemelapsed
getCARD2KEGG 5.353 0.36081.739
getCARD2NCBIGene0.2630.0251.553
getCARD2NCBINucleotide0.2850.0130.698
getCARD2NCBIProtein0.0040.0010.405
getCARD2UniProt 0.975 0.04912.944
getKEGG2CARD0.2040.0040.984
getKEGG2NCBIGene0.1820.0141.907
getKEGG2NCBINucleotide0.5530.0458.822
getKEGG2NCBIProtein0.1270.0011.312
getKEGG2UniProt0.0030.0000.103
getNCBIGene2CARD0.2610.0254.968
getNCBIGene2KEGG0.0340.0032.083
getNCBIGene2NCBINucleotide0.0700.0032.080
getNCBIGene2NCBIProtein0.0510.0041.671
getNCBIGene2UniProt 0.387 0.01611.715
getNCBIIdenticalProteins0.1150.0032.049
getNCBINucleotide2CARD0.1150.0040.773
getNCBINucleotide2KEGG 1.474 0.11563.006
getNCBINucleotide2NCBIGene0.1080.0101.289
getNCBINucleotide2NCBIProtein0.0780.0020.665
getNCBINucleotide2UniProt 0.396 0.00511.197
getNCBIProtein2CARD0.1890.0050.731
getNCBIProtein2KEGG0.0250.0022.134
getNCBIProtein2NCBIGene0.0330.0001.156
getNCBIProtein2NCBINucleotide0.0910.0010.633
getNCBIProtein2UniProt 0.361 0.00912.442
getUniProt2CARD0.3890.0054.124
getUniProt2KEGG0.0360.0000.758
getUniProt2NCBIGene000
getUniProt2NCBINucleotide 5.466 0.240123.101
getUniProt2NCBIProtein000
getUniProtSimilarGenes0.1110.0060.959