Back to Multiple platform build/check report for BioC 3.21:   simplified   long
ABCDEF[G]HIJKLMNOPQRSTUVWXYZ

This page was generated on 2025-02-04 11:42 -0500 (Tue, 04 Feb 2025).

HostnameOSArch (*)R versionInstalled pkgs
nebbiolo1Linux (Ubuntu 24.04.1 LTS)x86_64R Under development (unstable) (2025-01-20 r87609) -- "Unsuffered Consequences" 4716
palomino7Windows Server 2022 Datacenterx64R Under development (unstable) (2025-01-21 r87610 ucrt) -- "Unsuffered Consequences" 4478
lconwaymacOS 12.7.1 Montereyx86_64R Under development (unstable) (2025-01-22 r87618) -- "Unsuffered Consequences" 4489
kjohnson3macOS 13.7.1 Venturaarm64R Under development (unstable) (2025-01-20 r87609) -- "Unsuffered Consequences" 4442
Click on any hostname to see more info about the system (e.g. compilers)      (*) as reported by 'uname -p', except on Windows and Mac OS X

Package 865/2295HostnameOS / ArchINSTALLBUILDCHECKBUILD BIN
ginmappeR 1.3.3  (landing page)
Fernando Sola
Snapshot Date: 2025-02-03 13:40 -0500 (Mon, 03 Feb 2025)
git_url: https://git.bioconductor.org/packages/ginmappeR
git_branch: devel
git_last_commit: 2c546ae
git_last_commit_date: 2024-12-02 11:34:13 -0500 (Mon, 02 Dec 2024)
nebbiolo1Linux (Ubuntu 24.04.1 LTS) / x86_64  OK    OK    OK  UNNEEDED, same version is already published
palomino7Windows Server 2022 Datacenter / x64  OK    OK    OK    OK  UNNEEDED, same version is already published
lconwaymacOS 12.7.1 Monterey / x86_64  OK    OK    OK    OK  UNNEEDED, same version is already published
kjohnson3macOS 13.7.1 Ventura / arm64  OK    OK    OK    OK  UNNEEDED, same version is already published


CHECK results for ginmappeR on lconway

To the developers/maintainers of the ginmappeR package:
- Allow up to 24 hours (and sometimes 48 hours) for your latest push to git@git.bioconductor.org:packages/ginmappeR.git to reflect on this report. See Troubleshooting Build Report for more information.
- Use the following Renviron settings to reproduce errors and warnings.
- If 'R CMD check' started to fail recently on the Linux builder(s) over a missing dependency, add the missing dependency to 'Suggests:' in your DESCRIPTION file. See Renviron.bioc for more information.

raw results


Summary

Package: ginmappeR
Version: 1.3.3
Command: /Library/Frameworks/R.framework/Resources/bin/R CMD check --install=check:ginmappeR.install-out.txt --library=/Library/Frameworks/R.framework/Resources/library --no-vignettes --timings ginmappeR_1.3.3.tar.gz
StartedAt: 2025-02-03 20:52:02 -0500 (Mon, 03 Feb 2025)
EndedAt: 2025-02-03 20:57:15 -0500 (Mon, 03 Feb 2025)
EllapsedTime: 313.0 seconds
RetCode: 0
Status:   OK  
CheckDir: ginmappeR.Rcheck
Warnings: 0

Command output

##############################################################################
##############################################################################
###
### Running command:
###
###   /Library/Frameworks/R.framework/Resources/bin/R CMD check --install=check:ginmappeR.install-out.txt --library=/Library/Frameworks/R.framework/Resources/library --no-vignettes --timings ginmappeR_1.3.3.tar.gz
###
##############################################################################
##############################################################################


* using log directory ‘/Users/biocbuild/bbs-3.21-bioc/meat/ginmappeR.Rcheck’
* using R Under development (unstable) (2025-01-22 r87618)
* using platform: x86_64-apple-darwin20
* R was compiled by
    Apple clang version 14.0.0 (clang-1400.0.29.202)
    GNU Fortran (GCC) 14.2.0
* running under: macOS Monterey 12.7.6
* using session charset: UTF-8
* using option ‘--no-vignettes’
* checking for file ‘ginmappeR/DESCRIPTION’ ... OK
* checking extension type ... Package
* this is package ‘ginmappeR’ version ‘1.3.3’
* package encoding: UTF-8
* checking package namespace information ... OK
* checking package dependencies ... OK
* checking if this is a source package ... OK
* checking if there is a namespace ... OK
* checking for hidden files and directories ... NOTE
Found the following hidden files and directories:
  .BBSoptions
These were most likely included in error. See section ‘Package
structure’ in the ‘Writing R Extensions’ manual.
* checking for portable file names ... OK
* checking for sufficient/correct file permissions ... OK
* checking whether package ‘ginmappeR’ can be installed ... OK
* checking installed package size ... OK
* checking package directory ... OK
* checking ‘build’ directory ... OK
* checking DESCRIPTION meta-information ... OK
* checking top-level files ... OK
* checking for left-over files ... OK
* checking index information ... OK
* checking package subdirectories ... OK
* checking code files for non-ASCII characters ... OK
* checking R files for syntax errors ... OK
* checking whether the package can be loaded ... OK
* checking whether the package can be loaded with stated dependencies ... OK
* checking whether the package can be unloaded cleanly ... OK
* checking whether the namespace can be loaded with stated dependencies ... OK
* checking whether the namespace can be unloaded cleanly ... OK
* checking whether startup messages can be suppressed ... OK
* checking dependencies in R code ... OK
* checking S3 generic/method consistency ... OK
* checking replacement functions ... OK
* checking foreign function calls ... OK
* checking R code for possible problems ... OK
* checking Rd files ... OK
* checking Rd metadata ... OK
* checking Rd cross-references ... OK
* checking for missing documentation entries ... OK
* checking for code/documentation mismatches ... OK
* checking Rd \usage sections ... OK
* checking Rd contents ... OK
* checking for unstated dependencies in examples ... OK
* checking files in ‘vignettes’ ... OK
* checking examples ... OK
Examples with CPU (user + system) or elapsed time > 5s
                           user system elapsed
getCARD2KEGG              7.765  0.274  20.173
getNCBINucleotide2KEGG    1.153  0.103  48.096
getCARD2UniProt           0.931  0.100  11.401
getKEGG2NCBINucleotide    0.373  0.045   8.346
getNCBINucleotide2UniProt 0.378  0.032   7.216
getNCBIProtein2UniProt    0.375  0.031   7.243
getNCBIGene2UniProt       0.367  0.030   7.289
getNCBIGene2CARD          0.160  0.013   5.045
getUniProtSimilarGenes    0.038  0.005   7.194
* checking for unstated dependencies in ‘tests’ ... OK
* checking tests ...
  Running ‘runTests.R’
 OK
* checking for unstated dependencies in vignettes ... OK
* checking package vignettes ... OK
* checking running R code from vignettes ... SKIPPED
* checking re-building of vignette outputs ... SKIPPED
* checking PDF version of manual ... OK
* DONE

Status: 1 NOTE
See
  ‘/Users/biocbuild/bbs-3.21-bioc/meat/ginmappeR.Rcheck/00check.log’
for details.


Installation output

ginmappeR.Rcheck/00install.out

##############################################################################
##############################################################################
###
### Running command:
###
###   /Library/Frameworks/R.framework/Resources/bin/R CMD INSTALL ginmappeR
###
##############################################################################
##############################################################################


* installing to library ‘/Library/Frameworks/R.framework/Versions/4.5-x86_64/Resources/library’
* installing *source* package ‘ginmappeR’ ...
** this is package ‘ginmappeR’ version ‘1.3.3’
** using staged installation
** R
** inst
** byte-compile and prepare package for lazy loading
** help
*** installing help indices
** building package indices
** installing vignettes
** testing if installed package can be loaded from temporary location
** testing if installed package can be loaded from final location
** testing if installed package keeps a record of temporary installation path
* DONE (ginmappeR)

Tests output

ginmappeR.Rcheck/tests/runTests.Rout


R Under development (unstable) (2025-01-22 r87618) -- "Unsuffered Consequences"
Copyright (C) 2025 The R Foundation for Statistical Computing
Platform: x86_64-apple-darwin20

R is free software and comes with ABSOLUTELY NO WARRANTY.
You are welcome to redistribute it under certain conditions.
Type 'license()' or 'licence()' for distribution details.

R is a collaborative project with many contributors.
Type 'contributors()' for more information and
'citation()' on how to cite R or R packages in publications.

Type 'demo()' for some demos, 'help()' for on-line help, or
'help.start()' for an HTML browser interface to help.
Type 'q()' to quit R.

> BiocGenerics:::testPackage("ginmappeR")
Testing getKEGG2UniProt

                                                                                  

  |=.............................| Step   1: Translating from KEGG to UniProt

                                                                                  

  |==............................| Step   2: Connecting to KEGG web services

                                                                                  

  |===...........................| Step   3: Connecting to KEGG API and translating id aag:5579347 to Uniprot

                                                                                  
[1] "A0A1S4G4Z1"
Testing getKEGG2NCBIProtein, getKEGG2NCBINucleotide, getKEGG2NCBIGene

                                                                                  

  |=.............................| Step   1: Translating from KEGG to NCBI Protein

                                                                                  

  |==............................| Step   2: Trying to get a direct translation for KEGG id bha:BH0380 to NCBI

                                                                                  
[1] "BAB04099"
Testing getKEGG2CARD

                                                                                  

  |=.............................| Step   1: Translating from KEGG to CARD
Updating CARD database data...
Deleting previous versions of CARD if any.

Downloading latest version

Extracting database

CARD database downloaded successfully!
Located at /tmp/RtmpnKDmx3/card-data
CARD database version 4.0.0 (2024-12-17)

                                                                                  

  |==............................| Step   2: Searching CARD database and translating to KEGG

                                                                                  

  |===...........................| Step   3: Trying to get a direct translation for KEGG id ag:ACC85616 to CARD

                                                                                  
[1] "ARO:3002804"
Testing getUniProtSimilarGenes

                                                                                  

  |=.............................| Step   1: Accessing UniProt similar genes database

                                                                                  

  |==............................| Step   2: Connecting to UniProt API and retrieving cluster of id G9JVE6

                                                                                  

  |===...........................| Step   3: Retrieving and parsing genes of cluster UniRef100_G9JVE6

                                                                                  
[1] "UniRef100_G9JVE6"
Testing getUniProt2KEGG

                                                                                  

  |=.............................| Step   1: Translating from UniProt to KEGG

                                                                                  

  |==............................| Step   2: Trying to get a direct translation for UniProt id A0A6I6H1L5 to KEGG

                                                                                  
[1] "fls:GLV81_10715"
Testing getUniProt2NCBIProtein, getUniProt2NCBINucleotide, getUniProt2NCBIGene

                                                                                  

  |=.............................| Step   1: Translating from UniProt to NCBI Protein

                                                                                  

  |==............................| Step   2: Trying to get a direct translation for UniProt id A0A6H2TXZ6 to NCBI

                                                                                  
[1] "QIB98918.1"
Testing getUniProt2CARD

                                                                                  

  |=.............................| Step   1: Translating from UniProt to CARD
Using a CARD database version downloaded on Mon 02/03/2025 20:56:50, please consider updating it with updateCARDDataBase() function.

                                                                                  

  |==............................| Step   2: Translating Uniprot id A0A1S7BGS4 to CARD

                                                                                  

  |===...........................| Step   3: Trying to get a direct translation for Uniprot id A0A1S7BGS4 to CARD

                                                                                  
[1] "ARO:3004185"


RUNIT TEST PROTOCOL -- Mon Feb  3 20:57:05 2025 
*********************************************** 
Number of test functions: 0 
Number of errors: 0 
Number of failures: 0 

 
1 Test Suite : 
ginmappeR RUnit Tests - 0 test functions, 0 errors, 0 failures
Number of test functions: 0 
Number of errors: 0 
Number of failures: 0 
> 
> proc.time()
   user  system elapsed 
 13.230   0.667  24.434 

Example timings

ginmappeR.Rcheck/ginmappeR-Ex.timings

nameusersystemelapsed
getCARD2KEGG 7.765 0.27420.173
getCARD2NCBIGene0.2770.0151.843
getCARD2NCBINucleotide0.3630.0181.226
getCARD2NCBIProtein0.0060.0020.765
getCARD2UniProt 0.931 0.10011.401
getKEGG2CARD0.1790.0061.101
getKEGG2NCBIGene0.0690.0052.228
getKEGG2NCBINucleotide0.3730.0458.346
getKEGG2NCBIProtein0.0690.0091.404
getKEGG2UniProt0.0020.0010.105
getNCBIGene2CARD0.1600.0135.045
getNCBIGene2KEGG0.0210.0032.159
getNCBIGene2NCBINucleotide0.0300.0033.944
getNCBIGene2NCBIProtein0.0330.0022.185
getNCBIGene2UniProt0.3670.0307.289
getNCBIIdenticalProteins0.0220.0021.704
getNCBINucleotide2CARD0.0790.0040.720
getNCBINucleotide2KEGG 1.153 0.10348.096
getNCBINucleotide2NCBIGene0.0250.0021.439
getNCBINucleotide2NCBIProtein0.0770.0031.190
getNCBINucleotide2UniProt0.3780.0327.216
getNCBIProtein2CARD0.0700.0030.723
getNCBIProtein2KEGG0.0190.0022.158
getNCBIProtein2NCBIGene0.0200.0022.665
getNCBIProtein2NCBINucleotide0.0930.0050.857
getNCBIProtein2UniProt0.3750.0317.243
getUniProt2CARD0.2700.0142.103
getUniProt2KEGG0.0210.0020.779
getUniProt2NCBIGene000
getUniProt2NCBINucleotide0.1760.0134.570
getUniProt2NCBIProtein000
getUniProtSimilarGenes0.0380.0057.194