| Back to Multiple platform build/check report for BioC 3.22: simplified long |
|
This page was generated on 2025-10-29 12:06 -0400 (Wed, 29 Oct 2025).
| Hostname | OS | Arch (*) | R version | Installed pkgs |
|---|---|---|---|---|
| nebbiolo2 | Linux (Ubuntu 24.04.3 LTS) | x86_64 | 4.5.1 Patched (2025-08-23 r88802) -- "Great Square Root" | 4901 |
| lconway | macOS 12.7.6 Monterey | x86_64 | 4.5.1 Patched (2025-09-10 r88807) -- "Great Square Root" | 4691 |
| kjohnson3 | macOS 13.7.7 Ventura | arm64 | 4.5.1 Patched (2025-09-10 r88807) -- "Great Square Root" | 4637 |
| Click on any hostname to see more info about the system (e.g. compilers) (*) as reported by 'uname -p', except on Windows and Mac OS X | ||||
| Package 875/2361 | Hostname | OS / Arch | INSTALL | BUILD | CHECK | BUILD BIN | ||||||||
| ggkegg 1.7.2 (landing page) Noriaki Sato
| nebbiolo2 | Linux (Ubuntu 24.04.3 LTS) / x86_64 | OK | OK | OK | |||||||||
| lconway | macOS 12.7.6 Monterey / x86_64 | OK | OK | OK | OK | |||||||||
| kjohnson3 | macOS 13.7.7 Ventura / arm64 | OK | OK | OK | OK | |||||||||
|
To the developers/maintainers of the ggkegg package: - Allow up to 24 hours (and sometimes 48 hours) for your latest push to git@git.bioconductor.org:packages/ggkegg.git to reflect on this report. See Troubleshooting Build Report for more information. - Use the following Renviron settings to reproduce errors and warnings. - If 'R CMD check' started to fail recently on the Linux builder(s) over a missing dependency, add the missing dependency to 'Suggests:' in your DESCRIPTION file. See Renviron.bioc for more information. |
| Package: ggkegg |
| Version: 1.7.2 |
| Command: /Library/Frameworks/R.framework/Resources/bin/R CMD check --install=check:ggkegg.install-out.txt --library=/Library/Frameworks/R.framework/Resources/library --no-vignettes --timings ggkegg_1.7.2.tar.gz |
| StartedAt: 2025-10-28 21:29:30 -0400 (Tue, 28 Oct 2025) |
| EndedAt: 2025-10-28 21:32:09 -0400 (Tue, 28 Oct 2025) |
| EllapsedTime: 159.2 seconds |
| RetCode: 0 |
| Status: OK |
| CheckDir: ggkegg.Rcheck |
| Warnings: 0 |
##############################################################################
##############################################################################
###
### Running command:
###
### /Library/Frameworks/R.framework/Resources/bin/R CMD check --install=check:ggkegg.install-out.txt --library=/Library/Frameworks/R.framework/Resources/library --no-vignettes --timings ggkegg_1.7.2.tar.gz
###
##############################################################################
##############################################################################
* using log directory ‘/Users/biocbuild/bbs-3.22-bioc/meat/ggkegg.Rcheck’
* using R version 4.5.1 Patched (2025-09-10 r88807)
* using platform: x86_64-apple-darwin20
* R was compiled by
Apple clang version 14.0.0 (clang-1400.0.29.202)
GNU Fortran (GCC) 14.2.0
* running under: macOS Monterey 12.7.6
* using session charset: UTF-8
* using option ‘--no-vignettes’
* checking for file ‘ggkegg/DESCRIPTION’ ... OK
* checking extension type ... Package
* this is package ‘ggkegg’ version ‘1.7.2’
* package encoding: UTF-8
* checking package namespace information ... OK
* checking package dependencies ... OK
* checking if this is a source package ... OK
* checking if there is a namespace ... OK
* checking for hidden files and directories ... OK
* checking for portable file names ... OK
* checking for sufficient/correct file permissions ... OK
* checking whether package ‘ggkegg’ can be installed ... OK
* checking installed package size ... OK
* checking package directory ... OK
* checking ‘build’ directory ... OK
* checking DESCRIPTION meta-information ... NOTE
License stub is invalid DCF.
* checking top-level files ... OK
* checking for left-over files ... OK
* checking index information ... OK
* checking package subdirectories ... OK
* checking code files for non-ASCII characters ... OK
* checking R files for syntax errors ... OK
* checking whether the package can be loaded ... OK
* checking whether the package can be loaded with stated dependencies ... OK
* checking whether the package can be unloaded cleanly ... OK
* checking whether the namespace can be loaded with stated dependencies ... OK
* checking whether the namespace can be unloaded cleanly ... OK
* checking dependencies in R code ... OK
* checking S3 generic/method consistency ... OK
* checking replacement functions ... OK
* checking foreign function calls ... OK
* checking R code for possible problems ... NOTE
ggplot_add.add_readable_edge_label: no visible binding for global
variable ‘x’
ggplot_add.add_readable_edge_label: no visible binding for global
variable ‘y’
ggplot_add.add_readable_edge_label: no visible binding for global
variable ‘xend’
ggplot_add.add_readable_edge_label: no visible binding for global
variable ‘yend’
ggplot_add.add_readable_edge_label: no visible binding for global
variable ‘group’
ggplot_add.add_readable_edge_label: no visible binding for global
variable ‘label’
ggplot_add.add_readable_edge_label: no visible binding for global
variable ‘angle2’
ggplot_add.add_readable_edge_label: no visible binding for global
variable ‘angle’
ggplot_add.add_readable_edge_label: no visible binding for global
variable ‘x1’
ggplot_add.add_readable_edge_label: no visible binding for global
variable ‘y1’
ggplot_add.add_readable_edge_label: no visible binding for global
variable ‘x2’
ggplot_add.add_readable_edge_label: no visible binding for global
variable ‘y2’
ggplot_add.add_readable_edge_label: no visible binding for global
variable ‘mx’
ggplot_add.add_readable_edge_label: no visible binding for global
variable ‘my’
ggplot_add.add_readable_edge_label: no visible binding for global
variable ‘ma’
Undefined global functions or variables:
angle angle2 group label ma mx my x x1 x2 xend y y1 y2 yend
* checking Rd files ... OK
* checking Rd metadata ... OK
* checking Rd cross-references ... OK
* checking for missing documentation entries ... OK
* checking for code/documentation mismatches ... OK
* checking Rd \usage sections ... OK
* checking Rd contents ... OK
* checking for unstated dependencies in examples ... OK
* checking files in ‘vignettes’ ... OK
* checking examples ... OK
Examples with CPU (user + system) or elapsed time > 5s
user system elapsed
append_cp 6.424 0.289 14.184
rawMap 1.216 0.067 7.721
pathway_abundance 1.030 0.116 17.393
* checking for unstated dependencies in ‘tests’ ... OK
* checking tests ...
Running ‘testthat.R’
OK
* checking for unstated dependencies in vignettes ... OK
* checking package vignettes ... OK
* checking running R code from vignettes ... SKIPPED
* checking re-building of vignette outputs ... SKIPPED
* checking PDF version of manual ... OK
* DONE
Status: 2 NOTEs
See
‘/Users/biocbuild/bbs-3.22-bioc/meat/ggkegg.Rcheck/00check.log’
for details.
ggkegg.Rcheck/00install.out
############################################################################## ############################################################################## ### ### Running command: ### ### /Library/Frameworks/R.framework/Resources/bin/R CMD INSTALL ggkegg ### ############################################################################## ############################################################################## * installing to library ‘/Library/Frameworks/R.framework/Versions/4.5-x86_64/Resources/library’ * installing *source* package ‘ggkegg’ ... ** this is package ‘ggkegg’ version ‘1.7.2’ ** using staged installation ** R ** inst ** byte-compile and prepare package for lazy loading ** help *** installing help indices *** copying figures ** building package indices ** installing vignettes ** testing if installed package can be loaded from temporary location ** testing if installed package can be loaded from final location ** testing if installed package keeps a record of temporary installation path * DONE (ggkegg)
ggkegg.Rcheck/tests/testthat.Rout
R version 4.5.1 Patched (2025-09-10 r88807) -- "Great Square Root"
Copyright (C) 2025 The R Foundation for Statistical Computing
Platform: x86_64-apple-darwin20
R is free software and comes with ABSOLUTELY NO WARRANTY.
You are welcome to redistribute it under certain conditions.
Type 'license()' or 'licence()' for distribution details.
R is a collaborative project with many contributors.
Type 'contributors()' for more information and
'citation()' on how to cite R or R packages in publications.
Type 'demo()' for some demos, 'help()' for on-line help, or
'help.start()' for an HTML browser interface to help.
Type 'q()' to quit R.
> # This file is part of the standard setup for testthat.
> # It is recommended that you do not modify it.
> #
> # Where should you do additional test configuration?
> # Learn more about the roles of various files in:
> # * https://r-pkgs.org/tests.html
> # * https://testthat.r-lib.org/reference/test_package.html#special-files
>
> library(testthat)
> library(ggkegg)
Loading required package: ggplot2
Loading required package: ggraph
Loading required package: XML
Loading required package: igraph
Attaching package: 'igraph'
The following object is masked from 'package:testthat':
compare
The following objects are masked from 'package:stats':
decompose, spectrum
The following object is masked from 'package:base':
union
Loading required package: tidygraph
Attaching package: 'tidygraph'
The following object is masked from 'package:igraph':
groups
The following object is masked from 'package:testthat':
matches
The following object is masked from 'package:stats':
filter
>
> test_check("ggkegg")
trying URL 'https://rest.kegg.jp/get/M00004'
downloaded 275 KB
trying URL 'https://rest.kegg.jp/get/N00002'
downloaded 2119 bytes
trying URL 'https://rest.kegg.jp/get/hsa04110/kgml'
downloaded 51 KB
[ FAIL 0 | WARN 5 | SKIP 0 | PASS 20 ]
[ FAIL 0 | WARN 5 | SKIP 0 | PASS 20 ]
>
> proc.time()
user system elapsed
5.684 0.442 12.280
ggkegg.Rcheck/ggkegg-Ex.timings
| name | user | system | elapsed | |
| add_readable_edge_label | 0.220 | 0.011 | 0.233 | |
| append_cp | 6.424 | 0.289 | 14.184 | |
| append_label_position | 0.050 | 0.002 | 0.051 | |
| assign_deseq2 | 0.009 | 0.001 | 0.010 | |
| carrow | 0.001 | 0.001 | 0.001 | |
| combine_with_bnlearn | 0.087 | 0.013 | 0.102 | |
| convert_id | 0.236 | 0.028 | 0.281 | |
| create_test_module | 0.003 | 0.000 | 0.003 | |
| create_test_network | 0.002 | 0.000 | 0.002 | |
| create_test_pathway | 0.071 | 0.003 | 0.075 | |
| edge_matrix | 0.028 | 0.001 | 0.029 | |
| edge_numeric | 0.008 | 0.000 | 0.008 | |
| edge_numeric_sum | 0.026 | 0.001 | 0.026 | |
| geom_kegg | 0.067 | 0.001 | 0.068 | |
| geom_node_rect | 0.025 | 0.001 | 0.026 | |
| geom_node_rect_kegg | 0.030 | 0.004 | 0.033 | |
| geom_node_rect_multi | 0.083 | 0.009 | 0.092 | |
| geom_node_shadowtext | 0.024 | 0.002 | 0.028 | |
| ggkegg | 0.248 | 0.032 | 1.739 | |
| ggplot_add.add_readable_edge_label | 0.143 | 0.015 | 0.160 | |
| ggplot_add.geom_kegg | 0.111 | 0.003 | 0.115 | |
| ggplot_add.geom_node_rect_kegg | 0.028 | 0.000 | 0.028 | |
| ggplot_add.geom_node_rect_multi | 0.072 | 0.001 | 0.073 | |
| ggplot_add.overlay_raw_map | 0.451 | 0.033 | 0.488 | |
| ggplot_add.stamp | 0.028 | 0.001 | 0.029 | |
| highlight_entities | 0.825 | 0.051 | 0.878 | |
| highlight_module | 0.019 | 0.000 | 0.019 | |
| highlight_set_edges | 0.011 | 0.000 | 0.011 | |
| highlight_set_nodes | 0.013 | 0.000 | 0.013 | |
| module | 1.077 | 0.073 | 4.826 | |
| module_abundance | 0.499 | 0.076 | 0.580 | |
| module_completeness | 0.005 | 0.000 | 0.005 | |
| module_text | 0.006 | 0.001 | 0.008 | |
| multi_pathway_native | 0.243 | 0.005 | 1.249 | |
| network | 0.017 | 0.002 | 0.871 | |
| network_graph | 0.013 | 0.001 | 0.013 | |
| node_matrix | 0.015 | 0.001 | 0.016 | |
| node_numeric | 0.011 | 0.001 | 0.011 | |
| obtain_sequential_module_definition | 0.015 | 0.002 | 0.016 | |
| output_overlay_image | 0 | 0 | 0 | |
| overlay_raw_map | 0.498 | 0.034 | 0.535 | |
| pathway | 0.155 | 0.010 | 0.165 | |
| pathway_abundance | 1.030 | 0.116 | 17.393 | |
| pathway_info | 0.020 | 0.006 | 1.992 | |
| plot_kegg_network | 0.104 | 0.002 | 0.107 | |
| plot_module_blocks | 0.105 | 0.002 | 0.108 | |
| plot_module_text | 0.138 | 0.002 | 0.141 | |
| process_line | 0.015 | 0.001 | 0.015 | |
| process_reaction | 0.010 | 0.001 | 0.010 | |
| rawMap | 1.216 | 0.067 | 7.721 | |
| rawValue | 0.051 | 0.000 | 0.051 | |
| return_line_compounds | 0.018 | 0.001 | 0.018 | |
| stamp | 0.028 | 0.000 | 0.029 | |