Back to Multiple platform build/check report for BioC 3.21:   simplified   long
ABCDEF[G]HIJKLMNOPQRSTUVWXYZ

This page was generated on 2025-02-19 11:43 -0500 (Wed, 19 Feb 2025).

HostnameOSArch (*)R versionInstalled pkgs
nebbiolo1Linux (Ubuntu 24.04.1 LTS)x86_64R Under development (unstable) (2025-01-20 r87609) -- "Unsuffered Consequences" 4720
palomino7Windows Server 2022 Datacenterx64R Under development (unstable) (2025-01-21 r87610 ucrt) -- "Unsuffered Consequences" 4482
lconwaymacOS 12.7.1 Montereyx86_64R Under development (unstable) (2025-01-22 r87618) -- "Unsuffered Consequences" 4493
kjohnson3macOS 13.7.1 Venturaarm64R Under development (unstable) (2025-01-20 r87609) -- "Unsuffered Consequences" 4446
Click on any hostname to see more info about the system (e.g. compilers)      (*) as reported by 'uname -p', except on Windows and Mac OS X

Package 787/2295HostnameOS / ArchINSTALLBUILDCHECKBUILD BIN
gemma.R 3.3.0  (landing page)
Ogan Mancarci
Snapshot Date: 2025-02-18 13:40 -0500 (Tue, 18 Feb 2025)
git_url: https://git.bioconductor.org/packages/gemma.R
git_branch: devel
git_last_commit: 890574d
git_last_commit_date: 2024-11-26 15:33:49 -0500 (Tue, 26 Nov 2024)
nebbiolo1Linux (Ubuntu 24.04.1 LTS) / x86_64  OK    OK    OK  UNNEEDED, same version is already published
palomino7Windows Server 2022 Datacenter / x64  OK    OK    OK    OK  UNNEEDED, same version is already published
lconwaymacOS 12.7.1 Monterey / x86_64  OK    OK    OK    OK  UNNEEDED, same version is already published
kjohnson3macOS 13.7.1 Ventura / arm64  OK    OK    OK    OK  UNNEEDED, same version is already published


CHECK results for gemma.R on lconway

To the developers/maintainers of the gemma.R package:
- Allow up to 24 hours (and sometimes 48 hours) for your latest push to git@git.bioconductor.org:packages/gemma.R.git to reflect on this report. See Troubleshooting Build Report for more information.
- Use the following Renviron settings to reproduce errors and warnings.
- If 'R CMD check' started to fail recently on the Linux builder(s) over a missing dependency, add the missing dependency to 'Suggests:' in your DESCRIPTION file. See Renviron.bioc for more information.

raw results


Summary

Package: gemma.R
Version: 3.3.0
Command: /Library/Frameworks/R.framework/Resources/bin/R CMD check --install=check:gemma.R.install-out.txt --library=/Library/Frameworks/R.framework/Resources/library --no-vignettes --timings gemma.R_3.3.0.tar.gz
StartedAt: 2025-02-18 20:30:16 -0500 (Tue, 18 Feb 2025)
EndedAt: 2025-02-18 20:39:04 -0500 (Tue, 18 Feb 2025)
EllapsedTime: 528.2 seconds
RetCode: 0
Status:   OK  
CheckDir: gemma.R.Rcheck
Warnings: 0

Command output

##############################################################################
##############################################################################
###
### Running command:
###
###   /Library/Frameworks/R.framework/Resources/bin/R CMD check --install=check:gemma.R.install-out.txt --library=/Library/Frameworks/R.framework/Resources/library --no-vignettes --timings gemma.R_3.3.0.tar.gz
###
##############################################################################
##############################################################################


* using log directory ‘/Users/biocbuild/bbs-3.21-bioc/meat/gemma.R.Rcheck’
* using R Under development (unstable) (2025-01-22 r87618)
* using platform: x86_64-apple-darwin20
* R was compiled by
    Apple clang version 14.0.0 (clang-1400.0.29.202)
    GNU Fortran (GCC) 14.2.0
* running under: macOS Monterey 12.7.6
* using session charset: UTF-8
* using option ‘--no-vignettes’
* checking for file ‘gemma.R/DESCRIPTION’ ... OK
* this is package ‘gemma.R’ version ‘3.3.0’
* package encoding: UTF-8
* checking package namespace information ... OK
* checking package dependencies ... INFO
Imports includes 21 non-default packages.
Importing from so many packages makes the package vulnerable to any of
them becoming unavailable.  Move as many as possible to Suggests and
use conditionally.
* checking if this is a source package ... OK
* checking if there is a namespace ... OK
* checking for hidden files and directories ... OK
* checking for portable file names ... OK
* checking for sufficient/correct file permissions ... OK
* checking whether package ‘gemma.R’ can be installed ... OK
* checking installed package size ... OK
* checking package directory ... OK
* checking ‘build’ directory ... OK
* checking DESCRIPTION meta-information ... OK
* checking top-level files ... OK
* checking for left-over files ... OK
* checking index information ... OK
* checking package subdirectories ... OK
* checking code files for non-ASCII characters ... OK
* checking R files for syntax errors ... OK
* checking whether the package can be loaded ... OK
* checking whether the package can be loaded with stated dependencies ... OK
* checking whether the package can be unloaded cleanly ... OK
* checking whether the namespace can be loaded with stated dependencies ... OK
* checking whether the namespace can be unloaded cleanly ... OK
* checking dependencies in R code ... OK
* checking S3 generic/method consistency ... OK
* checking replacement functions ... OK
* checking foreign function calls ... OK
* checking R code for possible problems ... OK
* checking Rd files ... OK
* checking Rd metadata ... OK
* checking Rd cross-references ... OK
* checking for missing documentation entries ... OK
* checking for code/documentation mismatches ... OK
* checking Rd \usage sections ... OK
* checking Rd contents ... OK
* checking for unstated dependencies in examples ... OK
* checking files in ‘vignettes’ ... OK
* checking examples ... OK
Examples with CPU (user + system) or elapsed time > 5s
                                              user system elapsed
get_dataset_object                           9.620  0.502  14.439
get_dataset_raw_expression                   1.083  0.093   6.479
get_dataset_processed_expression             1.049  0.091   5.995
get_gene_differential_expression_values      0.971  0.031   5.254
get_dataset_expression                       0.804  0.109  10.384
get_dataset_differential_expression_analyses 0.425  0.054   6.226
get_datasets                                 0.186  0.027   6.777
* checking for unstated dependencies in ‘tests’ ... OK
* checking tests ...
  Running ‘testthat.R’
 OK
* checking for unstated dependencies in vignettes ... OK
* checking package vignettes ... OK
* checking running R code from vignettes ... SKIPPED
* checking re-building of vignette outputs ... SKIPPED
* checking PDF version of manual ... OK
* DONE

Status: OK


Installation output

gemma.R.Rcheck/00install.out

##############################################################################
##############################################################################
###
### Running command:
###
###   /Library/Frameworks/R.framework/Resources/bin/R CMD INSTALL gemma.R
###
##############################################################################
##############################################################################


* installing to library ‘/Library/Frameworks/R.framework/Versions/4.5-x86_64/Resources/library’
* installing *source* package ‘gemma.R’ ...
** this is package ‘gemma.R’ version ‘3.3.0’
** using staged installation
** R
** inst
** byte-compile and prepare package for lazy loading
** help
*** installing help indices
*** copying figures
** building package indices
** installing vignettes
** testing if installed package can be loaded from temporary location
** testing if installed package can be loaded from final location
** testing if installed package keeps a record of temporary installation path
* DONE (gemma.R)

Tests output

gemma.R.Rcheck/tests/testthat.Rout


R Under development (unstable) (2025-01-22 r87618) -- "Unsuffered Consequences"
Copyright (C) 2025 The R Foundation for Statistical Computing
Platform: x86_64-apple-darwin20

R is free software and comes with ABSOLUTELY NO WARRANTY.
You are welcome to redistribute it under certain conditions.
Type 'license()' or 'licence()' for distribution details.

R is a collaborative project with many contributors.
Type 'contributors()' for more information and
'citation()' on how to cite R or R packages in publications.

Type 'demo()' for some demos, 'help()' for on-line help, or
'help.start()' for an HTML browser interface to help.
Type 'q()' to quit R.

> library(testthat)
> library(dplyr)

Attaching package: 'dplyr'

The following object is masked from 'package:testthat':

    matches

The following objects are masked from 'package:stats':

    filter, lag

The following objects are masked from 'package:base':

    intersect, setdiff, setequal, union

> 
> # Prevent certificate issues for GitHub actions
> options(gemma.SSL = FALSE)
> # get gemma api path if it's set in the environment
> gemma.R:::setGemmaPath('prod')
[1] "https://gemma.msl.ubc.ca/rest/v2/"
> print(gemma.R:::gemmaPath())
[1] "https://gemma.msl.ubc.ca/rest/v2/"
> test_check("gemma.R")
Loading required package: gemma.R
[ FAIL 0 | WARN 0 | SKIP 4 | PASS 197 ]

══ Skipped tests (4) ═══════════════════════════════════════════════════════════
• On Bioconductor (4): 'testCaches.R:37:3', 'testConvenience.R:15:5',
  'testConvenience.R:37:5', 'testDatasetEndpoints.R:86:5'

[ FAIL 0 | WARN 0 | SKIP 4 | PASS 197 ]
> 
> 
> 
> proc.time()
   user  system elapsed 
115.129   6.644 400.660 

Example timings

gemma.R.Rcheck/gemma.R-Ex.timings

nameusersystemelapsed
dot-getResultSets0.0000.0000.001
filter_properties0.0750.0120.089
forget_gemma_memoised0.0680.0500.295
gemma_call0.1640.0190.650
get_child_terms0.3270.0320.463
get_dataset_annotations0.0080.0010.093
get_dataset_design0.2450.0130.379
get_dataset_differential_expression_analyses0.4250.0546.226
get_dataset_expression 0.804 0.10910.384
get_dataset_expression_for_genes0.2860.0190.638
get_dataset_object 9.620 0.50214.439
get_dataset_platforms0.0150.0020.483
get_dataset_processed_expression1.0490.0915.995
get_dataset_quantitation_types0.0120.0010.202
get_dataset_raw_expression1.0830.0936.479
get_dataset_samples0.1860.0120.443
get_datasets0.1860.0276.777
get_datasets_by_ids0.0440.0050.218
get_differential_expression_values0.2000.0363.998
get_gene_differential_expression_values0.9710.0315.254
get_gene_go_terms0.0370.0020.375
get_gene_locations0.0230.0010.264
get_gene_probes0.0270.0040.267
get_genes0.0290.0030.211
get_platform_annotations0.5700.0552.881
get_platform_datasets0.0370.0030.392
get_platform_element_genes0.0110.0010.113
get_platforms_by_ids0.0280.0020.221
get_result_sets0.0450.0030.227
get_taxa0.0100.0010.087
get_taxa_by_ids0.0100.0010.087
get_taxon_datasets0.0380.0050.388
make_design0.6420.0210.940
search_annotations0.0130.0020.092
search_datasets0.0360.0040.467
search_gemma0.1100.0190.463
update_result0.5170.0283.560