Back to Multiple platform build/check report for BioC 3.21: simplified long |
|
This page was generated on 2025-02-04 11:42 -0500 (Tue, 04 Feb 2025).
Hostname | OS | Arch (*) | R version | Installed pkgs |
---|---|---|---|---|
nebbiolo1 | Linux (Ubuntu 24.04.1 LTS) | x86_64 | R Under development (unstable) (2025-01-20 r87609) -- "Unsuffered Consequences" | 4716 |
palomino7 | Windows Server 2022 Datacenter | x64 | R Under development (unstable) (2025-01-21 r87610 ucrt) -- "Unsuffered Consequences" | 4478 |
lconway | macOS 12.7.1 Monterey | x86_64 | R Under development (unstable) (2025-01-22 r87618) -- "Unsuffered Consequences" | 4489 |
kjohnson3 | macOS 13.7.1 Ventura | arm64 | R Under development (unstable) (2025-01-20 r87609) -- "Unsuffered Consequences" | 4442 |
Click on any hostname to see more info about the system (e.g. compilers) (*) as reported by 'uname -p', except on Windows and Mac OS X |
Package 786/2295 | Hostname | OS / Arch | INSTALL | BUILD | CHECK | BUILD BIN | ||||||||
gemini 1.21.0 (landing page) Sidharth Jain
| nebbiolo1 | Linux (Ubuntu 24.04.1 LTS) / x86_64 | OK | OK | OK | |||||||||
palomino7 | Windows Server 2022 Datacenter / x64 | OK | OK | OK | OK | |||||||||
lconway | macOS 12.7.1 Monterey / x86_64 | OK | OK | OK | OK | |||||||||
kjohnson3 | macOS 13.7.1 Ventura / arm64 | OK | OK | OK | OK | |||||||||
To the developers/maintainers of the gemini package: - Allow up to 24 hours (and sometimes 48 hours) for your latest push to git@git.bioconductor.org:packages/gemini.git to reflect on this report. See Troubleshooting Build Report for more information. - Use the following Renviron settings to reproduce errors and warnings. - If 'R CMD check' started to fail recently on the Linux builder(s) over a missing dependency, add the missing dependency to 'Suggests:' in your DESCRIPTION file. See Renviron.bioc for more information. |
Package: gemini |
Version: 1.21.0 |
Command: /Library/Frameworks/R.framework/Resources/bin/R CMD check --install=check:gemini.install-out.txt --library=/Library/Frameworks/R.framework/Resources/library --no-vignettes --timings gemini_1.21.0.tar.gz |
StartedAt: 2025-02-03 20:40:26 -0500 (Mon, 03 Feb 2025) |
EndedAt: 2025-02-03 20:43:21 -0500 (Mon, 03 Feb 2025) |
EllapsedTime: 175.0 seconds |
RetCode: 0 |
Status: OK |
CheckDir: gemini.Rcheck |
Warnings: 0 |
############################################################################## ############################################################################## ### ### Running command: ### ### /Library/Frameworks/R.framework/Resources/bin/R CMD check --install=check:gemini.install-out.txt --library=/Library/Frameworks/R.framework/Resources/library --no-vignettes --timings gemini_1.21.0.tar.gz ### ############################################################################## ############################################################################## * using log directory ‘/Users/biocbuild/bbs-3.21-bioc/meat/gemini.Rcheck’ * using R Under development (unstable) (2025-01-22 r87618) * using platform: x86_64-apple-darwin20 * R was compiled by Apple clang version 14.0.0 (clang-1400.0.29.202) GNU Fortran (GCC) 14.2.0 * running under: macOS Monterey 12.7.6 * using session charset: UTF-8 * using option ‘--no-vignettes’ * checking for file ‘gemini/DESCRIPTION’ ... OK * checking extension type ... Package * this is package ‘gemini’ version ‘1.21.0’ * package encoding: UTF-8 * checking package namespace information ... OK * checking package dependencies ... OK * checking if this is a source package ... OK * checking if there is a namespace ... OK * checking for hidden files and directories ... OK * checking for portable file names ... OK * checking for sufficient/correct file permissions ... OK * checking whether package ‘gemini’ can be installed ... OK * checking installed package size ... OK * checking package directory ... OK * checking ‘build’ directory ... OK * checking DESCRIPTION meta-information ... NOTE License stub is invalid DCF. * checking top-level files ... OK * checking for left-over files ... OK * checking index information ... OK * checking package subdirectories ... OK * checking code files for non-ASCII characters ... OK * checking R files for syntax errors ... OK * checking whether the package can be loaded ... OK * checking whether the package can be loaded with stated dependencies ... OK * checking whether the package can be unloaded cleanly ... OK * checking whether the namespace can be loaded with stated dependencies ... OK * checking whether the namespace can be unloaded cleanly ... OK * checking dependencies in R code ... OK * checking S3 generic/method consistency ... OK * checking replacement functions ... OK * checking foreign function calls ... OK * checking R code for possible problems ... NOTE gemini_boxplot : <anonymous>: no visible binding for global variable ‘.’ gemini_boxplot: no visible binding for global variable ‘.’ gemini_boxplot : <anonymous>: no visible binding for global variable ‘gi’ gemini_boxplot : <anonymous>: no visible binding for global variable ‘hj’ gemini_boxplot: no visible binding for global variable ‘label’ gemini_boxplot: no visible binding for global variable ‘y’ gemini_calculate_lfc: no visible binding for global variable ‘.’ update_s_pb: no visible binding for global variable ‘.’ update_tau_pb: no visible binding for global variable ‘.’ Undefined global functions or variables: . gi hj label y * checking Rd files ... NOTE checkRd: (-1) gemini_initialize.Rd:81-83: Lost braces 81 | \strong{Use of negative control}{ | ^ * checking Rd metadata ... OK * checking Rd cross-references ... OK * checking for missing documentation entries ... OK * checking for code/documentation mismatches ... OK * checking Rd \usage sections ... OK * checking Rd contents ... OK * checking for unstated dependencies in examples ... OK * checking contents of ‘data’ directory ... OK * checking data for non-ASCII characters ... OK * checking data for ASCII and uncompressed saves ... OK * checking files in ‘vignettes’ ... OK * checking examples ... OK Examples with CPU (user + system) or elapsed time > 5s user system elapsed gemini_inference 20.550 3.413 24.229 update_tau_pb 10.160 1.781 12.103 update_x_pb 8.493 1.483 10.139 gemini_initialize 4.929 0.137 5.154 * checking for unstated dependencies in ‘tests’ ... OK * checking tests ... Running ‘testthat.R’ OK * checking for unstated dependencies in vignettes ... OK * checking package vignettes ... OK * checking running R code from vignettes ... SKIPPED * checking re-building of vignette outputs ... SKIPPED * checking PDF version of manual ... OK * DONE Status: 3 NOTEs See ‘/Users/biocbuild/bbs-3.21-bioc/meat/gemini.Rcheck/00check.log’ for details.
gemini.Rcheck/00install.out
############################################################################## ############################################################################## ### ### Running command: ### ### /Library/Frameworks/R.framework/Resources/bin/R CMD INSTALL gemini ### ############################################################################## ############################################################################## * installing to library ‘/Library/Frameworks/R.framework/Versions/4.5-x86_64/Resources/library’ * installing *source* package ‘gemini’ ... ** this is package ‘gemini’ version ‘1.21.0’ ** using staged installation ** R ** data ** inst ** byte-compile and prepare package for lazy loading ** help *** installing help indices ** building package indices ** installing vignettes ** testing if installed package can be loaded from temporary location ** testing if installed package can be loaded from final location ** testing if installed package keeps a record of temporary installation path * DONE (gemini)
gemini.Rcheck/tests/testthat.Rout
R Under development (unstable) (2025-01-22 r87618) -- "Unsuffered Consequences" Copyright (C) 2025 The R Foundation for Statistical Computing Platform: x86_64-apple-darwin20 R is free software and comes with ABSOLUTELY NO WARRANTY. You are welcome to redistribute it under certain conditions. Type 'license()' or 'licence()' for distribution details. R is a collaborative project with many contributors. Type 'contributors()' for more information and 'citation()' on how to cite R or R packages in publications. Type 'demo()' for some demos, 'help()' for on-line help, or 'help.start()' for an HTML browser interface to help. Type 'q()' to quit R. > library(testthat) > library(gemini) > > test_check("gemini") [ FAIL 0 | WARN 3 | SKIP 0 | PASS 7 ] [ FAIL 0 | WARN 3 | SKIP 0 | PASS 7 ] > > proc.time() user system elapsed 7.805 0.425 8.317
gemini.Rcheck/gemini-Ex.timings
name | user | system | elapsed | |
Sgene2Pguides_hash | 0.000 | 0.000 | 0.001 | |
Sguide2Pguides_hash | 0.000 | 0.000 | 0.001 | |
compound | 0 | 0 | 0 | |
dot-median_normalize | 0.000 | 0.001 | 0.000 | |
gemini_boxplot | 2.601 | 0.085 | 2.719 | |
gemini_calculate_lfc | 0.508 | 0.024 | 0.539 | |
gemini_create_input | 0.331 | 0.016 | 0.352 | |
gemini_inference | 20.550 | 3.413 | 24.229 | |
gemini_initialize | 4.929 | 0.137 | 5.154 | |
gemini_plot_mae | 0.914 | 0.017 | 0.947 | |
gemini_prepare_input | 0.409 | 0.009 | 0.422 | |
gemini_score | 0.839 | 0.014 | 0.865 | |
initialize_s | 1.353 | 0.034 | 1.400 | |
initialize_tau | 1.629 | 0.034 | 1.687 | |
initialize_x | 3.172 | 0.066 | 3.276 | |
initialize_y | 0.763 | 0.014 | 0.786 | |
pipe | 0 | 0 | 0 | |
update_mae | 1.195 | 0.024 | 1.234 | |
update_s_pb | 1.979 | 0.153 | 2.156 | |
update_tau_pb | 10.160 | 1.781 | 12.103 | |
update_x_pb | 8.493 | 1.483 | 10.139 | |
update_y_pb | 2.607 | 0.107 | 2.738 | |