| Back to Multiple platform build/check report for BioC 3.22: simplified long |
|
This page was generated on 2025-10-21 12:07 -0400 (Tue, 21 Oct 2025).
| Hostname | OS | Arch (*) | R version | Installed pkgs |
|---|---|---|---|---|
| nebbiolo2 | Linux (Ubuntu 24.04.3 LTS) | x86_64 | 4.5.1 Patched (2025-08-23 r88802) -- "Great Square Root" | 4887 |
| lconway | macOS 12.7.6 Monterey | x86_64 | 4.5.1 Patched (2025-09-10 r88807) -- "Great Square Root" | 4677 |
| kjohnson3 | macOS 13.7.7 Ventura | arm64 | 4.5.1 Patched (2025-09-10 r88807) -- "Great Square Root" | 4622 |
| taishan | Linux (openEuler 24.03 LTS) | aarch64 | 4.5.0 (2025-04-11) -- "How About a Twenty-Six" | 4642 |
| Click on any hostname to see more info about the system (e.g. compilers) (*) as reported by 'uname -p', except on Windows and Mac OS X | ||||
| Package 884/2353 | Hostname | OS / Arch | INSTALL | BUILD | CHECK | BUILD BIN | ||||||||
| gINTomics 1.5.2 (landing page) Angelo Velle
| nebbiolo2 | Linux (Ubuntu 24.04.3 LTS) / x86_64 | OK | OK | OK | |||||||||
| lconway | macOS 12.7.6 Monterey / x86_64 | OK | OK | OK | OK | |||||||||
| kjohnson3 | macOS 13.7.7 Ventura / arm64 | OK | OK | OK | OK | |||||||||
| taishan | Linux (openEuler 24.03 LTS) / aarch64 | OK | OK | OK | ||||||||||
|
To the developers/maintainers of the gINTomics package: - Allow up to 24 hours (and sometimes 48 hours) for your latest push to git@git.bioconductor.org:packages/gINTomics.git to reflect on this report. See Troubleshooting Build Report for more information. - Use the following Renviron settings to reproduce errors and warnings. - If 'R CMD check' started to fail recently on the Linux builder(s) over a missing dependency, add the missing dependency to 'Suggests:' in your DESCRIPTION file. See Renviron.bioc for more information. - See Martin Grigorov's blog post for how to debug Linux ARM64 related issues on a x86_64 host. |
| Package: gINTomics |
| Version: 1.5.2 |
| Command: /home/biocbuild/R/R/bin/R CMD check --install=check:gINTomics.install-out.txt --library=/home/biocbuild/R/R/site-library --no-vignettes --timings gINTomics_1.5.2.tar.gz |
| StartedAt: 2025-10-17 09:39:23 -0000 (Fri, 17 Oct 2025) |
| EndedAt: 2025-10-17 10:00:20 -0000 (Fri, 17 Oct 2025) |
| EllapsedTime: 1256.9 seconds |
| RetCode: 0 |
| Status: OK |
| CheckDir: gINTomics.Rcheck |
| Warnings: 0 |
##############################################################################
##############################################################################
###
### Running command:
###
### /home/biocbuild/R/R/bin/R CMD check --install=check:gINTomics.install-out.txt --library=/home/biocbuild/R/R/site-library --no-vignettes --timings gINTomics_1.5.2.tar.gz
###
##############################################################################
##############################################################################
* using log directory ‘/home/biocbuild/bbs-3.22-bioc/meat/gINTomics.Rcheck’
* using R version 4.5.0 (2025-04-11)
* using platform: aarch64-unknown-linux-gnu
* R was compiled by
aarch64-unknown-linux-gnu-gcc (GCC) 14.2.0
GNU Fortran (GCC) 14.2.0
* running under: openEuler 24.03 (LTS)
* using session charset: UTF-8
* using option ‘--no-vignettes’
* checking for file ‘gINTomics/DESCRIPTION’ ... OK
* this is package ‘gINTomics’ version ‘1.5.2’
* package encoding: UTF-8
* checking package namespace information ... OK
* checking package dependencies ... INFO
Imports includes 42 non-default packages.
Importing from so many packages makes the package vulnerable to any of
them becoming unavailable. Move as many as possible to Suggests and
use conditionally.
* checking if this is a source package ... OK
* checking if there is a namespace ... OK
* checking for hidden files and directories ... OK
* checking for portable file names ... OK
* checking for sufficient/correct file permissions ... OK
* checking whether package ‘gINTomics’ can be installed ... OK
* checking installed package size ... OK
* checking package directory ... OK
* checking ‘build’ directory ... OK
* checking DESCRIPTION meta-information ... OK
* checking top-level files ... OK
* checking for left-over files ... OK
* checking index information ... OK
* checking package subdirectories ... OK
* checking code files for non-ASCII characters ... OK
* checking R files for syntax errors ... OK
* checking whether the package can be loaded ... OK
* checking whether the package can be loaded with stated dependencies ... OK
* checking whether the package can be unloaded cleanly ... OK
* checking whether the namespace can be loaded with stated dependencies ... OK
* checking whether the namespace can be unloaded cleanly ... OK
* checking loading without being on the library search path ... OK
* checking dependencies in R code ... OK
* checking S3 generic/method consistency ... OK
* checking replacement functions ... OK
* checking foreign function calls ... OK
* checking R code for possible problems ... NOTE
[2025-10-17 09:44:24] [TRACE] [OmnipathR] Reading JSON from `/home/biocbuild/.cache/OmnipathR/cache.json` (encoding: UTF-8).
[2025-10-17 09:44:24] [TRACE] [OmnipathR] JSON validation successful: TRUE
[2025-10-17 09:44:24] [INFO] [OmnipathR] Initialized cache: `/home/biocbuild/.cache/OmnipathR`.
[2025-10-17 09:44:24] [INFO] [OmnipathR] Package `OmnipathR` packaged: NA
[2025-10-17 09:44:24] [INFO] [OmnipathR] Package `OmnipathR` date/publication: 2025-10-16
[2025-10-17 09:44:24] [INFO] [OmnipathR] Package `OmnipathR` built: R 4.5.0; ; 2025-10-16 21:18:23 UTC; unix
[2025-10-17 09:44:24] [INFO] [OmnipathR] Package `OmnipathR` version: 3.17.6
[2025-10-17 09:44:24] [INFO] [OmnipathR] Package `OmnipathR` repository: Bioconductor 3.22
[2025-10-17 09:44:24] [INFO] [OmnipathR] Session info: [version=R version 4.5.0 (2025-04-11); os=openEuler 24.03 (LTS); system=aarch64, linux-gnu; ui=X11; language=(EN); collate=C; ctype=en_US.UTF-8; tz=UTC; date=2025-10-17; pandoc=2.12 @ /home/biocbuild/bin/ (via rmarkdown); quarto=1.7.32 @ /home/biocbuild/bioconductor/quarto-1.7.32/bin/quarto]
[2025-10-17 09:44:24] [INFO] [OmnipathR] External libraries: [cairo=1.18.0; cairoFT=; pango=1.51.0; png=1.6.47; jpeg=6.2; tiff=LIBTIFF, Version 4.7.0; tcl=8.6.14; curl=8.13.0; zlib=1.3.1; bzlib=1.0.8, 13-Jul-2019; xz=5.8.1; deflate=; PCRE=10.44 2024-06-07; ICU=74.1; TRE=TRE 0.8.0 R_fixes (BSD); iconv=glibc 2.38; readline=8.2; BLAS=/usr/lib64/libopenblas-r0.3.25.so; lapack=/usr/lib64/libopenblas-r0.3.25.so; lapack_version=3.11.0]
[2025-10-17 09:44:25] [INFO] [OmnipathR] Loaded packages: abind 1.4-8(2024-09-12); AnnotationDbi 1.71.2(2025-10-16); backports 1.5.0(2024-05-23); Biobase 2.69.1(2025-10-16); BiocBaseUtils 1.11.2(2025-10-16); BiocGenerics 0.55.3(2025-10-16); BiocIO 1.19.0(2025-10-16); BiocParallel 1.43.4(2025-10-16); Biostrings 2.77.2(2025-10-16); bit 4.6.0(2025-03-06); bit64 4.6.0-1(2025-01-16); bitops 1.0-9(2024-10-03); blob 1.2.4(2023-03-17); cachem 1.1.0(2024-05-16); cellranger 1.1.0(2016-07-27); checkmate 2.3.3(2025-08-18); chromote 0.5.1(2025-04-24); circlize 0.4.16(2024-02-20); cli 3.6.5(2025-04-23); clisymbols 1.2.0(2017-05-21); clue 0.3-66(2024-11-13); cluster 2.1.8.1(2025-03-12); codetools 0.2-20(2024-03-31); colorspace 2.1-2(2025-09-22); ComplexHeatmap 2.25.2(2025-10-16); crayon 1.5.3(2024-06-20); curl 7.0.0(2025-08-19); DBI 1.2.3(2024-06-02); DelayedArray 0.35.3(2025-10-16); dichromat 2.0-0.1(2022-05-02); digest 0.6.37(2024-08-19); doParallel 1.0.17(2022-02-07); dplyr 1.1.4(2023-11-17); DT 0.34.0(2025-09-02); evaluate 1.0.5(2025-08-27); farver 2.1.2(2024-05-13); fastmap 1.2.0(2024-05-15); fontawesome 0.5.3(2024-11-16); foreach 1.5.2(2022-02-02); fs 1.6.6(2025-04-12); generics 0.1.4(2025-05-09); GenomicAlignments 1.45.4(2025-10-16); GenomicFeatures 1.61.6(2025-10-16); GenomicRanges 1.61.5(2025-10-16); GetoptLong 1.0.5(2020-12-15); ggplot2 4.0.0(2025-09-11); gINTomics 1.5.2(2025-10-16); GlobalOptions 0.1.2(2020-06-10); glue 1.8.0(2024-09-30); gtable 0.3.6(2024-10-25); hms 1.1.3(2023-03-21); htmltools 0.5.8.1(2024-04-04); htmlwidgets 1.6.4(2023-12-06); httpuv 1.6.16(2025-04-16); httr 1.4.7(2023-08-15); httr2 1.2.1(2025-07-22); igraph 2.2.0(2025-10-13); InteractiveComplexHeatmap 1.17.0(2025-10-16); IRanges 2.43.5(2025-10-16); iterators 1.0.14(2022-02-05); jsonlite 2.0.0(2025-03-27); kableExtra 1.4.0(2024-01-24); KEGGREST 1.49.2(2025-10-16); knitr 1.50(2025-03-16); later 1.4.4(2025-08-27); lattice 0.22-7(2025-04-02); lifecycle 1.0.4(2023-11-07); logger 0.4.1(2025-09-11); lubridate 1.9.4(2024-12-08); magrittr 2.0.4(2025-09-12); MASS 7.3-65(2025-02-28); Matrix 1.7-4(2025-08-28); MatrixGenerics 1.21.0(2025-10-16); matrixStats 1.5.0(2025-01-07); memoise 2.0.1(2021-11-26); MethylMix 2.39.0(2025-10-16); mime 0.13(2025-03-17); MultiAssayExperiment 1.35.9(2025-10-16); OmnipathR 3.17.6(2025-10-16); pillar 1.11.1(2025-09-17); pkgconfig 2.0.3(2019-09-22); png 0.1-8(2022-11-29); prettyunits 1.2.0(2023-09-24); processx 3.8.6(2025-02-21); progress 1.2.3(2023-12-06); promises 1.3.3(2025-05-29); ps 1.9.1(2025-04-12); purrr 1.1.0(2025-07-10); R.methodsS3 1.8.2(2022-06-13); R.oo 1.27.1(2025-05-02); R.utils 2.13.0(2025-02-24); R6 2.6.1(2025-02-15); rappdirs 0.3.3(2021-01-31); RColorBrewer 1.1-3(2022-04-03); Rcpp 1.1.0(2025-07-02); RCurl 1.98-1.17(2025-03-22); readr 2.1.5(2024-01-10); readxl 1.4.5(2025-03-07); restfulr 0.0.16(2025-06-27); rjson 0.2.23(2024-09-16); rlang 1.1.6(2025-04-11); rmarkdown 2.30(2025-09-28); Rsamtools 2.25.3(2025-10-16); RSQLite 2.4.3(2025-08-20); rstudioapi 0.17.1(2024-10-22); rtracklayer 1.69.1(2025-10-16); rvest 1.0.5(2025-08-29); S4Arrays 1.9.1(2025-10-16); S4Vectors 0.47.4(2025-10-16); S7 0.2.0(2024-11-07); scales 1.4.0(2025-04-24); Seqinfo 0.99.2(2025-10-16); sessioninfo 1.2.3(2025-02-05); shape 1.4.6.1(2024-02-23); shiny 1.11.1(2025-07-03); SparseArray 1.9.1(2025-10-16); stringi 1.8.7(2025-03-27); stringr 1.5.2(2025-09-08); SummarizedExperiment 1.39.2(2025-10-16); svglite 2.2.1(2025-05-12); systemfonts 1.3.1(2025-10-01); textshaping 1.0.4(2025-10-10); tibble 3.3.0(2025-06-08); tidyr 1.3.1(2024-01-24); tidyselect 1.2.1(2024-03-11); timechange 0.3.0(2024-01-18); tzdb 0.5.0(2025-03-15); vctrs 0.6.5(2023-12-01); viridisLite 0.4.2(2023-05-02); websocket 1.4.4(2025-04-10); withr 3.0.2(2024-10-28); xfun 0.53(2025-08-19); XML 3.99-0.19(2025-08-22); xml2 1.4.0(2025-08-20); xtable 1.8-4(2019-04-21); XVector 0.49.1(2025-10-16); yaml 2.3.10(2024-07-26); zip 2.3.3(2025-05-13)
[2025-10-17 09:44:25] [INFO] [OmnipathR] CURL: version: 8.13.0; headers: 8.13.0; ssl_version: OpenSSL/3.5.0; libz_version: 1.3.1; libssh_version: libssh2/1.11.1; libidn_version: NA; host: aarch64-conda-linux-gnu; protocols: dict, file, ftp, ftps, gopher, gophers, http, https, imap, imaps, mqtt, pop3, pop3s, rtsp, scp, sftp, smb, smbs, smtp, smtps, telnet, tftp, ws, wss; ipv6: TRUE; http2: TRUE; idn: FALSE; url_parser: TRUE
[2025-10-17 09:44:25] [TRACE] [OmnipathR] Running on a build server, wiping cache.
[2025-10-17 09:44:25] [TRACE] [OmnipathR] Cache is at `/home/biocbuild/.cache/OmnipathR`.
[2025-10-17 09:44:25] [TRACE] [OmnipathR] Contains 1 files.
[2025-10-17 09:44:25] [TRACE] [OmnipathR] Cache is locked: FALSE.
[2025-10-17 09:44:25] [TRACE] [OmnipathR] Reading JSON from `/home/biocbuild/.cache/OmnipathR/cache.json` (encoding: UTF-8).
[2025-10-17 09:44:25] [TRACE] [OmnipathR] JSON validation successful: TRUE
[2025-10-17 09:44:25] [SUCCESS] [OmnipathR] Removing all cache contents from `/home/biocbuild/.cache/OmnipathR`.
[2025-10-17 09:44:25] [TRACE] [OmnipathR] Pandoc version: `2.12`.
[2025-10-17 09:44:25] [TRACE] [OmnipathR] Reading JSON from `/home/biocbuild/R/R-4.5.0/site-library/OmnipathR/db/db_def.json` (encoding: UTF-8).
[2025-10-17 09:44:25] [TRACE] [OmnipathR] JSON validation successful: TRUE
[2025-10-17 09:44:25] [TRACE] [OmnipathR] Reading JSON from `/home/biocbuild/R/R-4.5.0/site-library/OmnipathR/internal/magic_bytes.json` (encoding: UTF-8).
[2025-10-17 09:44:25] [TRACE] [OmnipathR] JSON validation successful: TRUE
[2025-10-17 09:44:25] [TRACE] [OmnipathR] Reading JSON from `/home/biocbuild/R/R-4.5.0/site-library/OmnipathR/internal/urls.json` (encoding: UTF-8).
[2025-10-17 09:44:25] [TRACE] [OmnipathR] JSON validation successful: TRUE
[2025-10-17 09:44:25] [TRACE] [OmnipathR] Reading JSON from `/home/biocbuild/R/R-4.5.0/site-library/OmnipathR/internal/id_types.json` (encoding: UTF-8).
[2025-10-17 09:44:25] [TRACE] [OmnipathR] JSON validation successful: TRUE
[2025-10-17 09:44:25] [TRACE] [OmnipathR] Cache locked: FALSE
.build_histo: no visible binding for global variable ‘chr_cov’
.build_histo: no visible binding for global variable ‘significance’
.build_ridge: no visible binding for global variable ‘coef’
.build_ridge: no visible binding for global variable ‘significance’
.circos_preprocess: no visible binding for global variable ‘cnv_met’
.find_deg: no visible global function definition for ‘combn’
.find_deg: no visible global function definition for ‘contrasts.fit’
.prepare_cnv_heatmap: no visible binding for global variable ‘cnv’
.prepare_gen_heatmap: no visible binding for global variable ‘met’
.prepare_gen_heatmap: no visible binding for global variable ‘cnv’
.prepare_met_heatmap: no visible binding for global variable ‘met’
.prepare_mirna_heatmap: no visible binding for global variable
‘mirna_cnv’
.prepare_network: no visible binding for global variable ‘omics’
.prepare_reactive_histo_tf: no visible binding for global variable
‘Freq’
.prepare_reactive_venn: no visible binding for global variable
‘cnv_met’
.prepare_reactive_venn: no visible binding for global variable ‘pval’
.reactive_cnv_test_plots: no visible binding for global variable ‘x’
.reactive_cnv_test_plots: no visible binding for global variable ‘y’
.reactive_transcExpr_plots: no visible binding for global variable ‘x’
.reactive_transcExpr_plots: no visible binding for global variable ‘y’
.run_reactive_tf_enrich: no visible binding for '<<-' assignment to
‘bg_process’
.server_enrich_bg : <anonymous>: no visible binding for global variable
‘bg_process’
.server_enrich_bgTF: no visible binding for '<<-' assignment to
‘bg_process’
.server_enrich_bgTF : <anonymous>: no visible binding for global
variable ‘bg_process’
.shiny_preprocess: no visible binding for global variable ‘cov’
plot_tf_distribution: no visible binding for global variable ‘Freq’
Undefined global functions or variables:
Freq bg_process chr_cov cnv cnv_met coef combn contrasts.fit cov met
mirna_cnv omics pval significance x y
Consider adding
importFrom("stats", "coef", "cov")
importFrom("utils", "combn")
to your NAMESPACE file.
* checking Rd files ... OK
* checking Rd metadata ... OK
* checking Rd cross-references ... NOTE
Found the following Rd file(s) with Rd \link{} targets missing package
anchors:
mmultiassay_ov.Rd: MultiAssayExperiment-class
Please provide package anchors for all Rd \link{} targets not in the
package itself and the base packages.
* checking for missing documentation entries ... OK
* checking for code/documentation mismatches ... OK
* checking Rd \usage sections ... OK
* checking Rd contents ... OK
* checking for unstated dependencies in examples ... OK
* checking contents of ‘data’ directory ... OK
* checking data for non-ASCII characters ... OK
* checking data for ASCII and uncompressed saves ... OK
* checking R/sysdata.rda ... OK
* checking files in ‘vignettes’ ... OK
* checking examples ... OK
Examples with CPU (user + system) or elapsed time > 5s
user system elapsed
plot_volcano 58.549 6.119 99.373
extract_model_res 14.045 1.098 15.285
plot_ridge 11.619 0.897 12.678
run_multiomics 6.672 0.489 8.109
* checking for unstated dependencies in ‘tests’ ... OK
* checking tests ...
Running ‘testthat.R’
OK
* checking for unstated dependencies in vignettes ... OK
* checking package vignettes ... OK
* checking running R code from vignettes ... SKIPPED
* checking re-building of vignette outputs ... SKIPPED
* checking PDF version of manual ... OK
* DONE
Status: 2 NOTEs
See
‘/home/biocbuild/bbs-3.22-bioc/meat/gINTomics.Rcheck/00check.log’
for details.
gINTomics.Rcheck/00install.out
############################################################################## ############################################################################## ### ### Running command: ### ### /home/biocbuild/R/R/bin/R CMD INSTALL gINTomics ### ############################################################################## ############################################################################## * installing to library ‘/home/biocbuild/R/R-4.5.0/site-library’ * installing *source* package ‘gINTomics’ ... ** this is package ‘gINTomics’ version ‘1.5.2’ ** using staged installation ** R [2025-10-16 22:19:27] [TRACE] [OmnipathR] Reading JSON from `/home/biocbuild/.cache/OmnipathR/cache.json` (encoding: UTF-8). [2025-10-16 22:19:27] [TRACE] [OmnipathR] JSON validation successful: TRUE [2025-10-16 22:19:27] [INFO] [OmnipathR] Initialized cache: `/home/biocbuild/.cache/OmnipathR`. [2025-10-16 22:19:28] [INFO] [OmnipathR] Package `OmnipathR` packaged: NA [2025-10-16 22:19:28] [INFO] [OmnipathR] Package `OmnipathR` date/publication: 2025-10-16 [2025-10-16 22:19:28] [INFO] [OmnipathR] Package `OmnipathR` built: R 4.5.0; ; 2025-10-16 21:18:23 UTC; unix [2025-10-16 22:19:28] [INFO] [OmnipathR] Package `OmnipathR` version: 3.17.6 [2025-10-16 22:19:28] [INFO] [OmnipathR] Package `OmnipathR` repository: Bioconductor 3.22 [2025-10-16 22:19:28] [INFO] [OmnipathR] Session info: [version=R version 4.5.0 (2025-04-11); os=openEuler 24.03 (LTS); system=aarch64, linux-gnu; ui=X11; language=(EN); collate=C; ctype=en_US.UTF-8; tz=UTC; date=2025-10-16; pandoc=2.12 @ /home/biocbuild/bin/ (via rmarkdown); quarto=1.7.32 @ /home/biocbuild/bioconductor/quarto-1.7.32/bin/quarto] [2025-10-16 22:19:28] [INFO] [OmnipathR] External libraries: [cairo=1.18.0; cairoFT=; pango=1.51.0; png=1.6.47; jpeg=6.2; tiff=LIBTIFF, Version 4.7.0; tcl=8.6.14; curl=8.13.0; zlib=1.3.1; bzlib=1.0.8, 13-Jul-2019; xz=5.8.1; deflate=; PCRE=10.44 2024-06-07; ICU=74.1; TRE=TRE 0.8.0 R_fixes (BSD); iconv=glibc 2.38; readline=8.2; BLAS=/usr/lib64/libopenblas-r0.3.25.so; lapack=/usr/lib64/libopenblas-r0.3.25.so; lapack_version=3.11.0] [2025-10-16 22:19:28] [INFO] [OmnipathR] Loaded packages: abind 1.4-8(2024-09-12); AnnotationDbi 1.71.2(2025-10-16); backports 1.5.0(2024-05-23); Biobase 2.69.1(2025-10-16); BiocBaseUtils 1.11.2(2025-10-16); BiocGenerics 0.55.3(2025-10-16); BiocIO 1.19.0(2025-10-16); BiocParallel 1.43.4(2025-10-16); Biostrings 2.77.2(2025-10-16); bit 4.6.0(2025-03-06); bit64 4.6.0-1(2025-01-16); bitops 1.0-9(2024-10-03); blob 1.2.4(2023-03-17); cachem 1.1.0(2024-05-16); cellranger 1.1.0(2016-07-27); checkmate 2.3.3(2025-08-18); chromote 0.5.1(2025-04-24); circlize 0.4.16(2024-02-20); cli 3.6.5(2025-04-23); clisymbols 1.2.0(2017-05-21); clue 0.3-66(2024-11-13); cluster 2.1.8.1(2025-03-12); codetools 0.2-20(2024-03-31); colorspace 2.1-2(2025-09-22); ComplexHeatmap 2.25.2(2025-10-16); crayon 1.5.3(2024-06-20); curl 7.0.0(2025-08-19); DBI 1.2.3(2024-06-02); DelayedArray 0.35.3(2025-10-16); dichromat 2.0-0.1(2022-05-02); digest 0.6.37(2024-08-19); doParallel 1.0.17(2022-02-07); dplyr 1.1.4(2023-11-17); DT 0.34.0(2025-09-02); evaluate 1.0.5(2025-08-27); farver 2.1.2(2024-05-13); fastmap 1.2.0(2024-05-15); fontawesome 0.5.3(2024-11-16); foreach 1.5.2(2022-02-02); fs 1.6.6(2025-04-12); generics 0.1.4(2025-05-09); GenomicAlignments 1.45.4(2025-10-16); GenomicFeatures 1.61.6(2025-10-16); GenomicRanges 1.61.5(2025-10-16); GetoptLong 1.0.5(2020-12-15); ggplot2 4.0.0(2025-09-11); gINTomics 1.5.2(2025-10-16); GlobalOptions 0.1.2(2020-06-10); glue 1.8.0(2024-09-30); gtable 0.3.6(2024-10-25); hms 1.1.3(2023-03-21); htmltools 0.5.8.1(2024-04-04); htmlwidgets 1.6.4(2023-12-06); httpuv 1.6.16(2025-04-16); httr 1.4.7(2023-08-15); httr2 1.2.1(2025-07-22); igraph 2.2.0(2025-10-13); InteractiveComplexHeatmap 1.17.0(2025-10-16); IRanges 2.43.5(2025-10-16); iterators 1.0.14(2022-02-05); jsonlite 2.0.0(2025-03-27); kableExtra 1.4.0(2024-01-24); KEGGREST 1.49.2(2025-10-16); knitr 1.50(2025-03-16); later 1.4.4(2025-08-27); lattice 0.22-7(2025-04-02); lifecycle 1.0.4(2023-11-07); logger 0.4.1(2025-09-11); lubridate 1.9.4(2024-12-08); magrittr 2.0.4(2025-09-12); MASS 7.3-65(2025-02-28); Matrix 1.7-4(2025-08-28); MatrixGenerics 1.21.0(2025-10-16); matrixStats 1.5.0(2025-01-07); memoise 2.0.1(2021-11-26); MethylMix 2.39.0(2025-10-16); mime 0.13(2025-03-17); MultiAssayExperiment 1.35.9(2025-10-16); OmnipathR 3.17.6(2025-10-16); pillar 1.11.1(2025-09-17); pkgconfig 2.0.3(2019-09-22); png 0.1-8(2022-11-29); prettyunits 1.2.0(2023-09-24); processx 3.8.6(2025-02-21); progress 1.2.3(2023-12-06); promises 1.3.3(2025-05-29); ps 1.9.1(2025-04-12); purrr 1.1.0(2025-07-10); R.methodsS3 1.8.2(2022-06-13); R.oo 1.27.1(2025-05-02); R.utils 2.13.0(2025-02-24); R6 2.6.1(2025-02-15); rappdirs 0.3.3(2021-01-31); RColorBrewer 1.1-3(2022-04-03); Rcpp 1.1.0(2025-07-02); RCurl 1.98-1.17(2025-03-22); readr 2.1.5(2024-01-10); readxl 1.4.5(2025-03-07); restfulr 0.0.16(2025-06-27); rjson 0.2.23(2024-09-16); rlang 1.1.6(2025-04-11); rmarkdown 2.30(2025-09-28); Rsamtools 2.25.3(2025-10-16); RSQLite 2.4.3(2025-08-20); rstudioapi 0.17.1(2024-10-22); rtracklayer 1.69.1(2025-10-16); rvest 1.0.5(2025-08-29); S4Arrays 1.9.1(2025-10-16); S4Vectors 0.47.4(2025-10-16); S7 0.2.0(2024-11-07); scales 1.4.0(2025-04-24); Seqinfo 0.99.2(2025-10-16); sessioninfo 1.2.3(2025-02-05); shape 1.4.6.1(2024-02-23); shiny 1.11.1(2025-07-03); SparseArray 1.9.1(2025-10-16); stringi 1.8.7(2025-03-27); stringr 1.5.2(2025-09-08); SummarizedExperiment 1.39.2(2025-10-16); svglite 2.2.1(2025-05-12); systemfonts 1.3.1(2025-10-01); textshaping 1.0.4(2025-10-10); tibble 3.3.0(2025-06-08); tidyr 1.3.1(2024-01-24); tidyselect 1.2.1(2024-03-11); timechange 0.3.0(2024-01-18); tzdb 0.5.0(2025-03-15); vctrs 0.6.5(2023-12-01); viridisLite 0.4.2(2023-05-02); websocket 1.4.4(2025-04-10); withr 3.0.2(2024-10-28); xfun 0.53(2025-08-19); XML 3.99-0.19(2025-08-22); xml2 1.4.0(2025-08-20); xtable 1.8-4(2019-04-21); XVector 0.49.1(2025-10-16); yaml 2.3.10(2024-07-26); zip 2.3.3(2025-05-13) [2025-10-16 22:19:28] [INFO] [OmnipathR] CURL: version: 8.13.0; headers: 8.13.0; ssl_version: OpenSSL/3.5.0; libz_version: 1.3.1; libssh_version: libssh2/1.11.1; libidn_version: NA; host: aarch64-conda-linux-gnu; protocols: dict, file, ftp, ftps, gopher, gophers, http, https, imap, imaps, mqtt, pop3, pop3s, rtsp, scp, sftp, smb, smbs, smtp, smtps, telnet, tftp, ws, wss; ipv6: TRUE; http2: TRUE; idn: FALSE; url_parser: TRUE [2025-10-16 22:19:28] [TRACE] [OmnipathR] Running on a build server, wiping cache. [2025-10-16 22:19:28] [TRACE] [OmnipathR] Cache is at `/home/biocbuild/.cache/OmnipathR`. [2025-10-16 22:19:28] [TRACE] [OmnipathR] Contains 1 files. [2025-10-16 22:19:28] [TRACE] [OmnipathR] Cache is locked: FALSE. [2025-10-16 22:19:28] [TRACE] [OmnipathR] Reading JSON from `/home/biocbuild/.cache/OmnipathR/cache.json` (encoding: UTF-8). [2025-10-16 22:19:28] [TRACE] [OmnipathR] JSON validation successful: TRUE [2025-10-16 22:19:28] [SUCCESS] [OmnipathR] Removing all cache contents from `/home/biocbuild/.cache/OmnipathR`. [2025-10-16 22:19:28] [TRACE] [OmnipathR] Pandoc version: `2.12`. [2025-10-16 22:19:28] [TRACE] [OmnipathR] Reading JSON from `/home/biocbuild/R/R-4.5.0/site-library/OmnipathR/db/db_def.json` (encoding: UTF-8). [2025-10-16 22:19:28] [TRACE] [OmnipathR] JSON validation successful: TRUE [2025-10-16 22:19:29] [TRACE] [OmnipathR] Reading JSON from `/home/biocbuild/R/R-4.5.0/site-library/OmnipathR/internal/magic_bytes.json` (encoding: UTF-8). [2025-10-16 22:19:29] [TRACE] [OmnipathR] JSON validation successful: TRUE [2025-10-16 22:19:29] [TRACE] [OmnipathR] Reading JSON from `/home/biocbuild/R/R-4.5.0/site-library/OmnipathR/internal/urls.json` (encoding: UTF-8). [2025-10-16 22:19:29] [TRACE] [OmnipathR] JSON validation successful: TRUE [2025-10-16 22:19:29] [TRACE] [OmnipathR] Reading JSON from `/home/biocbuild/R/R-4.5.0/site-library/OmnipathR/internal/id_types.json` (encoding: UTF-8). [2025-10-16 22:19:29] [TRACE] [OmnipathR] JSON validation successful: TRUE [2025-10-16 22:19:29] [TRACE] [OmnipathR] Cache locked: FALSE ** data ** inst ** byte-compile and prepare package for lazy loading [2025-10-16 22:19:52] [TRACE] [OmnipathR] Reading JSON from `/home/biocbuild/.cache/OmnipathR/cache.json` (encoding: UTF-8). [2025-10-16 22:19:52] [TRACE] [OmnipathR] JSON validation successful: TRUE [2025-10-16 22:19:52] [INFO] [OmnipathR] Initialized cache: `/home/biocbuild/.cache/OmnipathR`. [2025-10-16 22:19:52] [INFO] [OmnipathR] Package `OmnipathR` packaged: NA [2025-10-16 22:19:52] [INFO] [OmnipathR] Package `OmnipathR` date/publication: 2025-10-16 [2025-10-16 22:19:52] [INFO] [OmnipathR] Package `OmnipathR` built: R 4.5.0; ; 2025-10-16 21:18:23 UTC; unix [2025-10-16 22:19:52] [INFO] [OmnipathR] Package `OmnipathR` version: 3.17.6 [2025-10-16 22:19:52] [INFO] [OmnipathR] Package `OmnipathR` repository: Bioconductor 3.22 [2025-10-16 22:19:52] [INFO] [OmnipathR] Session info: [version=R version 4.5.0 (2025-04-11); os=openEuler 24.03 (LTS); system=aarch64, linux-gnu; ui=X11; language=(EN); collate=C; ctype=en_US.UTF-8; tz=UTC; date=2025-10-16; pandoc=2.12 @ /home/biocbuild/bin/ (via rmarkdown); quarto=1.7.32 @ /home/biocbuild/bioconductor/quarto-1.7.32/bin/quarto] [2025-10-16 22:19:53] [INFO] [OmnipathR] External libraries: [cairo=1.18.0; cairoFT=; pango=1.51.0; png=1.6.47; jpeg=6.2; tiff=LIBTIFF, Version 4.7.0; tcl=8.6.14; curl=8.13.0; zlib=1.3.1; bzlib=1.0.8, 13-Jul-2019; xz=5.8.1; deflate=; PCRE=10.44 2024-06-07; ICU=74.1; TRE=TRE 0.8.0 R_fixes (BSD); iconv=glibc 2.38; readline=8.2; BLAS=/usr/lib64/libopenblas-r0.3.25.so; lapack=/usr/lib64/libopenblas-r0.3.25.so; lapack_version=3.11.0] [2025-10-16 22:19:54] [INFO] [OmnipathR] Loaded packages: abind 1.4-8(2024-09-12); AnnotationDbi 1.71.2(2025-10-16); backports 1.5.0(2024-05-23); Biobase 2.69.1(2025-10-16); BiocBaseUtils 1.11.2(2025-10-16); BiocGenerics 0.55.3(2025-10-16); BiocIO 1.19.0(2025-10-16); BiocParallel 1.43.4(2025-10-16); Biostrings 2.77.2(2025-10-16); bit 4.6.0(2025-03-06); bit64 4.6.0-1(2025-01-16); bitops 1.0-9(2024-10-03); blob 1.2.4(2023-03-17); cachem 1.1.0(2024-05-16); cellranger 1.1.0(2016-07-27); checkmate 2.3.3(2025-08-18); chromote 0.5.1(2025-04-24); circlize 0.4.16(2024-02-20); cli 3.6.5(2025-04-23); clisymbols 1.2.0(2017-05-21); clue 0.3-66(2024-11-13); cluster 2.1.8.1(2025-03-12); codetools 0.2-20(2024-03-31); colorspace 2.1-2(2025-09-22); ComplexHeatmap 2.25.2(2025-10-16); crayon 1.5.3(2024-06-20); curl 7.0.0(2025-08-19); DBI 1.2.3(2024-06-02); DelayedArray 0.35.3(2025-10-16); dichromat 2.0-0.1(2022-05-02); digest 0.6.37(2024-08-19); doParallel 1.0.17(2022-02-07); dplyr 1.1.4(2023-11-17); DT 0.34.0(2025-09-02); evaluate 1.0.5(2025-08-27); farver 2.1.2(2024-05-13); fastmap 1.2.0(2024-05-15); fontawesome 0.5.3(2024-11-16); foreach 1.5.2(2022-02-02); fs 1.6.6(2025-04-12); generics 0.1.4(2025-05-09); GenomicAlignments 1.45.4(2025-10-16); GenomicFeatures 1.61.6(2025-10-16); GenomicRanges 1.61.5(2025-10-16); GetoptLong 1.0.5(2020-12-15); ggplot2 4.0.0(2025-09-11); gINTomics 1.5.2(2025-10-16); GlobalOptions 0.1.2(2020-06-10); glue 1.8.0(2024-09-30); gtable 0.3.6(2024-10-25); hms 1.1.3(2023-03-21); htmltools 0.5.8.1(2024-04-04); htmlwidgets 1.6.4(2023-12-06); httpuv 1.6.16(2025-04-16); httr 1.4.7(2023-08-15); httr2 1.2.1(2025-07-22); igraph 2.2.0(2025-10-13); InteractiveComplexHeatmap 1.17.0(2025-10-16); IRanges 2.43.5(2025-10-16); iterators 1.0.14(2022-02-05); jsonlite 2.0.0(2025-03-27); kableExtra 1.4.0(2024-01-24); KEGGREST 1.49.2(2025-10-16); knitr 1.50(2025-03-16); later 1.4.4(2025-08-27); lattice 0.22-7(2025-04-02); lifecycle 1.0.4(2023-11-07); logger 0.4.1(2025-09-11); lubridate 1.9.4(2024-12-08); magrittr 2.0.4(2025-09-12); MASS 7.3-65(2025-02-28); Matrix 1.7-4(2025-08-28); MatrixGenerics 1.21.0(2025-10-16); matrixStats 1.5.0(2025-01-07); memoise 2.0.1(2021-11-26); MethylMix 2.39.0(2025-10-16); mime 0.13(2025-03-17); MultiAssayExperiment 1.35.9(2025-10-16); OmnipathR 3.17.6(2025-10-16); pillar 1.11.1(2025-09-17); pkgconfig 2.0.3(2019-09-22); png 0.1-8(2022-11-29); prettyunits 1.2.0(2023-09-24); processx 3.8.6(2025-02-21); progress 1.2.3(2023-12-06); promises 1.3.3(2025-05-29); ps 1.9.1(2025-04-12); purrr 1.1.0(2025-07-10); R.methodsS3 1.8.2(2022-06-13); R.oo 1.27.1(2025-05-02); R.utils 2.13.0(2025-02-24); R6 2.6.1(2025-02-15); rappdirs 0.3.3(2021-01-31); RColorBrewer 1.1-3(2022-04-03); Rcpp 1.1.0(2025-07-02); RCurl 1.98-1.17(2025-03-22); readr 2.1.5(2024-01-10); readxl 1.4.5(2025-03-07); restfulr 0.0.16(2025-06-27); rjson 0.2.23(2024-09-16); rlang 1.1.6(2025-04-11); rmarkdown 2.30(2025-09-28); Rsamtools 2.25.3(2025-10-16); RSQLite 2.4.3(2025-08-20); rstudioapi 0.17.1(2024-10-22); rtracklayer 1.69.1(2025-10-16); rvest 1.0.5(2025-08-29); S4Arrays 1.9.1(2025-10-16); S4Vectors 0.47.4(2025-10-16); S7 0.2.0(2024-11-07); scales 1.4.0(2025-04-24); Seqinfo 0.99.2(2025-10-16); sessioninfo 1.2.3(2025-02-05); shape 1.4.6.1(2024-02-23); shiny 1.11.1(2025-07-03); SparseArray 1.9.1(2025-10-16); stringi 1.8.7(2025-03-27); stringr 1.5.2(2025-09-08); SummarizedExperiment 1.39.2(2025-10-16); svglite 2.2.1(2025-05-12); systemfonts 1.3.1(2025-10-01); textshaping 1.0.4(2025-10-10); tibble 3.3.0(2025-06-08); tidyr 1.3.1(2024-01-24); tidyselect 1.2.1(2024-03-11); timechange 0.3.0(2024-01-18); tzdb 0.5.0(2025-03-15); vctrs 0.6.5(2023-12-01); viridisLite 0.4.2(2023-05-02); websocket 1.4.4(2025-04-10); withr 3.0.2(2024-10-28); xfun 0.53(2025-08-19); XML 3.99-0.19(2025-08-22); xml2 1.4.0(2025-08-20); xtable 1.8-4(2019-04-21); XVector 0.49.1(2025-10-16); yaml 2.3.10(2024-07-26); zip 2.3.3(2025-05-13) [2025-10-16 22:19:54] [INFO] [OmnipathR] CURL: version: 8.13.0; headers: 8.13.0; ssl_version: OpenSSL/3.5.0; libz_version: 1.3.1; libssh_version: libssh2/1.11.1; libidn_version: NA; host: aarch64-conda-linux-gnu; protocols: dict, file, ftp, ftps, gopher, gophers, http, https, imap, imaps, mqtt, pop3, pop3s, rtsp, scp, sftp, smb, smbs, smtp, smtps, telnet, tftp, ws, wss; ipv6: TRUE; http2: TRUE; idn: FALSE; url_parser: TRUE [2025-10-16 22:19:54] [TRACE] [OmnipathR] Running on a build server, wiping cache. [2025-10-16 22:19:54] [TRACE] [OmnipathR] Cache is at `/home/biocbuild/.cache/OmnipathR`. [2025-10-16 22:19:54] [TRACE] [OmnipathR] Contains 1 files. [2025-10-16 22:19:54] [TRACE] [OmnipathR] Cache is locked: FALSE. [2025-10-16 22:19:54] [TRACE] [OmnipathR] Reading JSON from `/home/biocbuild/.cache/OmnipathR/cache.json` (encoding: UTF-8). [2025-10-16 22:19:54] [TRACE] [OmnipathR] JSON validation successful: TRUE [2025-10-16 22:19:54] [SUCCESS] [OmnipathR] Removing all cache contents from `/home/biocbuild/.cache/OmnipathR`. [2025-10-16 22:19:54] [TRACE] [OmnipathR] Pandoc version: `2.12`. [2025-10-16 22:19:54] [TRACE] [OmnipathR] Reading JSON from `/home/biocbuild/R/R-4.5.0/site-library/OmnipathR/db/db_def.json` (encoding: UTF-8). [2025-10-16 22:19:54] [TRACE] [OmnipathR] JSON validation successful: TRUE [2025-10-16 22:19:54] [TRACE] [OmnipathR] Reading JSON from `/home/biocbuild/R/R-4.5.0/site-library/OmnipathR/internal/magic_bytes.json` (encoding: UTF-8). [2025-10-16 22:19:54] [TRACE] [OmnipathR] JSON validation successful: TRUE [2025-10-16 22:19:54] [TRACE] [OmnipathR] Reading JSON from `/home/biocbuild/R/R-4.5.0/site-library/OmnipathR/internal/urls.json` (encoding: UTF-8). [2025-10-16 22:19:55] [TRACE] [OmnipathR] JSON validation successful: TRUE [2025-10-16 22:19:55] [TRACE] [OmnipathR] Reading JSON from `/home/biocbuild/R/R-4.5.0/site-library/OmnipathR/internal/id_types.json` (encoding: UTF-8). [2025-10-16 22:19:55] [TRACE] [OmnipathR] JSON validation successful: TRUE [2025-10-16 22:19:55] [TRACE] [OmnipathR] Cache locked: FALSE ** help *** installing help indices *** copying figures ** building package indices ** installing vignettes ** testing if installed package can be loaded from temporary location [2025-10-16 22:20:27] [TRACE] [OmnipathR] Reading JSON from `/home/biocbuild/.cache/OmnipathR/cache.json` (encoding: UTF-8). [2025-10-16 22:20:27] [TRACE] [OmnipathR] JSON validation successful: TRUE [2025-10-16 22:20:27] [INFO] [OmnipathR] Initialized cache: `/home/biocbuild/.cache/OmnipathR`. [2025-10-16 22:20:27] [INFO] [OmnipathR] Package `OmnipathR` packaged: NA [2025-10-16 22:20:27] [INFO] [OmnipathR] Package `OmnipathR` date/publication: 2025-10-16 [2025-10-16 22:20:27] [INFO] [OmnipathR] Package `OmnipathR` built: R 4.5.0; ; 2025-10-16 21:18:23 UTC; unix [2025-10-16 22:20:27] [INFO] [OmnipathR] Package `OmnipathR` version: 3.17.6 [2025-10-16 22:20:27] [INFO] [OmnipathR] Package `OmnipathR` repository: Bioconductor 3.22 [2025-10-16 22:20:27] [INFO] [OmnipathR] Session info: [version=R version 4.5.0 (2025-04-11); os=openEuler 24.03 (LTS); system=aarch64, linux-gnu; ui=X11; language=(EN); collate=C; ctype=en_US.UTF-8; tz=UTC; date=2025-10-16; pandoc=2.12 @ /home/biocbuild/bin/ (via rmarkdown); quarto=1.7.32 @ /home/biocbuild/bioconductor/quarto-1.7.32/bin/quarto] [2025-10-16 22:20:27] [INFO] [OmnipathR] External libraries: [cairo=1.18.0; cairoFT=; pango=1.51.0; png=1.6.47; jpeg=6.2; tiff=LIBTIFF, Version 4.7.0; tcl=8.6.14; curl=8.13.0; zlib=1.3.1; bzlib=1.0.8, 13-Jul-2019; xz=5.8.1; deflate=; PCRE=10.44 2024-06-07; ICU=74.1; TRE=TRE 0.8.0 R_fixes (BSD); iconv=glibc 2.38; readline=8.2; BLAS=/usr/lib64/libopenblas-r0.3.25.so; lapack=/usr/lib64/libopenblas-r0.3.25.so; lapack_version=3.11.0] [2025-10-16 22:20:29] [INFO] [OmnipathR] Loaded packages: abind 1.4-8(2024-09-12); AnnotationDbi 1.71.2(2025-10-16); backports 1.5.0(2024-05-23); Biobase 2.69.1(2025-10-16); BiocBaseUtils 1.11.2(2025-10-16); BiocGenerics 0.55.3(2025-10-16); BiocIO 1.19.0(2025-10-16); BiocParallel 1.43.4(2025-10-16); Biostrings 2.77.2(2025-10-16); bit 4.6.0(2025-03-06); bit64 4.6.0-1(2025-01-16); bitops 1.0-9(2024-10-03); blob 1.2.4(2023-03-17); cachem 1.1.0(2024-05-16); cellranger 1.1.0(2016-07-27); checkmate 2.3.3(2025-08-18); chromote 0.5.1(2025-04-24); circlize 0.4.16(2024-02-20); cli 3.6.5(2025-04-23); clisymbols 1.2.0(2017-05-21); clue 0.3-66(2024-11-13); cluster 2.1.8.1(2025-03-12); codetools 0.2-20(2024-03-31); colorspace 2.1-2(2025-09-22); ComplexHeatmap 2.25.2(2025-10-16); crayon 1.5.3(2024-06-20); curl 7.0.0(2025-08-19); DBI 1.2.3(2024-06-02); DelayedArray 0.35.3(2025-10-16); dichromat 2.0-0.1(2022-05-02); digest 0.6.37(2024-08-19); doParallel 1.0.17(2022-02-07); dplyr 1.1.4(2023-11-17); DT 0.34.0(2025-09-02); evaluate 1.0.5(2025-08-27); farver 2.1.2(2024-05-13); fastmap 1.2.0(2024-05-15); fontawesome 0.5.3(2024-11-16); foreach 1.5.2(2022-02-02); fs 1.6.6(2025-04-12); generics 0.1.4(2025-05-09); GenomicAlignments 1.45.4(2025-10-16); GenomicFeatures 1.61.6(2025-10-16); GenomicRanges 1.61.5(2025-10-16); GetoptLong 1.0.5(2020-12-15); ggplot2 4.0.0(2025-09-11); gINTomics 1.5.2(2025-10-16); GlobalOptions 0.1.2(2020-06-10); glue 1.8.0(2024-09-30); gtable 0.3.6(2024-10-25); hms 1.1.3(2023-03-21); htmltools 0.5.8.1(2024-04-04); htmlwidgets 1.6.4(2023-12-06); httpuv 1.6.16(2025-04-16); httr 1.4.7(2023-08-15); httr2 1.2.1(2025-07-22); igraph 2.2.0(2025-10-13); InteractiveComplexHeatmap 1.17.0(2025-10-16); IRanges 2.43.5(2025-10-16); iterators 1.0.14(2022-02-05); jsonlite 2.0.0(2025-03-27); kableExtra 1.4.0(2024-01-24); KEGGREST 1.49.2(2025-10-16); knitr 1.50(2025-03-16); later 1.4.4(2025-08-27); lattice 0.22-7(2025-04-02); lifecycle 1.0.4(2023-11-07); logger 0.4.1(2025-09-11); lubridate 1.9.4(2024-12-08); magrittr 2.0.4(2025-09-12); MASS 7.3-65(2025-02-28); Matrix 1.7-4(2025-08-28); MatrixGenerics 1.21.0(2025-10-16); matrixStats 1.5.0(2025-01-07); memoise 2.0.1(2021-11-26); MethylMix 2.39.0(2025-10-16); mime 0.13(2025-03-17); MultiAssayExperiment 1.35.9(2025-10-16); OmnipathR 3.17.6(2025-10-16); pillar 1.11.1(2025-09-17); pkgconfig 2.0.3(2019-09-22); png 0.1-8(2022-11-29); prettyunits 1.2.0(2023-09-24); processx 3.8.6(2025-02-21); progress 1.2.3(2023-12-06); promises 1.3.3(2025-05-29); ps 1.9.1(2025-04-12); purrr 1.1.0(2025-07-10); R.methodsS3 1.8.2(2022-06-13); R.oo 1.27.1(2025-05-02); R.utils 2.13.0(2025-02-24); R6 2.6.1(2025-02-15); rappdirs 0.3.3(2021-01-31); RColorBrewer 1.1-3(2022-04-03); Rcpp 1.1.0(2025-07-02); RCurl 1.98-1.17(2025-03-22); readr 2.1.5(2024-01-10); readxl 1.4.5(2025-03-07); restfulr 0.0.16(2025-06-27); rjson 0.2.23(2024-09-16); rlang 1.1.6(2025-04-11); rmarkdown 2.30(2025-09-28); Rsamtools 2.25.3(2025-10-16); RSQLite 2.4.3(2025-08-20); rstudioapi 0.17.1(2024-10-22); rtracklayer 1.69.1(2025-10-16); rvest 1.0.5(2025-08-29); S4Arrays 1.9.1(2025-10-16); S4Vectors 0.47.4(2025-10-16); S7 0.2.0(2024-11-07); scales 1.4.0(2025-04-24); Seqinfo 0.99.2(2025-10-16); sessioninfo 1.2.3(2025-02-05); shape 1.4.6.1(2024-02-23); shiny 1.11.1(2025-07-03); SparseArray 1.9.1(2025-10-16); stringi 1.8.7(2025-03-27); stringr 1.5.2(2025-09-08); SummarizedExperiment 1.39.2(2025-10-16); svglite 2.2.1(2025-05-12); systemfonts 1.3.1(2025-10-01); textshaping 1.0.4(2025-10-10); tibble 3.3.0(2025-06-08); tidyr 1.3.1(2024-01-24); tidyselect 1.2.1(2024-03-11); timechange 0.3.0(2024-01-18); tzdb 0.5.0(2025-03-15); vctrs 0.6.5(2023-12-01); viridisLite 0.4.2(2023-05-02); websocket 1.4.4(2025-04-10); withr 3.0.2(2024-10-28); xfun 0.53(2025-08-19); XML 3.99-0.19(2025-08-22); xml2 1.4.0(2025-08-20); xtable 1.8-4(2019-04-21); XVector 0.49.1(2025-10-16); yaml 2.3.10(2024-07-26); zip 2.3.3(2025-05-13) [2025-10-16 22:20:29] [INFO] [OmnipathR] CURL: version: 8.13.0; headers: 8.13.0; ssl_version: OpenSSL/3.5.0; libz_version: 1.3.1; libssh_version: libssh2/1.11.1; libidn_version: NA; host: aarch64-conda-linux-gnu; protocols: dict, file, ftp, ftps, gopher, gophers, http, https, imap, imaps, mqtt, pop3, pop3s, rtsp, scp, sftp, smb, smbs, smtp, smtps, telnet, tftp, ws, wss; ipv6: TRUE; http2: TRUE; idn: FALSE; url_parser: TRUE [2025-10-16 22:20:29] [TRACE] [OmnipathR] Running on a build server, wiping cache. [2025-10-16 22:20:29] [TRACE] [OmnipathR] Cache is at `/home/biocbuild/.cache/OmnipathR`. [2025-10-16 22:20:29] [TRACE] [OmnipathR] Contains 1 files. [2025-10-16 22:20:29] [TRACE] [OmnipathR] Cache is locked: FALSE. [2025-10-16 22:20:29] [TRACE] [OmnipathR] Reading JSON from `/home/biocbuild/.cache/OmnipathR/cache.json` (encoding: UTF-8). [2025-10-16 22:20:29] [TRACE] [OmnipathR] JSON validation successful: TRUE [2025-10-16 22:20:29] [SUCCESS] [OmnipathR] Removing all cache contents from `/home/biocbuild/.cache/OmnipathR`. [2025-10-16 22:20:29] [TRACE] [OmnipathR] Pandoc version: `2.12`. [2025-10-16 22:20:29] [TRACE] [OmnipathR] Reading JSON from `/home/biocbuild/R/R-4.5.0/site-library/OmnipathR/db/db_def.json` (encoding: UTF-8). [2025-10-16 22:20:29] [TRACE] [OmnipathR] JSON validation successful: TRUE [2025-10-16 22:20:29] [TRACE] [OmnipathR] Reading JSON from `/home/biocbuild/R/R-4.5.0/site-library/OmnipathR/internal/magic_bytes.json` (encoding: UTF-8). [2025-10-16 22:20:29] [TRACE] [OmnipathR] JSON validation successful: TRUE [2025-10-16 22:20:29] [TRACE] [OmnipathR] Reading JSON from `/home/biocbuild/R/R-4.5.0/site-library/OmnipathR/internal/urls.json` (encoding: UTF-8). [2025-10-16 22:20:29] [TRACE] [OmnipathR] JSON validation successful: TRUE [2025-10-16 22:20:29] [TRACE] [OmnipathR] Reading JSON from `/home/biocbuild/R/R-4.5.0/site-library/OmnipathR/internal/id_types.json` (encoding: UTF-8). [2025-10-16 22:20:29] [TRACE] [OmnipathR] JSON validation successful: TRUE [2025-10-16 22:20:29] [TRACE] [OmnipathR] Cache locked: FALSE ** testing if installed package can be loaded from final location [2025-10-16 22:20:52] [TRACE] [OmnipathR] Reading JSON from `/home/biocbuild/.cache/OmnipathR/cache.json` (encoding: UTF-8). [2025-10-16 22:20:52] [TRACE] [OmnipathR] JSON validation successful: TRUE [2025-10-16 22:20:52] [INFO] [OmnipathR] Initialized cache: `/home/biocbuild/.cache/OmnipathR`. [2025-10-16 22:20:52] [INFO] [OmnipathR] Package `OmnipathR` packaged: NA [2025-10-16 22:20:52] [INFO] [OmnipathR] Package `OmnipathR` date/publication: 2025-10-16 [2025-10-16 22:20:52] [INFO] [OmnipathR] Package `OmnipathR` built: R 4.5.0; ; 2025-10-16 21:18:23 UTC; unix [2025-10-16 22:20:52] [INFO] [OmnipathR] Package `OmnipathR` version: 3.17.6 [2025-10-16 22:20:52] [INFO] [OmnipathR] Package `OmnipathR` repository: Bioconductor 3.22 [2025-10-16 22:20:52] [INFO] [OmnipathR] Session info: [version=R version 4.5.0 (2025-04-11); os=openEuler 24.03 (LTS); system=aarch64, linux-gnu; ui=X11; language=(EN); collate=C; ctype=en_US.UTF-8; tz=UTC; date=2025-10-16; pandoc=2.12 @ /home/biocbuild/bin/ (via rmarkdown); quarto=1.7.32 @ /home/biocbuild/bioconductor/quarto-1.7.32/bin/quarto] [2025-10-16 22:20:52] [INFO] [OmnipathR] External libraries: [cairo=1.18.0; cairoFT=; pango=1.51.0; png=1.6.47; jpeg=6.2; tiff=LIBTIFF, Version 4.7.0; tcl=8.6.14; curl=8.13.0; zlib=1.3.1; bzlib=1.0.8, 13-Jul-2019; xz=5.8.1; deflate=; PCRE=10.44 2024-06-07; ICU=74.1; TRE=TRE 0.8.0 R_fixes (BSD); iconv=glibc 2.38; readline=8.2; BLAS=/usr/lib64/libopenblas-r0.3.25.so; lapack=/usr/lib64/libopenblas-r0.3.25.so; lapack_version=3.11.0] [2025-10-16 22:20:54] [INFO] [OmnipathR] Loaded packages: abind 1.4-8(2024-09-12); AnnotationDbi 1.71.2(2025-10-16); backports 1.5.0(2024-05-23); Biobase 2.69.1(2025-10-16); BiocBaseUtils 1.11.2(2025-10-16); BiocGenerics 0.55.3(2025-10-16); BiocIO 1.19.0(2025-10-16); BiocParallel 1.43.4(2025-10-16); Biostrings 2.77.2(2025-10-16); bit 4.6.0(2025-03-06); bit64 4.6.0-1(2025-01-16); bitops 1.0-9(2024-10-03); blob 1.2.4(2023-03-17); cachem 1.1.0(2024-05-16); cellranger 1.1.0(2016-07-27); checkmate 2.3.3(2025-08-18); chromote 0.5.1(2025-04-24); circlize 0.4.16(2024-02-20); cli 3.6.5(2025-04-23); clisymbols 1.2.0(2017-05-21); clue 0.3-66(2024-11-13); cluster 2.1.8.1(2025-03-12); codetools 0.2-20(2024-03-31); colorspace 2.1-2(2025-09-22); ComplexHeatmap 2.25.2(2025-10-16); crayon 1.5.3(2024-06-20); curl 7.0.0(2025-08-19); DBI 1.2.3(2024-06-02); DelayedArray 0.35.3(2025-10-16); dichromat 2.0-0.1(2022-05-02); digest 0.6.37(2024-08-19); doParallel 1.0.17(2022-02-07); dplyr 1.1.4(2023-11-17); DT 0.34.0(2025-09-02); evaluate 1.0.5(2025-08-27); farver 2.1.2(2024-05-13); fastmap 1.2.0(2024-05-15); fontawesome 0.5.3(2024-11-16); foreach 1.5.2(2022-02-02); fs 1.6.6(2025-04-12); generics 0.1.4(2025-05-09); GenomicAlignments 1.45.4(2025-10-16); GenomicFeatures 1.61.6(2025-10-16); GenomicRanges 1.61.5(2025-10-16); GetoptLong 1.0.5(2020-12-15); ggplot2 4.0.0(2025-09-11); gINTomics 1.5.2(2025-10-16); GlobalOptions 0.1.2(2020-06-10); glue 1.8.0(2024-09-30); gtable 0.3.6(2024-10-25); hms 1.1.3(2023-03-21); htmltools 0.5.8.1(2024-04-04); htmlwidgets 1.6.4(2023-12-06); httpuv 1.6.16(2025-04-16); httr 1.4.7(2023-08-15); httr2 1.2.1(2025-07-22); igraph 2.2.0(2025-10-13); InteractiveComplexHeatmap 1.17.0(2025-10-16); IRanges 2.43.5(2025-10-16); iterators 1.0.14(2022-02-05); jsonlite 2.0.0(2025-03-27); kableExtra 1.4.0(2024-01-24); KEGGREST 1.49.2(2025-10-16); knitr 1.50(2025-03-16); later 1.4.4(2025-08-27); lattice 0.22-7(2025-04-02); lifecycle 1.0.4(2023-11-07); logger 0.4.1(2025-09-11); lubridate 1.9.4(2024-12-08); magrittr 2.0.4(2025-09-12); MASS 7.3-65(2025-02-28); Matrix 1.7-4(2025-08-28); MatrixGenerics 1.21.0(2025-10-16); matrixStats 1.5.0(2025-01-07); memoise 2.0.1(2021-11-26); MethylMix 2.39.0(2025-10-16); mime 0.13(2025-03-17); MultiAssayExperiment 1.35.9(2025-10-16); OmnipathR 3.17.6(2025-10-16); pillar 1.11.1(2025-09-17); pkgconfig 2.0.3(2019-09-22); png 0.1-8(2022-11-29); prettyunits 1.2.0(2023-09-24); processx 3.8.6(2025-02-21); progress 1.2.3(2023-12-06); promises 1.3.3(2025-05-29); ps 1.9.1(2025-04-12); purrr 1.1.0(2025-07-10); R.methodsS3 1.8.2(2022-06-13); R.oo 1.27.1(2025-05-02); R.utils 2.13.0(2025-02-24); R6 2.6.1(2025-02-15); rappdirs 0.3.3(2021-01-31); RColorBrewer 1.1-3(2022-04-03); Rcpp 1.1.0(2025-07-02); RCurl 1.98-1.17(2025-03-22); readr 2.1.5(2024-01-10); readxl 1.4.5(2025-03-07); restfulr 0.0.16(2025-06-27); rjson 0.2.23(2024-09-16); rlang 1.1.6(2025-04-11); rmarkdown 2.30(2025-09-28); Rsamtools 2.25.3(2025-10-16); RSQLite 2.4.3(2025-08-20); rstudioapi 0.17.1(2024-10-22); rtracklayer 1.69.1(2025-10-16); rvest 1.0.5(2025-08-29); S4Arrays 1.9.1(2025-10-16); S4Vectors 0.47.4(2025-10-16); S7 0.2.0(2024-11-07); scales 1.4.0(2025-04-24); Seqinfo 0.99.2(2025-10-16); sessioninfo 1.2.3(2025-02-05); shape 1.4.6.1(2024-02-23); shiny 1.11.1(2025-07-03); SparseArray 1.9.1(2025-10-16); stringi 1.8.7(2025-03-27); stringr 1.5.2(2025-09-08); SummarizedExperiment 1.39.2(2025-10-16); svglite 2.2.1(2025-05-12); systemfonts 1.3.1(2025-10-01); textshaping 1.0.4(2025-10-10); tibble 3.3.0(2025-06-08); tidyr 1.3.1(2024-01-24); tidyselect 1.2.1(2024-03-11); timechange 0.3.0(2024-01-18); tzdb 0.5.0(2025-03-15); vctrs 0.6.5(2023-12-01); viridisLite 0.4.2(2023-05-02); websocket 1.4.4(2025-04-10); withr 3.0.2(2024-10-28); xfun 0.53(2025-08-19); XML 3.99-0.19(2025-08-22); xml2 1.4.0(2025-08-20); xtable 1.8-4(2019-04-21); XVector 0.49.1(2025-10-16); yaml 2.3.10(2024-07-26); zip 2.3.3(2025-05-13) [2025-10-16 22:20:54] [INFO] [OmnipathR] CURL: version: 8.13.0; headers: 8.13.0; ssl_version: OpenSSL/3.5.0; libz_version: 1.3.1; libssh_version: libssh2/1.11.1; libidn_version: NA; host: aarch64-conda-linux-gnu; protocols: dict, file, ftp, ftps, gopher, gophers, http, https, imap, imaps, mqtt, pop3, pop3s, rtsp, scp, sftp, smb, smbs, smtp, smtps, telnet, tftp, ws, wss; ipv6: TRUE; http2: TRUE; idn: FALSE; url_parser: TRUE [2025-10-16 22:20:54] [TRACE] [OmnipathR] Running on a build server, wiping cache. [2025-10-16 22:20:54] [TRACE] [OmnipathR] Cache is at `/home/biocbuild/.cache/OmnipathR`. [2025-10-16 22:20:54] [TRACE] [OmnipathR] Contains 1 files. [2025-10-16 22:20:54] [TRACE] [OmnipathR] Cache is locked: FALSE. [2025-10-16 22:20:54] [TRACE] [OmnipathR] Reading JSON from `/home/biocbuild/.cache/OmnipathR/cache.json` (encoding: UTF-8). [2025-10-16 22:20:54] [TRACE] [OmnipathR] JSON validation successful: TRUE [2025-10-16 22:20:54] [SUCCESS] [OmnipathR] Removing all cache contents from `/home/biocbuild/.cache/OmnipathR`. [2025-10-16 22:20:54] [TRACE] [OmnipathR] Pandoc version: `2.12`. [2025-10-16 22:20:54] [TRACE] [OmnipathR] Reading JSON from `/home/biocbuild/R/R-4.5.0/site-library/OmnipathR/db/db_def.json` (encoding: UTF-8). [2025-10-16 22:20:54] [TRACE] [OmnipathR] JSON validation successful: TRUE [2025-10-16 22:20:54] [TRACE] [OmnipathR] Reading JSON from `/home/biocbuild/R/R-4.5.0/site-library/OmnipathR/internal/magic_bytes.json` (encoding: UTF-8). [2025-10-16 22:20:54] [TRACE] [OmnipathR] JSON validation successful: TRUE [2025-10-16 22:20:54] [TRACE] [OmnipathR] Reading JSON from `/home/biocbuild/R/R-4.5.0/site-library/OmnipathR/internal/urls.json` (encoding: UTF-8). [2025-10-16 22:20:54] [TRACE] [OmnipathR] JSON validation successful: TRUE [2025-10-16 22:20:54] [TRACE] [OmnipathR] Reading JSON from `/home/biocbuild/R/R-4.5.0/site-library/OmnipathR/internal/id_types.json` (encoding: UTF-8). [2025-10-16 22:20:54] [TRACE] [OmnipathR] JSON validation successful: TRUE [2025-10-16 22:20:54] [TRACE] [OmnipathR] Cache locked: FALSE ** testing if installed package keeps a record of temporary installation path * DONE (gINTomics)
gINTomics.Rcheck/tests/testthat.Rout
R version 4.5.0 (2025-04-11) -- "How About a Twenty-Six"
Copyright (C) 2025 The R Foundation for Statistical Computing
Platform: aarch64-unknown-linux-gnu
R is free software and comes with ABSOLUTELY NO WARRANTY.
You are welcome to redistribute it under certain conditions.
Type 'license()' or 'licence()' for distribution details.
R is a collaborative project with many contributors.
Type 'contributors()' for more information and
'citation()' on how to cite R or R packages in publications.
Type 'demo()' for some demos, 'help()' for on-line help, or
'help.start()' for an HTML browser interface to help.
Type 'q()' to quit R.
> library(testthat)
> library(gINTomics)
[2025-10-17 09:50:39] [TRACE] [OmnipathR] Reading JSON from `/home/biocbuild/.cache/OmnipathR/cache.json` (encoding: UTF-8).
[2025-10-17 09:50:39] [TRACE] [OmnipathR] JSON validation successful: TRUE
[2025-10-17 09:50:39] [INFO] [OmnipathR] Initialized cache: `/home/biocbuild/.cache/OmnipathR`.
[2025-10-17 09:50:39] [INFO] [OmnipathR] Package `OmnipathR` packaged: NA
[2025-10-17 09:50:39] [INFO] [OmnipathR] Package `OmnipathR` date/publication: 2025-10-16
[2025-10-17 09:50:39] [INFO] [OmnipathR] Package `OmnipathR` built: R 4.5.0; ; 2025-10-16 21:18:23 UTC; unix
[2025-10-17 09:50:39] [INFO] [OmnipathR] Package `OmnipathR` version: 3.17.6
[2025-10-17 09:50:39] [INFO] [OmnipathR] Package `OmnipathR` repository: Bioconductor 3.22
[2025-10-17 09:50:39] [INFO] [OmnipathR] Session info: [version=R version 4.5.0 (2025-04-11); os=openEuler 24.03 (LTS); system=aarch64, linux-gnu; ui=X11; language=C; collate=C; ctype=en_US.UTF-8; tz=UTC; date=2025-10-17; pandoc=2.12 @ /home/biocbuild/bin/ (via rmarkdown); quarto=1.7.32 @ /home/biocbuild/bioconductor/quarto-1.7.32/bin/quarto]
[2025-10-17 09:50:39] [INFO] [OmnipathR] External libraries: [cairo=1.18.0; cairoFT=; pango=1.51.0; png=1.6.47; jpeg=6.2; tiff=LIBTIFF, Version 4.7.0; tcl=8.6.14; curl=8.13.0; zlib=1.3.1; bzlib=1.0.8, 13-Jul-2019; xz=5.8.1; deflate=; PCRE=10.44 2024-06-07; ICU=74.1; TRE=TRE 0.8.0 R_fixes (BSD); iconv=glibc 2.38; readline=8.2; BLAS=/usr/lib64/libopenblas-r0.3.25.so; lapack=/usr/lib64/libopenblas-r0.3.25.so; lapack_version=3.11.0]
[2025-10-17 09:50:40] [INFO] [OmnipathR] Loaded packages: abind 1.4-8(2024-09-12); AnnotationDbi 1.71.2(2025-10-16); backports 1.5.0(2024-05-23); Biobase 2.69.1(2025-10-16); BiocBaseUtils 1.11.2(2025-10-16); BiocGenerics 0.55.3(2025-10-16); BiocIO 1.19.0(2025-10-16); BiocParallel 1.43.4(2025-10-16); Biostrings 2.77.2(2025-10-16); bit 4.6.0(2025-03-06); bit64 4.6.0-1(2025-01-16); bitops 1.0-9(2024-10-03); blob 1.2.4(2023-03-17); brio 1.1.5(2024-04-24); cachem 1.1.0(2024-05-16); cellranger 1.1.0(2016-07-27); checkmate 2.3.3(2025-08-18); circlize 0.4.16(2024-02-20); cli 3.6.5(2025-04-23); clisymbols 1.2.0(2017-05-21); clue 0.3-66(2024-11-13); cluster 2.1.8.1(2025-03-12); codetools 0.2-20(2024-03-31); colorspace 2.1-2(2025-09-22); ComplexHeatmap 2.25.2(2025-10-16); crayon 1.5.3(2024-06-20); curl 7.0.0(2025-08-19); DBI 1.2.3(2024-06-02); DelayedArray 0.35.3(2025-10-16); digest 0.6.37(2024-08-19); doParallel 1.0.17(2022-02-07); dplyr 1.1.4(2023-11-17); DT 0.34.0(2025-09-02); evaluate 1.0.5(2025-08-27); farver 2.1.2(2024-05-13); fastmap 1.2.0(2024-05-15); fontawesome 0.5.3(2024-11-16); foreach 1.5.2(2022-02-02); fs 1.6.6(2025-04-12); generics 0.1.4(2025-05-09); GenomicAlignments 1.45.4(2025-10-16); GenomicFeatures 1.61.6(2025-10-16); GenomicRanges 1.61.5(2025-10-16); GetoptLong 1.0.5(2020-12-15); ggplot2 4.0.0(2025-09-11); gINTomics 1.5.2(2025-10-16); GlobalOptions 0.1.2(2020-06-10); glue 1.8.0(2024-09-30); gtable 0.3.6(2024-10-25); hms 1.1.3(2023-03-21); htmltools 0.5.8.1(2024-04-04); htmlwidgets 1.6.4(2023-12-06); httpuv 1.6.16(2025-04-16); httr 1.4.7(2023-08-15); httr2 1.2.1(2025-07-22); igraph 2.2.0(2025-10-13); InteractiveComplexHeatmap 1.17.0(2025-10-16); IRanges 2.43.5(2025-10-16); iterators 1.0.14(2022-02-05); jsonlite 2.0.0(2025-03-27); kableExtra 1.4.0(2024-01-24); KEGGREST 1.49.2(2025-10-16); knitr 1.50(2025-03-16); later 1.4.4(2025-08-27); lattice 0.22-7(2025-04-02); lifecycle 1.0.4(2023-11-07); logger 0.4.1(2025-09-11); lubridate 1.9.4(2024-12-08); magrittr 2.0.4(2025-09-12); MASS 7.3-65(2025-02-28); Matrix 1.7-4(2025-08-28); MatrixGenerics 1.21.0(2025-10-16); matrixStats 1.5.0(2025-01-07); memoise 2.0.1(2021-11-26); MethylMix 2.39.0(2025-10-16); mime 0.13(2025-03-17); MultiAssayExperiment 1.35.9(2025-10-16); OmnipathR 3.17.6(2025-10-16); pillar 1.11.1(2025-09-17); pkgconfig 2.0.3(2019-09-22); png 0.1-8(2022-11-29); prettyunits 1.2.0(2023-09-24); progress 1.2.3(2023-12-06); promises 1.3.3(2025-05-29); purrr 1.1.0(2025-07-10); R.methodsS3 1.8.2(2022-06-13); R.oo 1.27.1(2025-05-02); R.utils 2.13.0(2025-02-24); R6 2.6.1(2025-02-15); rappdirs 0.3.3(2021-01-31); RColorBrewer 1.1-3(2022-04-03); Rcpp 1.1.0(2025-07-02); RCurl 1.98-1.17(2025-03-22); readr 2.1.5(2024-01-10); readxl 1.4.5(2025-03-07); restfulr 0.0.16(2025-06-27); rjson 0.2.23(2024-09-16); rlang 1.1.6(2025-04-11); rmarkdown 2.30(2025-09-28); Rsamtools 2.25.3(2025-10-16); RSQLite 2.4.3(2025-08-20); rstudioapi 0.17.1(2024-10-22); rtracklayer 1.69.1(2025-10-16); rvest 1.0.5(2025-08-29); S4Arrays 1.9.1(2025-10-16); S4Vectors 0.47.4(2025-10-16); S7 0.2.0(2024-11-07); scales 1.4.0(2025-04-24); Seqinfo 0.99.2(2025-10-16); sessioninfo 1.2.3(2025-02-05); shape 1.4.6.1(2024-02-23); shiny 1.11.1(2025-07-03); SparseArray 1.9.1(2025-10-16); stringi 1.8.7(2025-03-27); stringr 1.5.2(2025-09-08); SummarizedExperiment 1.39.2(2025-10-16); svglite 2.2.1(2025-05-12); systemfonts 1.3.1(2025-10-01); testthat 3.2.3(2025-01-13); textshaping 1.0.4(2025-10-10); tibble 3.3.0(2025-06-08); tidyr 1.3.1(2024-01-24); tidyselect 1.2.1(2024-03-11); timechange 0.3.0(2024-01-18); tzdb 0.5.0(2025-03-15); vctrs 0.6.5(2023-12-01); viridisLite 0.4.2(2023-05-02); withr 3.0.2(2024-10-28); xfun 0.53(2025-08-19); XML 3.99-0.19(2025-08-22); xml2 1.4.0(2025-08-20); xtable 1.8-4(2019-04-21); XVector 0.49.1(2025-10-16); yaml 2.3.10(2024-07-26); zip 2.3.3(2025-05-13)
[2025-10-17 09:50:40] [INFO] [OmnipathR] CURL: version: 8.13.0; headers: 8.13.0; ssl_version: OpenSSL/3.5.0; libz_version: 1.3.1; libssh_version: libssh2/1.11.1; libidn_version: NA; host: aarch64-conda-linux-gnu; protocols: dict, file, ftp, ftps, gopher, gophers, http, https, imap, imaps, mqtt, pop3, pop3s, rtsp, scp, sftp, smb, smbs, smtp, smtps, telnet, tftp, ws, wss; ipv6: TRUE; http2: TRUE; idn: FALSE; url_parser: TRUE
[2025-10-17 09:50:40] [TRACE] [OmnipathR] Running on a build server, wiping cache.
[2025-10-17 09:50:40] [TRACE] [OmnipathR] Cache is at `/home/biocbuild/.cache/OmnipathR`.
[2025-10-17 09:50:40] [TRACE] [OmnipathR] Contains 7 files.
[2025-10-17 09:50:40] [TRACE] [OmnipathR] Cache is locked: FALSE.
[2025-10-17 09:50:40] [TRACE] [OmnipathR] Reading JSON from `/home/biocbuild/.cache/OmnipathR/cache.json` (encoding: UTF-8).
[2025-10-17 09:50:40] [TRACE] [OmnipathR] JSON validation successful: TRUE
[2025-10-17 09:50:40] [SUCCESS] [OmnipathR] Removing all cache contents from `/home/biocbuild/.cache/OmnipathR`.
[2025-10-17 09:50:40] [TRACE] [OmnipathR] Pandoc version: `2.12`.
[2025-10-17 09:50:40] [TRACE] [OmnipathR] Reading JSON from `/home/biocbuild/R/R-4.5.0/site-library/OmnipathR/db/db_def.json` (encoding: UTF-8).
[2025-10-17 09:50:40] [TRACE] [OmnipathR] JSON validation successful: TRUE
[2025-10-17 09:50:40] [TRACE] [OmnipathR] Reading JSON from `/home/biocbuild/R/R-4.5.0/site-library/OmnipathR/internal/magic_bytes.json` (encoding: UTF-8).
[2025-10-17 09:50:40] [TRACE] [OmnipathR] JSON validation successful: TRUE
[2025-10-17 09:50:40] [TRACE] [OmnipathR] Reading JSON from `/home/biocbuild/R/R-4.5.0/site-library/OmnipathR/internal/urls.json` (encoding: UTF-8).
[2025-10-17 09:50:40] [TRACE] [OmnipathR] JSON validation successful: TRUE
[2025-10-17 09:50:40] [TRACE] [OmnipathR] Reading JSON from `/home/biocbuild/R/R-4.5.0/site-library/OmnipathR/internal/id_types.json` (encoding: UTF-8).
[2025-10-17 09:50:40] [TRACE] [OmnipathR] JSON validation successful: TRUE
[2025-10-17 09:50:40] [TRACE] [OmnipathR] Cache locked: FALSE
>
> test_check("gINTomics")
[2025-10-17 09:50:47] [TRACE] [OmnipathR] Processing args for OmniPath query
[2025-10-17 09:50:47] [TRACE] [OmnipathR] Arguments for OmniPath query: [organisms=9606,query_type=interactions,datasets=mirnatarget]
[2025-10-17 09:50:47] [INFO] [OmnipathR] Loading database `Ensembl and OMA organism names`.
[2025-10-17 09:50:47] [TRACE] [OmnipathR] Reading JSON from `/home/biocbuild/.cache/OmnipathR/cache.json` (encoding: UTF-8).
[2025-10-17 09:50:47] [TRACE] [OmnipathR] JSON validation successful: TRUE
[2025-10-17 09:50:47] [INFO] [OmnipathR] Looking up in cache `https://www.ensembl.org/info/about/species.html`: key=7332486db7400730697234bad76ca0c8e4d00799, no version available.
[2025-10-17 09:50:47] [TRACE] [OmnipathR] Reading JSON from `/home/biocbuild/.cache/OmnipathR/cache.json` (encoding: UTF-8).
[2025-10-17 09:50:47] [TRACE] [OmnipathR] JSON validation successful: TRUE
[2025-10-17 09:50:47] [INFO] [OmnipathR] Created new version for cache record 7332486db7400730697234bad76ca0c8e4d00799: version 1.
[2025-10-17 09:50:47] [TRACE] [OmnipathR] Cache file path: /home/biocbuild/.cache/OmnipathR/7332486db7400730697234bad76ca0c8e4d00799-1.html
[2025-10-17 09:50:47] [INFO] [OmnipathR] Retrieving URL: `https://www.ensembl.org/info/about/species.html`
[2025-10-17 09:50:47] [TRACE] [OmnipathR] Downloading by `httr2` in `download_base`.
[2025-10-17 09:50:47] [TRACE] [OmnipathR] Attempt 1/3: `https://www.ensembl.org/info/about/species.html`
[2025-10-17 09:50:47] [TRACE] [OmnipathR] Preparing httr2 request to URL `https://www.ensembl.org/info/about/species.html`.
[2025-10-17 09:50:47] [TRACE] [OmnipathR] HTTP headers: [User-Agent=Mozilla/5.0 (X11; Linux x86_64; rv:120.0) Gecko/20100101 Firefox/120.0]
[2025-10-17 09:50:47] [TRACE] [OmnipathR] Curl options: [connecttimeout=10,timeout=300,debugfunction=<function>,verbose=FALSE,tcp_keepalive=TRUE,tcp_keepintvl=10,tcp_keepidle=10,tcp_keepcnt=13,upkeep_interval_ms=30000,ssl_verifypeer=1,ssl_verifyhost=2]
[2025-10-17 09:50:47] [TRACE] [OmnipathR] HTTP headers: [User-Agent=Mozilla/5.0 (X11; Linux x86_64; rv:120.0) Gecko/20100101 Firefox/120.0]
[2025-10-17 09:50:47] [TRACE] [OmnipathR] Sending HTTP request.
[2025-10-17 09:50:48] [TRACE] [OmnipathR] HTTP 200 (OK)
[2025-10-17 09:50:48] [TRACE] [OmnipathR] HTTP v2 GET: status 200.
[2025-10-17 09:50:48] [TRACE] [OmnipathR] Downloaded 31.1 Kb in 0.914298s from www.ensembl.org (34 Kb/s); Redirect: 0.802256s, DNS look up: 0.04642s, Connection: 0.229795s, Pretransfer: 0.604657s, First byte at: 0.912868s
[2025-10-17 09:50:48] [TRACE] [OmnipathR] HTTP headers: HTTP/1.1 302 Found; Date: Fri, 17 Oct 2025 09:55:34 GMT; Content-Type: text/html; charset=iso-8859-1; Content-Length: 286; Connection: keep-alive; Server: Apache; Set-cookie: redirect_mirror=; path=/; expires=Mon, 01-Jan-2001 00:00:01 GMT; Location: //asia.ensembl.org/info/about/species.html?redirectsrc=//www.ensembl.org%2Finfo%2Fabout%2Fspecies.html; X-NGINX-MACHINE: wp-p1m2-31.ebi.ac.uk; HTTP/2 302 ; content-type: text/html; charset=iso-8859-1; content-length: 209; date: Fri, 17 Oct 2025 09:55:34 GMT; x-nginx-machine: ip-10-25-26-68.ap-southeast-1.compute.internal; server: Apache; set-cookie: redirected_from_url=%2F%2Fwww.ensembl.org%252Finfo%252Fabout%252Fspecies.html; path=/; expires=Thu, 31-Dec-2037 23:59:59 GMT; location: /info/about/species.html?; x-cache: Miss from cloudfront; via: 1.1 9878d476bba32025f436b49e9daab722.cloudfront.net (CloudFront); x-amz-cf-pop: SIN2-P4; x-amz-cf-id: TCztuvz98IhnO6o_uCU8ZVz_ecw6dY_8wsJ_mICqj6_U-z5UOEbQig==; vary: Origin; HTTP/2 200 ; content-type: text/html; charset=utf-8; content-length: 31796; date: Fri, 17 Oct 2025 09:55:34 GMT; x-nginx-machine: ip-10-25-26-77.ap-southeast-1.compute.internal; server: Apache; set-cookie: redirect_mirror=; path=/; expires=Mon, 01-Jan-2001 00:00:01 GMT; set-cookie: redirect_mirror=no; path=/; expires=Sat, 18 Oct 2025 09:52:08 GMT; set-cookie: ENSEMBL_WWW_SESSION=30aa53dfc05d8ea60833e20869412bc80288277d96aec90d774551a8; path=/; expires=Thu, 31-Dec-2037 23:59:59 GMT; HttpOnly; set-cookie: redirect_mirror=; path=/; expires=Mon, 01-Jan-2001 00:00:01 GMT; set-cookie: redirect_mirror=no; path=/; expires=Sat, 18 Oct 2025 09:52:08 GMT; set-cookie: ENSEMBL_WWW_SESSION=30aa53dfc05d8ea60833e20869412bc80288277d96aec90d774551a8; path=/; expires=Thu, 31-Dec-2037 23:59:59 GMT; HttpOnly; vary: Accept-Encoding; content-encoding: gzip; x-frame-options: SAMEORIGIN; content-security-policy: frame-ancestors 'self'; x-cache: Miss from cloudfront; via: 1.1 9878d476bba32025f436b49e9daab722.cloudfront.net (CloudFront); x-amz-cf-pop: SIN2-P4; x-amz-cf-id: XsTn-cQ-LwxPSiHJ7kmWmIRJxBOwILLQUKWg_s9bCEDijmHcSepkiA==; vary: Origin
[2025-10-17 09:50:48] [TRACE] [OmnipathR] Response headers: [content-type=text/html; charset=utf-8,content-length=31796,date=Fri, 17 Oct 2025 09:55:34 GMT,x-nginx-machine=ip-10-25-26-77.ap-southeast-1.compute.internal,server=Apache,set-cookie=redirect_mirror=; path=/; expires=Mon, 01-Jan-2001 00:00:01 GMT,set-cookie=redirect_mirror=no; path=/; expires=Sat, 18 Oct 2025 09:52:08 GMT,set-cookie=ENSEMBL_WWW_SESSION=30aa53dfc05d8ea60833e20869412bc80288277d96aec90d774551a8; path=/; expires=Thu, 31-Dec-2037 23:59:59 GMT; HttpOnly,set-cookie=redirect_mirror=; path=/; expires=Mon, 01-Jan-2001 00:00:01 GMT,set-cookie=redirect_mirror=no; path=/; expires=Sat, 18 Oct 2025 09:52:08 GMT,set-cookie=ENSEMBL_WWW_SESSION=30aa53dfc05d8ea60833e20869412bc80288277d96aec90d774551a8; path=/; expires=Thu, 31-Dec-2037 23:59:59 GMT; HttpOnly,vary=Accept-Encoding,content-encoding=gzip,x-frame-options=SAMEORIGIN,content-security-policy=frame-ancestors 'self',x-cache=Miss from cloudfront,via=1.1 9878d476bba32025f436b49e9daab722.cloudfront.net (CloudFront),x-amz-cf-pop=SIN2-P4,x-amz-cf-id=XsTn-cQ-LwxPSiHJ7kmWmIRJxBOwILLQUKWg_s9bCEDijmHcSepkiA==,vary=Origin]
[2025-10-17 09:50:50] [INFO] [OmnipathR] Download ready [key=7332486db7400730697234bad76ca0c8e4d00799, version=1]
[2025-10-17 09:50:50] [TRACE] [OmnipathR] Reading JSON from `/home/biocbuild/.cache/OmnipathR/cache.json` (encoding: UTF-8).
[2025-10-17 09:50:50] [TRACE] [OmnipathR] JSON validation successful: TRUE
[2025-10-17 09:50:50] [INFO] [OmnipathR] Cache item `7332486db7400730697234bad76ca0c8e4d00799` version 1: status changed from `unknown` to `ready`.
[2025-10-17 09:50:50] [TRACE] [OmnipathR] Downloading by `generic_downloader`.
[2025-10-17 09:50:51] [TRACE] [OmnipathR] Looking up in cache: `https://omabrowser.org/All/oma-species.txt`.
[2025-10-17 09:50:51] [INFO] [OmnipathR] Cache record does not exist: `https://omabrowser.org/All/oma-species.txt`
[2025-10-17 09:50:51] [TRACE] [OmnipathR] Could not find in cache, initiating download: `https://omabrowser.org/All/oma-species.txt`.
[2025-10-17 09:50:51] [TRACE] [OmnipathR] Reading JSON from `/home/biocbuild/.cache/OmnipathR/cache.json` (encoding: UTF-8).
[2025-10-17 09:50:51] [TRACE] [OmnipathR] JSON validation successful: TRUE
[2025-10-17 09:50:51] [TRACE] [OmnipathR] Reading JSON from `/home/biocbuild/.cache/OmnipathR/cache.json` (encoding: UTF-8).
[2025-10-17 09:50:51] [TRACE] [OmnipathR] JSON validation successful: TRUE
[2025-10-17 09:50:51] [INFO] [OmnipathR] Cache item `30e690cbb55dfc63b5903ab337f34ffc2f4be397` version 1: status changed from `unknown` to `started`.
[2025-10-17 09:50:51] [TRACE] [OmnipathR] Exporting object to RDS: `/home/biocbuild/.cache/OmnipathR/30e690cbb55dfc63b5903ab337f34ffc2f4be397-1.rds`.
[2025-10-17 09:50:51] [INFO] [OmnipathR] Retrieving URL: `https://omabrowser.org/All/oma-species.txt`
[2025-10-17 09:50:51] [TRACE] [OmnipathR] Attempt 1/3: `https://omabrowser.org/All/oma-species.txt`
[2025-10-17 09:50:51] [TRACE] [OmnipathR] HTTP request by `omnipath_curl`.
[2025-10-17 09:50:51] [TRACE] [OmnipathR] Curl options: [connecttimeout=10,timeout=300,debugfunction=<function>,verbose=FALSE,tcp_keepalive=TRUE,tcp_keepintvl=10,tcp_keepidle=10,tcp_keepcnt=13,upkeep_interval_ms=30000,ssl_verifypeer=1,ssl_verifyhost=2]
[2025-10-17 09:50:54] [TRACE] [OmnipathR] HTTP v2 GET: status 200.
[2025-10-17 09:50:54] [TRACE] [OmnipathR] Downloaded 11.3 Kb in 3.202767s from omabrowser.org (3.5 Kb/s); Redirect: 0s, DNS look up: 0.16496s, Connection: 2.376286s, Pretransfer: 2.709726s, First byte at: 3.037954s
[2025-10-17 09:50:54] [TRACE] [OmnipathR] HTTP headers: HTTP/2 200 ; date: Fri, 17 Oct 2025 09:55:40 GMT; server: nginx; strict-transport-security: max-age=31536000; includeSubDomains; content-type: text/plain; charset=UTF-8; last-modified: Wed, 20 Nov 2024 10:20:02 GMT; etag: W/"673db7d2-6517f"; access-control-allow-origin: *; content-encoding: gzip
[2025-10-17 09:50:58] [TRACE] [OmnipathR] Exported RDS to `/home/biocbuild/.cache/OmnipathR/30e690cbb55dfc63b5903ab337f34ffc2f4be397-1.rds`.
[2025-10-17 09:50:58] [INFO] [OmnipathR] Download ready [key=30e690cbb55dfc63b5903ab337f34ffc2f4be397, version=1]
[2025-10-17 09:50:58] [TRACE] [OmnipathR] Reading JSON from `/home/biocbuild/.cache/OmnipathR/cache.json` (encoding: UTF-8).
[2025-10-17 09:50:58] [TRACE] [OmnipathR] JSON validation successful: TRUE
[2025-10-17 09:50:58] [INFO] [OmnipathR] Cache item `30e690cbb55dfc63b5903ab337f34ffc2f4be397` version 1: status changed from `started` to `ready`.
[2025-10-17 09:50:58] [TRACE] [OmnipathR] Downloading by `generic_downloader`.
[2025-10-17 09:50:58] [TRACE] [OmnipathR] Looking up in cache: `https://ftp.expasy.org/databases/uniprot/current_release/knowledgebase/complete/docs/speclist.txt`.
[2025-10-17 09:50:58] [INFO] [OmnipathR] Cache record does not exist: `https://ftp.expasy.org/databases/uniprot/current_release/knowledgebase/complete/docs/speclist.txt`
[2025-10-17 09:50:58] [TRACE] [OmnipathR] Could not find in cache, initiating download: `https://ftp.expasy.org/databases/uniprot/current_release/knowledgebase/complete/docs/speclist.txt`.
[2025-10-17 09:50:58] [TRACE] [OmnipathR] Reading JSON from `/home/biocbuild/.cache/OmnipathR/cache.json` (encoding: UTF-8).
[2025-10-17 09:50:58] [TRACE] [OmnipathR] JSON validation successful: TRUE
[2025-10-17 09:50:58] [TRACE] [OmnipathR] Reading JSON from `/home/biocbuild/.cache/OmnipathR/cache.json` (encoding: UTF-8).
[2025-10-17 09:50:58] [TRACE] [OmnipathR] JSON validation successful: TRUE
[2025-10-17 09:50:58] [INFO] [OmnipathR] Cache item `56ad6544dc07a2222fa6013d8d83e6e5a35fdf33` version 1: status changed from `unknown` to `started`.
[2025-10-17 09:50:58] [TRACE] [OmnipathR] Exporting object to RDS: `/home/biocbuild/.cache/OmnipathR/56ad6544dc07a2222fa6013d8d83e6e5a35fdf33-1.rds`.
[2025-10-17 09:50:58] [INFO] [OmnipathR] Retrieving URL: `https://ftp.expasy.org/databases/uniprot/current_release/knowledgebase/complete/docs/speclist.txt`
[2025-10-17 09:50:58] [TRACE] [OmnipathR] Attempt 1/3: `https://ftp.expasy.org/databases/uniprot/current_release/knowledgebase/complete/docs/speclist.txt`
[2025-10-17 09:55:56] [TRACE] [OmnipathR] Exported RDS to `/home/biocbuild/.cache/OmnipathR/56ad6544dc07a2222fa6013d8d83e6e5a35fdf33-1.rds`.
[2025-10-17 09:55:56] [INFO] [OmnipathR] Download ready [key=56ad6544dc07a2222fa6013d8d83e6e5a35fdf33, version=1]
[2025-10-17 09:55:56] [TRACE] [OmnipathR] Reading JSON from `/home/biocbuild/.cache/OmnipathR/cache.json` (encoding: UTF-8).
[2025-10-17 09:55:56] [TRACE] [OmnipathR] JSON validation successful: TRUE
[2025-10-17 09:55:56] [INFO] [OmnipathR] Cache item `56ad6544dc07a2222fa6013d8d83e6e5a35fdf33` version 1: status changed from `started` to `ready`.
[2025-10-17 09:55:56] [INFO] [OmnipathR] Loaded database `Ensembl and OMA organism names`.
[2025-10-17 09:55:57] [TRACE] [OmnipathR] Organism(s): 9606
[2025-10-17 09:55:57] [TRACE] [OmnipathR] Orthology targets:
[2025-10-17 09:55:57] [TRACE] [OmnipathR] Looking up in cache: `https://omnipathdb.org/interactions?genesymbols=yes&datasets=mirnatarget&organisms=9606&fields=sources,references,curation_effort&license=academic`
[2025-10-17 09:55:57] [INFO] [OmnipathR] Cache record does not exist: `https://omnipathdb.org/interactions?genesymbols=yes&datasets=mirnatarget&organisms=9606&fields=sources,references,curation_effort&license=academic`
[2025-10-17 09:55:57] [TRACE] [OmnipathR] Looking up in cache: `http://no-tls.omnipathdb.org/interactions?genesymbols=yes&datasets=mirnatarget&organisms=9606&fields=sources,references,curation_effort&license=academic`
[2025-10-17 09:55:57] [INFO] [OmnipathR] Cache record does not exist: `http://no-tls.omnipathdb.org/interactions?genesymbols=yes&datasets=mirnatarget&organisms=9606&fields=sources,references,curation_effort&license=academic`
[2025-10-17 09:55:57] [TRACE] [OmnipathR] Attempting `https://omnipathdb.org/interactions?genesymbols=yes&datasets=mirnatarget&organisms=9606&fields=sources,references,curation_effort&license=academic`
[2025-10-17 09:55:57] [INFO] [OmnipathR] Retrieving URL: `https://omnipathdb.org/interactions?genesymbols=yes&datasets=mirnatarget&organisms=9606&fields=sources,references,curation_effort&license=academic`
[2025-10-17 09:55:57] [TRACE] [OmnipathR] Attempt 1/3: `https://omnipathdb.org/interactions?genesymbols=yes&datasets=mirnatarget&organisms=9606&fields=sources,references,curation_effort&license=academic`
[2025-10-17 09:55:57] [TRACE] [OmnipathR] HTTP request by `omnipath_curl`.
[2025-10-17 09:55:57] [TRACE] [OmnipathR] Curl options: [connecttimeout=10,timeout=300,debugfunction=<function>,verbose=FALSE,tcp_keepalive=TRUE,tcp_keepintvl=10,tcp_keepidle=10,tcp_keepcnt=13,upkeep_interval_ms=30000,ssl_verifypeer=1,ssl_verifyhost=2]
[2025-10-17 09:55:59] [TRACE] [OmnipathR] HTTP v1 GET: status 200.
[2025-10-17 09:55:59] [TRACE] [OmnipathR] Downloaded 15.7 Kb in 2.042165s from omnipathdb.org (7.7 Kb/s); Redirect: 0s, DNS look up: 0.006923s, Connection: 1.204659s, Pretransfer: 1.540696s, First byte at: 2.04174s
[2025-10-17 09:55:59] [TRACE] [OmnipathR] HTTP headers: HTTP/1.1 200 OK; Server: nginx; Date: Fri, 17 Oct 2025 10:00:44 GMT; Content-Type: text/plain; charset=utf-8; Transfer-Encoding: chunked; Connection: keep-alive; Cache-Control: max-age=3600; Access-Control-Allow-Origin: *; Expires: Fri, 17 Oct 2025 11:00:44 GMT; Cache-Control: public; X-Frame-Options: DENY; Content-Encoding: gzip
[2025-10-17 09:56:14] [INFO] [OmnipathR] Successfully retrieved: `https://omnipathdb.org/interactions?genesymbols=yes&datasets=mirnatarget&organisms=9606&fields=sources,references,curation_effort&license=academic`
[2025-10-17 09:56:14] [TRACE] [OmnipathR] Reading JSON from `/home/biocbuild/.cache/OmnipathR/cache.json` (encoding: UTF-8).
[2025-10-17 09:56:14] [TRACE] [OmnipathR] JSON validation successful: TRUE
[2025-10-17 09:56:14] [TRACE] [OmnipathR] Reading JSON from `/home/biocbuild/.cache/OmnipathR/cache.json` (encoding: UTF-8).
[2025-10-17 09:56:14] [TRACE] [OmnipathR] JSON validation successful: TRUE
[2025-10-17 09:56:14] [INFO] [OmnipathR] Cache item `41c8055b20002c0dbf8ddf485403332479b715a1` version 1: status changed from `unknown` to `started`.
[2025-10-17 09:56:14] [TRACE] [OmnipathR] Exporting object to RDS: `/home/biocbuild/.cache/OmnipathR/41c8055b20002c0dbf8ddf485403332479b715a1-1.rds`.
[2025-10-17 09:56:14] [TRACE] [OmnipathR] Exported RDS to `/home/biocbuild/.cache/OmnipathR/41c8055b20002c0dbf8ddf485403332479b715a1-1.rds`.
[2025-10-17 09:56:14] [INFO] [OmnipathR] Download ready [key=41c8055b20002c0dbf8ddf485403332479b715a1, version=1]
[2025-10-17 09:56:14] [TRACE] [OmnipathR] Reading JSON from `/home/biocbuild/.cache/OmnipathR/cache.json` (encoding: UTF-8).
[2025-10-17 09:56:14] [TRACE] [OmnipathR] JSON validation successful: TRUE
[2025-10-17 09:56:14] [INFO] [OmnipathR] Cache item `41c8055b20002c0dbf8ddf485403332479b715a1` version 1: status changed from `started` to `ready`.
[2025-10-17 09:56:14] [SUCCESS] [OmnipathR] Downloaded 11240 interactions.
[2025-10-17 09:56:14] [TRACE] [OmnipathR] Processing args for OmniPath query
[2025-10-17 09:56:14] [TRACE] [OmnipathR] Arguments for OmniPath query: [resources=TransmiR,organisms=9606,query_type=interactions,datasets=tf_mirna]
[2025-10-17 09:56:15] [TRACE] [OmnipathR] Organism(s): 9606
[2025-10-17 09:56:15] [TRACE] [OmnipathR] Orthology targets:
[2025-10-17 09:56:15] [TRACE] [OmnipathR] Reading JSON from `https://omnipathdb.org/resources` (encoding: UTF-8).
[2025-10-17 09:56:17] [TRACE] [OmnipathR] JSON validation successful: TRUE
[2025-10-17 09:56:17] [TRACE] [OmnipathR] Looking up in cache: `https://omnipathdb.org/interactions?genesymbols=yes&resources=TransmiR&datasets=tf_mirna&organisms=9606&fields=sources,references,curation_effort&license=academic`
[2025-10-17 09:56:17] [INFO] [OmnipathR] Cache record does not exist: `https://omnipathdb.org/interactions?genesymbols=yes&resources=TransmiR&datasets=tf_mirna&organisms=9606&fields=sources,references,curation_effort&license=academic`
[2025-10-17 09:56:17] [TRACE] [OmnipathR] Looking up in cache: `http://no-tls.omnipathdb.org/interactions?genesymbols=yes&resources=TransmiR&datasets=tf_mirna&organisms=9606&fields=sources,references,curation_effort&license=academic`
[2025-10-17 09:56:17] [INFO] [OmnipathR] Cache record does not exist: `http://no-tls.omnipathdb.org/interactions?genesymbols=yes&resources=TransmiR&datasets=tf_mirna&organisms=9606&fields=sources,references,curation_effort&license=academic`
[2025-10-17 09:56:17] [TRACE] [OmnipathR] Attempting `https://omnipathdb.org/interactions?genesymbols=yes&resources=TransmiR&datasets=tf_mirna&organisms=9606&fields=sources,references,curation_effort&license=academic`
[2025-10-17 09:56:17] [INFO] [OmnipathR] Retrieving URL: `https://omnipathdb.org/interactions?genesymbols=yes&resources=TransmiR&datasets=tf_mirna&organisms=9606&fields=sources,references,curation_effort&license=academic`
[2025-10-17 09:56:17] [TRACE] [OmnipathR] Attempt 1/3: `https://omnipathdb.org/interactions?genesymbols=yes&resources=TransmiR&datasets=tf_mirna&organisms=9606&fields=sources,references,curation_effort&license=academic`
[2025-10-17 09:56:17] [TRACE] [OmnipathR] HTTP request by `omnipath_curl`.
[2025-10-17 09:56:17] [TRACE] [OmnipathR] Curl options: [connecttimeout=10,timeout=300,debugfunction=<function>,verbose=FALSE,tcp_keepalive=TRUE,tcp_keepintvl=10,tcp_keepidle=10,tcp_keepcnt=13,upkeep_interval_ms=30000,ssl_verifypeer=1,ssl_verifyhost=2]
[2025-10-17 09:56:19] [TRACE] [OmnipathR] HTTP v1 GET: status 200.
[2025-10-17 09:56:19] [TRACE] [OmnipathR] Downloaded 15.7 Kb in 2.050117s from omnipathdb.org (7.6 Kb/s); Redirect: 0s, DNS look up: 0.001391s, Connection: 1.189547s, Pretransfer: 1.535776s, First byte at: 2.049512s
[2025-10-17 09:56:19] [TRACE] [OmnipathR] HTTP headers: HTTP/1.1 200 OK; Server: nginx; Date: Fri, 17 Oct 2025 10:01:04 GMT; Content-Type: text/plain; charset=utf-8; Transfer-Encoding: chunked; Connection: keep-alive; Cache-Control: max-age=3600; Access-Control-Allow-Origin: *; Expires: Fri, 17 Oct 2025 11:01:04 GMT; Cache-Control: public; X-Frame-Options: DENY; Content-Encoding: gzip
[2025-10-17 09:56:20] [INFO] [OmnipathR] Successfully retrieved: `https://omnipathdb.org/interactions?genesymbols=yes&resources=TransmiR&datasets=tf_mirna&organisms=9606&fields=sources,references,curation_effort&license=academic`
[2025-10-17 09:56:20] [TRACE] [OmnipathR] Reading JSON from `/home/biocbuild/.cache/OmnipathR/cache.json` (encoding: UTF-8).
[2025-10-17 09:56:20] [TRACE] [OmnipathR] JSON validation successful: TRUE
[2025-10-17 09:56:20] [TRACE] [OmnipathR] Reading JSON from `/home/biocbuild/.cache/OmnipathR/cache.json` (encoding: UTF-8).
[2025-10-17 09:56:20] [TRACE] [OmnipathR] JSON validation successful: TRUE
[2025-10-17 09:56:20] [INFO] [OmnipathR] Cache item `2e2b496d72e1686af2bd8a26a0b6d2f96d90e687` version 1: status changed from `unknown` to `started`.
[2025-10-17 09:56:20] [TRACE] [OmnipathR] Exporting object to RDS: `/home/biocbuild/.cache/OmnipathR/2e2b496d72e1686af2bd8a26a0b6d2f96d90e687-1.rds`.
[2025-10-17 09:56:20] [TRACE] [OmnipathR] Exported RDS to `/home/biocbuild/.cache/OmnipathR/2e2b496d72e1686af2bd8a26a0b6d2f96d90e687-1.rds`.
[2025-10-17 09:56:20] [INFO] [OmnipathR] Download ready [key=2e2b496d72e1686af2bd8a26a0b6d2f96d90e687, version=1]
[2025-10-17 09:56:20] [TRACE] [OmnipathR] Reading JSON from `/home/biocbuild/.cache/OmnipathR/cache.json` (encoding: UTF-8).
[2025-10-17 09:56:20] [TRACE] [OmnipathR] JSON validation successful: TRUE
[2025-10-17 09:56:20] [INFO] [OmnipathR] Cache item `2e2b496d72e1686af2bd8a26a0b6d2f96d90e687` version 1: status changed from `started` to `ready`.
[2025-10-17 09:56:21] [SUCCESS] [OmnipathR] Downloaded 3788 interactions.
[2025-10-17 09:56:21] [TRACE] [OmnipathR] Processing args for OmniPath query
[2025-10-17 09:56:21] [TRACE] [OmnipathR] Arguments for OmniPath query: [organisms=9606,query_type=interactions,datasets=tf_target]
[2025-10-17 09:56:21] [TRACE] [OmnipathR] Organism(s): 9606
[2025-10-17 09:56:21] [TRACE] [OmnipathR] Orthology targets:
[2025-10-17 09:56:21] [TRACE] [OmnipathR] Looking up in cache: `https://omnipathdb.org/interactions?genesymbols=yes&datasets=tf_target&organisms=9606&fields=sources,references,curation_effort&license=academic`
[2025-10-17 09:56:21] [INFO] [OmnipathR] Cache record does not exist: `https://omnipathdb.org/interactions?genesymbols=yes&datasets=tf_target&organisms=9606&fields=sources,references,curation_effort&license=academic`
[2025-10-17 09:56:21] [TRACE] [OmnipathR] Looking up in cache: `http://no-tls.omnipathdb.org/interactions?genesymbols=yes&datasets=tf_target&organisms=9606&fields=sources,references,curation_effort&license=academic`
[2025-10-17 09:56:21] [INFO] [OmnipathR] Cache record does not exist: `http://no-tls.omnipathdb.org/interactions?genesymbols=yes&datasets=tf_target&organisms=9606&fields=sources,references,curation_effort&license=academic`
[2025-10-17 09:56:21] [TRACE] [OmnipathR] Attempting `https://omnipathdb.org/interactions?genesymbols=yes&datasets=tf_target&organisms=9606&fields=sources,references,curation_effort&license=academic`
[2025-10-17 09:56:21] [INFO] [OmnipathR] Retrieving URL: `https://omnipathdb.org/interactions?genesymbols=yes&datasets=tf_target&organisms=9606&fields=sources,references,curation_effort&license=academic`
[2025-10-17 09:56:21] [TRACE] [OmnipathR] Attempt 1/3: `https://omnipathdb.org/interactions?genesymbols=yes&datasets=tf_target&organisms=9606&fields=sources,references,curation_effort&license=academic`
[2025-10-17 09:56:21] [TRACE] [OmnipathR] HTTP request by `omnipath_curl`.
[2025-10-17 09:56:21] [TRACE] [OmnipathR] Curl options: [connecttimeout=10,timeout=300,debugfunction=<function>,verbose=FALSE,tcp_keepalive=TRUE,tcp_keepintvl=10,tcp_keepidle=10,tcp_keepcnt=13,upkeep_interval_ms=30000,ssl_verifypeer=1,ssl_verifyhost=2]
[2025-10-17 09:56:23] [TRACE] [OmnipathR] HTTP v1 GET: status 200.
[2025-10-17 09:56:23] [TRACE] [OmnipathR] Downloaded 15.7 Kb in 2.599926s from omnipathdb.org (6 Kb/s); Redirect: 0s, DNS look up: 0.001494s, Connection: 1.185893s, Pretransfer: 1.53159s, First byte at: 2.599521s
[2025-10-17 09:56:23] [TRACE] [OmnipathR] HTTP headers: HTTP/1.1 200 OK; Server: nginx; Date: Fri, 17 Oct 2025 10:01:08 GMT; Content-Type: text/plain; charset=utf-8; Transfer-Encoding: chunked; Connection: keep-alive; Cache-Control: max-age=3600; Access-Control-Allow-Origin: *; Expires: Fri, 17 Oct 2025 11:01:08 GMT; Cache-Control: public; X-Frame-Options: DENY; Content-Encoding: gzip
[2025-10-17 09:58:39] [INFO] [OmnipathR] Successfully retrieved: `https://omnipathdb.org/interactions?genesymbols=yes&datasets=tf_target&organisms=9606&fields=sources,references,curation_effort&license=academic`
[2025-10-17 09:58:39] [TRACE] [OmnipathR] Reading JSON from `/home/biocbuild/.cache/OmnipathR/cache.json` (encoding: UTF-8).
[2025-10-17 09:58:39] [TRACE] [OmnipathR] JSON validation successful: TRUE
[2025-10-17 09:58:39] [TRACE] [OmnipathR] Reading JSON from `/home/biocbuild/.cache/OmnipathR/cache.json` (encoding: UTF-8).
[2025-10-17 09:58:39] [TRACE] [OmnipathR] JSON validation successful: TRUE
[2025-10-17 09:58:39] [INFO] [OmnipathR] Cache item `6ed1bdfc7230bcb2925f9cb360e0b77190c82237` version 1: status changed from `unknown` to `started`.
[2025-10-17 09:58:39] [TRACE] [OmnipathR] Exporting object to RDS: `/home/biocbuild/.cache/OmnipathR/6ed1bdfc7230bcb2925f9cb360e0b77190c82237-1.rds`.
[2025-10-17 09:58:39] [TRACE] [OmnipathR] Exported RDS to `/home/biocbuild/.cache/OmnipathR/6ed1bdfc7230bcb2925f9cb360e0b77190c82237-1.rds`.
[2025-10-17 09:58:39] [INFO] [OmnipathR] Download ready [key=6ed1bdfc7230bcb2925f9cb360e0b77190c82237, version=1]
[2025-10-17 09:58:39] [TRACE] [OmnipathR] Reading JSON from `/home/biocbuild/.cache/OmnipathR/cache.json` (encoding: UTF-8).
[2025-10-17 09:58:39] [TRACE] [OmnipathR] JSON validation successful: TRUE
[2025-10-17 09:58:39] [INFO] [OmnipathR] Cache item `6ed1bdfc7230bcb2925f9cb360e0b77190c82237` version 1: status changed from `started` to `ready`.
[2025-10-17 09:58:42] [SUCCESS] [OmnipathR] Downloaded 69655 interactions.
'select()' returned many:many mapping between keys and columns
Generating interactions
response_var and covariates have common colnames, adding '_cov' to covariates
colnames
response_var and covariates have common colnames, adding '_cov' to covariates
colnames
response_var and covariates have common colnames, adding '_cov' to covariates
colnames
response_var and covariates have common colnames, adding '_cov' to covariates
colnames
Generating interactions
response_var and covariates have common colnames, adding '_cov' to covariates
colnames
response_var and covariates have common colnames, adding '_cov' to covariates
colnames
response_var and covariates have common colnames, adding '_cov' to covariates
colnames
Generating interactions
Generating interactions
response_var and covariates have common colnames, adding '_cov' to covariates
colnames
response_var and covariates have common colnames, adding '_cov' to covariates
colnames
Generating interactions
response_var and covariates have common colnames, adding '_cov' to covariates
colnames
Generating interactions
response_var and covariates have common colnames, adding '_cov' to covariates
colnames
Generating interactions
response_var and covariates have common colnames, adding '_cov' to covariates
colnames
Generating interactions
response_var and covariates have common colnames, adding '_cov' to covariates
colnames
Generating interactions
response_var and covariates have common colnames, adding '_cov' to covariates
colnames
Generating interactions
response_var and covariates have common colnames, adding '_cov' to covariates
colnames
Generating interactions
response_var and covariates have common colnames, adding '_cov' to covariates
colnames
Generating interactions
response_var and covariates have common colnames, adding '_cov' to covariates
colnames
Generating interactions
Generating interactions
'select()' returned many:many mapping between keys and columns
[ FAIL 0 | WARN 3 | SKIP 0 | PASS 201 ]
[ FAIL 0 | WARN 3 | SKIP 0 | PASS 201 ]
>
> proc.time()
user system elapsed
237.307 34.289 593.231
gINTomics.Rcheck/gINTomics-Ex.timings
| name | user | system | elapsed | |
| create_multiassay | 0.814 | 0.064 | 0.894 | |
| dot_plotly | 0.782 | 0.056 | 0.852 | |
| extract_model_res | 14.045 | 1.098 | 15.285 | |
| mirna_hsa | 0.018 | 0.000 | 0.019 | |
| mmultiassay_ov | 0.093 | 0.008 | 0.101 | |
| plot_chr_distribution | 0.736 | 0.051 | 0.801 | |
| plot_heatmap | 0.677 | 0.092 | 0.783 | |
| plot_network | 0.723 | 0.040 | 0.776 | |
| plot_ridge | 11.619 | 0.897 | 12.678 | |
| plot_tf_distribution | 0.818 | 0.069 | 0.900 | |
| plot_venn | 0.764 | 0.032 | 0.808 | |
| plot_volcano | 58.549 | 6.119 | 99.373 | |
| run_cnv_integration | 1.396 | 0.194 | 1.618 | |
| run_genomic_enrich | 0.698 | 0.056 | 0.766 | |
| run_genomic_integration | 1.382 | 0.191 | 1.608 | |
| run_met_integration | 1.318 | 0.184 | 1.531 | |
| run_multiomics | 6.672 | 0.489 | 8.109 | |
| run_shiny | 0.665 | 0.076 | 0.754 | |
| run_tf_enrich | 0.716 | 0.048 | 0.777 | |
| run_tf_integration | 4.079 | 0.259 | 4.389 | |