Back to Multiple platform build/check report for BioC 3.22:   simplified   long
ABCDEF[G]HIJKLMNOPQRSTUVWXYZ

This page was generated on 2025-10-11 12:03 -0400 (Sat, 11 Oct 2025).

HostnameOSArch (*)R versionInstalled pkgs
nebbiolo2Linux (Ubuntu 24.04.3 LTS)x86_644.5.1 Patched (2025-08-23 r88802) -- "Great Square Root" 4864
lconwaymacOS 12.7.1 Montereyx86_644.5.1 Patched (2025-09-10 r88807) -- "Great Square Root" 4652
kjohnson3macOS 13.7.7 Venturaarm644.5.1 Patched (2025-09-10 r88807) -- "Great Square Root" 4597
taishanLinux (openEuler 24.03 LTS)aarch644.5.0 (2025-04-11) -- "How About a Twenty-Six" 4586
Click on any hostname to see more info about the system (e.g. compilers)      (*) as reported by 'uname -p', except on Windows and Mac OS X

Package 799/2346HostnameOS / ArchINSTALLBUILDCHECKBUILD BIN
gDRutils 1.7.17  (landing page)
Arkadiusz Gladki
Snapshot Date: 2025-10-10 13:45 -0400 (Fri, 10 Oct 2025)
git_url: https://git.bioconductor.org/packages/gDRutils
git_branch: devel
git_last_commit: 7911c11
git_last_commit_date: 2025-08-27 05:07:29 -0400 (Wed, 27 Aug 2025)
nebbiolo2Linux (Ubuntu 24.04.3 LTS) / x86_64  OK    OK    OK  UNNEEDED, same version is already published
lconwaymacOS 12.7.1 Monterey / x86_64  OK    OK    OK    OK  UNNEEDED, same version is already published
kjohnson3macOS 13.7.7 Ventura / arm64  OK    OK    OK    OK  UNNEEDED, same version is already published
taishanLinux (openEuler 24.03 LTS) / aarch64  OK    OK    OK  


CHECK results for gDRutils on nebbiolo2

To the developers/maintainers of the gDRutils package:
- Allow up to 24 hours (and sometimes 48 hours) for your latest push to git@git.bioconductor.org:packages/gDRutils.git to reflect on this report. See Troubleshooting Build Report for more information.
- Use the following Renviron settings to reproduce errors and warnings.
- If 'R CMD check' started to fail recently on the Linux builder(s) over a missing dependency, add the missing dependency to 'Suggests:' in your DESCRIPTION file. See Renviron.bioc for more information.

raw results


Summary

Package: gDRutils
Version: 1.7.17
Command: /home/biocbuild/bbs-3.22-bioc/R/bin/R CMD check --install=check:gDRutils.install-out.txt --library=/home/biocbuild/bbs-3.22-bioc/R/site-library --timings gDRutils_1.7.17.tar.gz
StartedAt: 2025-10-11 00:16:56 -0400 (Sat, 11 Oct 2025)
EndedAt: 2025-10-11 00:21:33 -0400 (Sat, 11 Oct 2025)
EllapsedTime: 277.3 seconds
RetCode: 0
Status:   OK  
CheckDir: gDRutils.Rcheck
Warnings: 0

Command output

##############################################################################
##############################################################################
###
### Running command:
###
###   /home/biocbuild/bbs-3.22-bioc/R/bin/R CMD check --install=check:gDRutils.install-out.txt --library=/home/biocbuild/bbs-3.22-bioc/R/site-library --timings gDRutils_1.7.17.tar.gz
###
##############################################################################
##############################################################################


* using log directory ‘/home/biocbuild/bbs-3.22-bioc/meat/gDRutils.Rcheck’
* using R version 4.5.1 Patched (2025-08-23 r88802)
* using platform: x86_64-pc-linux-gnu
* R was compiled by
    gcc (Ubuntu 13.3.0-6ubuntu2~24.04) 13.3.0
    GNU Fortran (Ubuntu 13.3.0-6ubuntu2~24.04) 13.3.0
* running under: Ubuntu 24.04.3 LTS
* using session charset: UTF-8
* checking for file ‘gDRutils/DESCRIPTION’ ... OK
* checking extension type ... Package
* this is package ‘gDRutils’ version ‘1.7.17’
* package encoding: UTF-8
* checking package namespace information ... OK
* checking package dependencies ... OK
* checking if this is a source package ... OK
* checking if there is a namespace ... OK
* checking for hidden files and directories ... OK
* checking for portable file names ... OK
* checking for sufficient/correct file permissions ... OK
* checking whether package ‘gDRutils’ can be installed ... OK
* checking installed package size ... OK
* checking package directory ... OK
* checking ‘build’ directory ... OK
* checking DESCRIPTION meta-information ... OK
* checking top-level files ... OK
* checking for left-over files ... OK
* checking index information ... OK
* checking package subdirectories ... OK
* checking code files for non-ASCII characters ... OK
* checking R files for syntax errors ... OK
* checking whether the package can be loaded ... OK
* checking whether the package can be loaded with stated dependencies ... OK
* checking whether the package can be unloaded cleanly ... OK
* checking whether the namespace can be loaded with stated dependencies ... OK
* checking whether the namespace can be unloaded cleanly ... OK
* checking loading without being on the library search path ... OK
* checking dependencies in R code ... OK
* checking S3 generic/method consistency ... OK
* checking replacement functions ... OK
* checking foreign function calls ... OK
* checking R code for possible problems ... OK
* checking Rd files ... OK
* checking Rd metadata ... OK
* checking Rd cross-references ... NOTE
Found the following Rd file(s) with Rd \link{} targets missing package
anchors:
  SE_metadata.Rd: SummarizedExperiment-class
  convert_mae_assay_to_dt.Rd: SummarizedExperiment-class,
    MultiAssayExperiment-class
  convert_se_assay_to_dt.Rd: SummarizedExperiment-class
  is_exp_empty.Rd: SummarizedExperiment-class
  split_SE_components.Rd: SummarizedExperiment-class
  validate_se_assay_name.Rd: SummarizedExperiment-class
Please provide package anchors for all Rd \link{} targets not in the
package itself and the base packages.
* checking for missing documentation entries ... OK
* checking for code/documentation mismatches ... OK
* checking Rd \usage sections ... OK
* checking Rd contents ... OK
* checking for unstated dependencies in examples ... OK
* checking files in ‘vignettes’ ... OK
* checking examples ... OK
* checking for unstated dependencies in ‘tests’ ... OK
* checking tests ...
  Running ‘testthat.R’
 OK
* checking for unstated dependencies in vignettes ... OK
* checking package vignettes ... OK
* checking re-building of vignette outputs ... OK
* checking PDF version of manual ... OK
* DONE

Status: 1 NOTE
See
  ‘/home/biocbuild/bbs-3.22-bioc/meat/gDRutils.Rcheck/00check.log’
for details.


Installation output

gDRutils.Rcheck/00install.out

##############################################################################
##############################################################################
###
### Running command:
###
###   /home/biocbuild/bbs-3.22-bioc/R/bin/R CMD INSTALL gDRutils
###
##############################################################################
##############################################################################


* installing to library ‘/home/biocbuild/bbs-3.22-bioc/R/site-library’
* installing *source* package ‘gDRutils’ ...
** this is package ‘gDRutils’ version ‘1.7.17’
** using staged installation
** R
** inst
** byte-compile and prepare package for lazy loading
** help
*** installing help indices
** building package indices
** installing vignettes
** testing if installed package can be loaded from temporary location
** testing if installed package can be loaded from final location
** testing if installed package keeps a record of temporary installation path
* DONE (gDRutils)

Tests output

gDRutils.Rcheck/tests/testthat.Rout


R version 4.5.1 Patched (2025-08-23 r88802) -- "Great Square Root"
Copyright (C) 2025 The R Foundation for Statistical Computing
Platform: x86_64-pc-linux-gnu

R is free software and comes with ABSOLUTELY NO WARRANTY.
You are welcome to redistribute it under certain conditions.
Type 'license()' or 'licence()' for distribution details.

R is a collaborative project with many contributors.
Type 'contributors()' for more information and
'citation()' on how to cite R or R packages in publications.

Type 'demo()' for some demos, 'help()' for on-line help, or
'help.start()' for an HTML browser interface to help.
Type 'q()' to quit R.

> library("gDRutils")
> library("testthat")
> 
> test_check("gDRutils")
[ FAIL 0 | WARN 0 | SKIP 0 | PASS 832 ]
> 
> proc.time()
   user  system elapsed 
199.836   2.502  98.518 

Example timings

gDRutils.Rcheck/gDRutils-Ex.timings

nameusersystemelapsed
MAEpply0.8700.0520.922
SE_metadata0.0320.0000.032
addClass0.0020.0000.002
aggregate_assay0.4640.0250.478
apply_bumpy_function2.0650.0322.098
assert_choices0.0000.0000.001
average_biological_replicates_dt0.3480.0800.428
calc_sd0.0010.0000.000
capVals0.2030.0170.221
cap_assay_infinities0.8760.0080.250
cap_xc500.0000.0000.001
convert_colData_to_json0.0480.0010.049
convert_combo_data_to_dt0.4680.0070.291
convert_combo_field_to_assay0.0020.0000.002
convert_mae_assay_to_dt0.0590.0000.059
convert_mae_to_json0.0150.0000.015
convert_metadata_to_json0.0090.0000.008
convert_rowData_to_json0.0030.0000.003
convert_se_assay_to_custom_dt0.5610.0110.526
convert_se_assay_to_dt0.0560.0000.056
convert_se_to_json0.0120.0000.012
define_matrix_grid_positions0.0820.0020.076
demote_fields1.3250.0030.502
df_to_bm_assay0.1400.0000.144
dot-set_invalid_fit_params000
dot-standardize_conc0.0010.0000.001
extend_normalization_type_name000
fit_curves0.1310.0070.138
flatten0.0060.0010.008
gen_synthetic_data0.0050.0000.005
geometric_mean000
get_MAE_identifiers0.0060.0000.006
get_additional_variables0.0120.0000.012
get_assay_dt_duplicated_rows0.1840.0010.185
get_assay_names000
get_assay_req_uniq_cols0.1070.0000.107
get_combo_assay_names000
get_combo_base_assay_names000
get_combo_excess_field_names0.0010.0000.001
get_combo_score_assay_names000
get_combo_score_field_names000
get_default_identifiers0.0000.0010.000
get_duplicated_rows0.0030.0000.003
get_env_assay_names000
get_env_var000
get_expect_one_identifiers000
get_experiment_groups000
get_gDR_session_info0.0550.0050.058
get_identifiers_dt0.0070.0020.005
get_idfs_synonyms000
get_isobologram_columns0.0580.0000.058
get_non_empty_assays0.0620.0000.041
get_required_identifiers000
get_settings_from_json0.0030.0000.001
get_supported_experiments000
get_synthetic_data0.0150.0000.009
get_testdata0.9270.0060.109
get_testdata_codilution0.3470.0000.083
get_testdata_combo0.9940.0170.243
has_assay_dt_duplicated_rows0.1620.0010.164
has_dt_duplicated_rows0.0000.0000.001
has_single_codrug_data0.1330.0000.134
has_valid_codrug_data0.1210.0000.122
headers0.0190.0000.019
identifiers0.0010.0000.000
identify_unique_se_metadata_fields0.0070.0000.008
is_any_exp_empty0.0620.0000.042
is_combo_data0.1420.0060.136
is_exp_empty0.0750.0000.046
is_mae_empty0.1150.0000.061
logisticFit0.0270.0000.027
loop3.1500.0434.257
map_conc_to_standardized_conc0.0050.0010.006
mcolData0.0170.0020.019
merge_MAE4.1280.7993.630
merge_SE1.8910.0291.281
merge_assay0.3000.0030.260
merge_metadata0.0060.0000.007
modifyData0.2550.0080.264
mrowData0.0140.0000.015
predict_conc_from_efficacy000
predict_efficacy_from_conc000
prettify_flat_metrics0.0340.0000.034
process_batch0.8050.1780.983
promote_fields0.1930.0000.163
refine_coldata0.0100.0000.009
refine_rowdata0.0380.0020.040
remove_codrug_data0.0660.0120.078
remove_drug_batch0.0020.0000.001
rename_DFrame0.0090.0020.010
rename_bumpy0.0290.0000.028
round_concentration0.0010.0000.000
set_constant_fit_params0.0000.0000.001
set_unique_cl_names0.0470.0010.049
set_unique_cl_names_dt0.0180.0000.018
set_unique_drug_names0.0510.0010.053
set_unique_drug_names_dt0.0350.0010.036
set_unique_identifiers0.2690.0150.284
set_unique_names_dt0.0170.0030.020
shorten_normalization_type_name0.0010.0000.000
split_SE_components0.0940.0070.101
split_big_table_for_xlsx0.0050.0000.004
standardize_mae0.1160.0100.126
standardize_se0.0500.0060.056
throw_msg_if_duplicates0.1060.0070.114
update_env_idfs_from_mae0.0010.0000.001
update_idfs_synonyms0.0010.0000.000
validate_MAE0.0730.0040.077
validate_SE0.0250.0010.026
validate_identifiers0.0070.0000.007
validate_json000
validate_mae_with_schema0.3700.0340.444
validate_se_assay_name0.0070.0000.007