| Back to Multiple platform build/check report for BioC 3.22: simplified long |
|
This page was generated on 2025-10-21 12:07 -0400 (Tue, 21 Oct 2025).
| Hostname | OS | Arch (*) | R version | Installed pkgs |
|---|---|---|---|---|
| nebbiolo2 | Linux (Ubuntu 24.04.3 LTS) | x86_64 | 4.5.1 Patched (2025-08-23 r88802) -- "Great Square Root" | 4887 |
| lconway | macOS 12.7.6 Monterey | x86_64 | 4.5.1 Patched (2025-09-10 r88807) -- "Great Square Root" | 4677 |
| kjohnson3 | macOS 13.7.7 Ventura | arm64 | 4.5.1 Patched (2025-09-10 r88807) -- "Great Square Root" | 4622 |
| taishan | Linux (openEuler 24.03 LTS) | aarch64 | 4.5.0 (2025-04-11) -- "How About a Twenty-Six" | 4642 |
| Click on any hostname to see more info about the system (e.g. compilers) (*) as reported by 'uname -p', except on Windows and Mac OS X | ||||
| Package 800/2353 | Hostname | OS / Arch | INSTALL | BUILD | CHECK | BUILD BIN | ||||||||
| gDRimport 1.7.5 (landing page) Arkadiusz Gladki
| nebbiolo2 | Linux (Ubuntu 24.04.3 LTS) / x86_64 | OK | OK | OK | |||||||||
| lconway | macOS 12.7.6 Monterey / x86_64 | OK | OK | OK | OK | |||||||||
| kjohnson3 | macOS 13.7.7 Ventura / arm64 | OK | OK | OK | OK | |||||||||
| taishan | Linux (openEuler 24.03 LTS) / aarch64 | OK | OK | OK | ||||||||||
|
To the developers/maintainers of the gDRimport package: - Allow up to 24 hours (and sometimes 48 hours) for your latest push to git@git.bioconductor.org:packages/gDRimport.git to reflect on this report. See Troubleshooting Build Report for more information. - Use the following Renviron settings to reproduce errors and warnings. - If 'R CMD check' started to fail recently on the Linux builder(s) over a missing dependency, add the missing dependency to 'Suggests:' in your DESCRIPTION file. See Renviron.bioc for more information. - See Martin Grigorov's blog post for how to debug Linux ARM64 related issues on a x86_64 host. |
| Package: gDRimport |
| Version: 1.7.5 |
| Command: /home/biocbuild/R/R/bin/R CMD check --install=check:gDRimport.install-out.txt --library=/home/biocbuild/R/R/site-library --no-vignettes --timings gDRimport_1.7.5.tar.gz |
| StartedAt: 2025-10-17 09:15:19 -0000 (Fri, 17 Oct 2025) |
| EndedAt: 2025-10-17 09:18:58 -0000 (Fri, 17 Oct 2025) |
| EllapsedTime: 219.1 seconds |
| RetCode: 0 |
| Status: OK |
| CheckDir: gDRimport.Rcheck |
| Warnings: 0 |
##############################################################################
##############################################################################
###
### Running command:
###
### /home/biocbuild/R/R/bin/R CMD check --install=check:gDRimport.install-out.txt --library=/home/biocbuild/R/R/site-library --no-vignettes --timings gDRimport_1.7.5.tar.gz
###
##############################################################################
##############################################################################
* using log directory ‘/home/biocbuild/bbs-3.22-bioc/meat/gDRimport.Rcheck’
* using R version 4.5.0 (2025-04-11)
* using platform: aarch64-unknown-linux-gnu
* R was compiled by
aarch64-unknown-linux-gnu-gcc (GCC) 14.2.0
GNU Fortran (GCC) 14.2.0
* running under: openEuler 24.03 (LTS)
* using session charset: UTF-8
* using option ‘--no-vignettes’
* checking for file ‘gDRimport/DESCRIPTION’ ... OK
* checking extension type ... Package
* this is package ‘gDRimport’ version ‘1.7.5’
* package encoding: UTF-8
* checking package namespace information ... OK
* checking package dependencies ... OK
* checking if this is a source package ... OK
* checking if there is a namespace ... OK
* checking for hidden files and directories ... OK
* checking for portable file names ... OK
* checking for sufficient/correct file permissions ... OK
* checking whether package ‘gDRimport’ can be installed ... OK
* checking installed package size ... OK
* checking package directory ... OK
* checking ‘build’ directory ... OK
* checking DESCRIPTION meta-information ... OK
* checking top-level files ... OK
* checking for left-over files ... OK
* checking index information ... OK
* checking package subdirectories ... OK
* checking code files for non-ASCII characters ... OK
* checking R files for syntax errors ... OK
* checking whether the package can be loaded ... OK
* checking whether the package can be loaded with stated dependencies ... OK
* checking whether the package can be unloaded cleanly ... OK
* checking whether the namespace can be loaded with stated dependencies ... OK
* checking whether the namespace can be unloaded cleanly ... OK
* checking loading without being on the library search path ... OK
* checking dependencies in R code ... OK
* checking S3 generic/method consistency ... OK
* checking replacement functions ... OK
* checking foreign function calls ... OK
* checking R code for possible problems ... OK
* checking Rd files ... OK
* checking Rd metadata ... OK
* checking Rd cross-references ... OK
* checking for missing documentation entries ... OK
* checking for code/documentation mismatches ... OK
* checking Rd \usage sections ... OK
* checking Rd contents ... OK
* checking for unstated dependencies in examples ... OK
* checking files in ‘vignettes’ ... OK
* checking examples ... OK
Examples with CPU (user + system) or elapsed time > 5s
user system elapsed
convert_MAE_to_PSet 8.153 0.239 8.421
* checking for unstated dependencies in ‘tests’ ... OK
* checking tests ...
Running ‘testthat.R’
OK
* checking for unstated dependencies in vignettes ... OK
* checking package vignettes ... OK
* checking running R code from vignettes ... SKIPPED
* checking re-building of vignette outputs ... SKIPPED
* checking PDF version of manual ... OK
* DONE
Status: OK
gDRimport.Rcheck/00install.out
############################################################################## ############################################################################## ### ### Running command: ### ### /home/biocbuild/R/R/bin/R CMD INSTALL gDRimport ### ############################################################################## ############################################################################## * installing to library ‘/home/biocbuild/R/R-4.5.0/site-library’ * installing *source* package ‘gDRimport’ ... ** this is package ‘gDRimport’ version ‘1.7.5’ ** using staged installation ** R ** inst ** byte-compile and prepare package for lazy loading ** help *** installing help indices ** building package indices ** installing vignettes ** testing if installed package can be loaded from temporary location ** testing if installed package can be loaded from final location ** testing if installed package keeps a record of temporary installation path * DONE (gDRimport)
gDRimport.Rcheck/tests/testthat.Rout
R version 4.5.0 (2025-04-11) -- "How About a Twenty-Six"
Copyright (C) 2025 The R Foundation for Statistical Computing
Platform: aarch64-unknown-linux-gnu
R is free software and comes with ABSOLUTELY NO WARRANTY.
You are welcome to redistribute it under certain conditions.
Type 'license()' or 'licence()' for distribution details.
R is a collaborative project with many contributors.
Type 'contributors()' for more information and
'citation()' on how to cite R or R packages in publications.
Type 'demo()' for some demos, 'help()' for on-line help, or
'help.start()' for an HTML browser interface to help.
Type 'q()' to quit R.
> library(testthat)
> library(gDRimport)
>
> test_check("gDRimport")
2025-10-17 09:18:31 Building assay index...
2025-10-17 09:18:31 Joining rowData to assayIndex...
2025-10-17 09:18:32 Joining colData to assayIndex...
2025-10-17 09:18:32 Joining assays to assayIndex...
2025-10-17 09:18:34 Setting assayIndex key...
2025-10-17 09:18:34 Building LongTable...
2025-10-17 09:18:36 Building assay index...
2025-10-17 09:18:36 Joining rowData to assayIndex...
2025-10-17 09:18:36 Joining colData to assayIndex...
2025-10-17 09:18:37 Joining assays to assayIndex...
2025-10-17 09:18:38 Setting assayIndex key...
2025-10-17 09:18:39 Building LongTable...
INFO [2025-10-17 09:18:39] Manifest loaded successfully
INFO [2025-10-17 09:18:40] Manifest loaded successfully
INFO [2025-10-17 09:18:40] Reading file /home/biocbuild/R/R-4.5.0/site-library/gDRimport/extdata/data1/RawData_day0.xlsx, sheet Readout_0077vs0068_day7
INFO [2025-10-17 09:18:40] Plate 201904190a read; 384 wells
INFO [2025-10-17 09:18:40] Plate 201904190b read; 384 wells
INFO [2025-10-17 09:18:40] Plate 201904190c read; 384 wells
INFO [2025-10-17 09:18:40] Plate 201904190d read; 384 wells
INFO [2025-10-17 09:18:40] Plate 201904190e read; 384 wells
INFO [2025-10-17 09:18:40] Plate 201904190f read; 384 wells
INFO [2025-10-17 09:18:40] File done
INFO [2025-10-17 09:18:40] Reading file /home/biocbuild/R/R-4.5.0/site-library/gDRimport/extdata/data1/RawData_day7.xlsx, sheet Readout_0077vs0068_day7
INFO [2025-10-17 09:18:41] Plate 201904197a read; 384 wells
INFO [2025-10-17 09:18:41] Plate 201904197b read; 384 wells
INFO [2025-10-17 09:18:41] Plate 201904197c read; 384 wells
INFO [2025-10-17 09:18:41] Plate 201904197d read; 384 wells
INFO [2025-10-17 09:18:41] Plate 201904197e read; 384 wells
INFO [2025-10-17 09:18:41] Plate 201904197f read; 384 wells
INFO [2025-10-17 09:18:41] File done
INFO [2025-10-17 09:18:41] Reading file /home/biocbuild/R/R-4.5.0/site-library/gDRimport/extdata/data1/RawData_day0.xlsx, sheet Readout_0077vs0068_day7
INFO [2025-10-17 09:18:41] Plate 201904190a read; 384 wells
INFO [2025-10-17 09:18:41] Plate 201904190b read; 384 wells
INFO [2025-10-17 09:18:41] Plate 201904190c read; 384 wells
INFO [2025-10-17 09:18:41] Plate 201904190d read; 384 wells
INFO [2025-10-17 09:18:41] Plate 201904190e read; 384 wells
INFO [2025-10-17 09:18:41] Plate 201904190f read; 384 wells
INFO [2025-10-17 09:18:41] File done
INFO [2025-10-17 09:18:41] Reading file /home/biocbuild/R/R-4.5.0/site-library/gDRimport/extdata/data1/RawData_day7.xlsx, sheet Readout_0077vs0068_day7
INFO [2025-10-17 09:18:42] Plate 201904197a read; 384 wells
INFO [2025-10-17 09:18:42] Plate 201904197b read; 384 wells
INFO [2025-10-17 09:18:42] Plate 201904197c read; 384 wells
INFO [2025-10-17 09:18:42] Plate 201904197d read; 384 wells
INFO [2025-10-17 09:18:42] Plate 201904197e read; 384 wells
INFO [2025-10-17 09:18:42] Plate 201904197f read; 384 wells
INFO [2025-10-17 09:18:42] File done
INFO [2025-10-17 09:18:42] Reading file /home/biocbuild/R/R-4.5.0/site-library/gDRimport/extdata/data1/RawData_day0.xlsx, sheet Readout_0077vs0068_day7
INFO [2025-10-17 09:18:42] Plate 201904190a read; 384 wells
INFO [2025-10-17 09:18:42] Plate 201904190b read; 384 wells
INFO [2025-10-17 09:18:42] Plate 201904190c read; 384 wells
INFO [2025-10-17 09:18:42] Plate 201904190d read; 384 wells
INFO [2025-10-17 09:18:42] Plate 201904190e read; 384 wells
INFO [2025-10-17 09:18:42] Plate 201904190f read; 384 wells
INFO [2025-10-17 09:18:42] File done
INFO [2025-10-17 09:18:43] Reading file /home/biocbuild/R/R-4.5.0/site-library/gDRimport/extdata/data2/RawData_Tecan_96_well_plates.xlsx, sheet H2122-2
INFO [2025-10-17 09:18:43] Reading file /home/biocbuild/R/R-4.5.0/site-library/gDRimport/extdata/data2/RawData_Tecan_96_well_plates.xlsx, sheet H358-2
INFO [2025-10-17 09:18:43] Reading file /home/biocbuild/R/R-4.5.0/site-library/gDRimport/extdata/data2/RawData_Tecan_96_well_plates.xlsx, sheet H358-1
INFO [2025-10-17 09:18:43] Reading file /home/biocbuild/R/R-4.5.0/site-library/gDRimport/extdata/data2/RawData_Tecan_96_well_plates.xlsx, sheet H2122-1
INFO [2025-10-17 09:18:43] Reading Template_7daytreated.xlsx with load_templates_xlsx
INFO [2025-10-17 09:18:44] Loading Template_7daytreated.xlsx
INFO [2025-10-17 09:18:44] Loading Template_Untreated.xlsx
INFO [2025-10-17 09:18:44] Templates loaded successfully!
INFO [2025-10-17 09:18:44] Reading Template_7daytreated.xlsx with load_templates_xlsx
INFO [2025-10-17 09:18:44] Loading Template_7daytreated.xlsx
INFO [2025-10-17 09:18:44] Loading Template_Untreated.xlsx
INFO [2025-10-17 09:18:44] Templates loaded successfully!
INFO [2025-10-17 09:18:44] Reading D300_trt_Tecan_96_well_plates.xlsx with load_templates_xlsx
INFO [2025-10-17 09:18:44] Loading D300_trt_Tecan_96_well_plates.xlsx
INFO [2025-10-17 09:18:44] Templates loaded successfully!
INFO [2025-10-17 09:18:44] Reading Template_7daytreated.xlsx with load_templates_xlsx
INFO [2025-10-17 09:18:44] Loading Template_7daytreated.xlsx
INFO [2025-10-17 09:18:45] Templates loaded successfully!
INFO [2025-10-17 09:18:45] Manifest loaded successfully
INFO [2025-10-17 09:18:45] Reading Template_7daytreated.xlsx with load_templates_xlsx
INFO [2025-10-17 09:18:45] Loading Template_7daytreated.xlsx
INFO [2025-10-17 09:18:45] Loading Template_Untreated.xlsx
INFO [2025-10-17 09:18:45] Templates loaded successfully!
INFO [2025-10-17 09:18:45] Reading file /home/biocbuild/R/R-4.5.0/site-library/gDRimport/extdata/data1/RawData_day0.xlsx, sheet Readout_0077vs0068_day7
INFO [2025-10-17 09:18:45] Plate 201904190a read; 384 wells
INFO [2025-10-17 09:18:45] Plate 201904190b read; 384 wells
INFO [2025-10-17 09:18:45] Plate 201904190c read; 384 wells
INFO [2025-10-17 09:18:46] Plate 201904190d read; 384 wells
INFO [2025-10-17 09:18:46] Plate 201904190e read; 384 wells
INFO [2025-10-17 09:18:46] Plate 201904190f read; 384 wells
INFO [2025-10-17 09:18:46] File done
INFO [2025-10-17 09:18:46] Reading file /home/biocbuild/R/R-4.5.0/site-library/gDRimport/extdata/data1/RawData_day7.xlsx, sheet Readout_0077vs0068_day7
INFO [2025-10-17 09:18:46] Plate 201904197a read; 384 wells
INFO [2025-10-17 09:18:46] Plate 201904197b read; 384 wells
INFO [2025-10-17 09:18:46] Plate 201904197c read; 384 wells
INFO [2025-10-17 09:18:46] Plate 201904197d read; 384 wells
INFO [2025-10-17 09:18:46] Plate 201904197e read; 384 wells
INFO [2025-10-17 09:18:46] Plate 201904197f read; 384 wells
INFO [2025-10-17 09:18:46] File done
INFO [2025-10-17 09:18:46] Manifest loaded successfully
INFO [2025-10-17 09:18:46] Reading D300_trt_Tecan_96_well_plates.xlsx with load_templates_xlsx
INFO [2025-10-17 09:18:46] Loading D300_trt_Tecan_96_well_plates.xlsx
INFO [2025-10-17 09:18:46] Templates loaded successfully!
INFO [2025-10-17 09:18:46] Reading file /home/biocbuild/R/R-4.5.0/site-library/gDRimport/extdata/data2/RawData_Tecan_96_well_plates.xlsx, sheet H2122-2
INFO [2025-10-17 09:18:47] Reading file /home/biocbuild/R/R-4.5.0/site-library/gDRimport/extdata/data2/RawData_Tecan_96_well_plates.xlsx, sheet H358-2
INFO [2025-10-17 09:18:47] Reading file /home/biocbuild/R/R-4.5.0/site-library/gDRimport/extdata/data2/RawData_Tecan_96_well_plates.xlsx, sheet H358-1
INFO [2025-10-17 09:18:47] Reading file /home/biocbuild/R/R-4.5.0/site-library/gDRimport/extdata/data2/RawData_Tecan_96_well_plates.xlsx, sheet H2122-1
INFO [2025-10-17 09:18:47] Manifest loaded successfully
INFO [2025-10-17 09:18:47] Reading Project40.treated.template.xlsx with load_templates_xlsx
INFO [2025-10-17 09:18:47] Loading Project40.treated.template.xlsx
INFO [2025-10-17 09:18:48] Loading Project40.untreated.template.xlsx
INFO [2025-10-17 09:18:48] Templates loaded successfully!
INFO [2025-10-17 09:18:48] Reading file /home/biocbuild/R/R-4.5.0/site-library/gDRimport/extdata/data4/H0109269D00.csv, sheet 0
INFO [2025-10-17 09:18:48] Plate H0109269D00 read; 384 wells
INFO [2025-10-17 09:18:48] File done
INFO [2025-10-17 09:18:48] Reading file /home/biocbuild/R/R-4.5.0/site-library/gDRimport/extdata/data4/H0109269D01.csv, sheet 0
INFO [2025-10-17 09:18:48] Plate H0109269D01 read; 384 wells
INFO [2025-10-17 09:18:48] File done
INFO [2025-10-17 09:18:48] Reading file /home/biocbuild/R/R-4.5.0/site-library/gDRimport/extdata/data4/H0309269D00.csv, sheet 0
INFO [2025-10-17 09:18:48] Plate H0309269D00 read; 384 wells
INFO [2025-10-17 09:18:48] File done
INFO [2025-10-17 09:18:48] Reading file /home/biocbuild/R/R-4.5.0/site-library/gDRimport/extdata/data4/H0309269D01.csv, sheet 0
INFO [2025-10-17 09:18:48] Plate H0309269D01 read; 384 wells
INFO [2025-10-17 09:18:48] File done
INFO [2025-10-17 09:18:48] Reading file /home/biocbuild/R/R-4.5.0/site-library/gDRimport/extdata/data4/H0409269D00.csv, sheet 0
INFO [2025-10-17 09:18:48] Plate H0409269D00 read; 384 wells
INFO [2025-10-17 09:18:48] File done
INFO [2025-10-17 09:18:48] Reading file /home/biocbuild/R/R-4.5.0/site-library/gDRimport/extdata/data4/H0409269D01.csv, sheet 0
INFO [2025-10-17 09:18:48] Plate H0409269D01 read; 384 wells
INFO [2025-10-17 09:18:48] File done
INFO [2025-10-17 09:18:48] Reading file /home/biocbuild/R/R-4.5.0/site-library/gDRimport/extdata/data4/H0509269D00.csv, sheet 0
INFO [2025-10-17 09:18:48] Plate H0509269D00 read; 384 wells
INFO [2025-10-17 09:18:48] File done
INFO [2025-10-17 09:18:48] Reading file /home/biocbuild/R/R-4.5.0/site-library/gDRimport/extdata/data4/H0509269D01.csv, sheet 0
INFO [2025-10-17 09:18:48] Plate H0509269D01 read; 384 wells
INFO [2025-10-17 09:18:48] File done
INFO [2025-10-17 09:18:48] Reading file /home/biocbuild/R/R-4.5.0/site-library/gDRimport/extdata/data4/H0609269D00.csv, sheet 0
INFO [2025-10-17 09:18:48] Plate H0609269D00 read; 384 wells
INFO [2025-10-17 09:18:48] File done
INFO [2025-10-17 09:18:48] Reading file /home/biocbuild/R/R-4.5.0/site-library/gDRimport/extdata/data4/H0609269D01.csv, sheet 0
INFO [2025-10-17 09:18:48] Plate H0609269D01 read; 384 wells
INFO [2025-10-17 09:18:48] File done
INFO [2025-10-17 09:18:48] Reading file /home/biocbuild/R/R-4.5.0/site-library/gDRimport/extdata/data4/H0709269D00.csv, sheet 0
INFO [2025-10-17 09:18:48] Plate H0709269D00 read; 384 wells
INFO [2025-10-17 09:18:48] File done
INFO [2025-10-17 09:18:48] Reading file /home/biocbuild/R/R-4.5.0/site-library/gDRimport/extdata/data4/H0709269D01.csv, sheet 0
INFO [2025-10-17 09:18:48] Plate H0709269D01 read; 384 wells
INFO [2025-10-17 09:18:48] File done
INFO [2025-10-17 09:18:48] Reading file /home/biocbuild/R/R-4.5.0/site-library/gDRimport/extdata/data4/H0809269D00.csv, sheet 0
INFO [2025-10-17 09:18:48] Plate H0809269D00 read; 384 wells
INFO [2025-10-17 09:18:48] File done
INFO [2025-10-17 09:18:48] Reading file /home/biocbuild/R/R-4.5.0/site-library/gDRimport/extdata/data4/H0809269D01.csv, sheet 0
INFO [2025-10-17 09:18:48] Plate H0809269D01 read; 384 wells
INFO [2025-10-17 09:18:48] File done
INFO [2025-10-17 09:18:48] Reading file /home/biocbuild/R/R-4.5.0/site-library/gDRimport/extdata/data4/H0909269D00.csv, sheet 0
INFO [2025-10-17 09:18:48] Plate H0909269D00 read; 384 wells
INFO [2025-10-17 09:18:48] File done
INFO [2025-10-17 09:18:48] Reading file /home/biocbuild/R/R-4.5.0/site-library/gDRimport/extdata/data4/H0909269D01.csv, sheet 0
INFO [2025-10-17 09:18:48] Plate H0909269D01 read; 384 wells
INFO [2025-10-17 09:18:48] File done
INFO [2025-10-17 09:18:48] Reading file /home/biocbuild/R/R-4.5.0/site-library/gDRimport/extdata/data4/H1109269D00.csv, sheet 0
INFO [2025-10-17 09:18:48] Plate H1109269D00 read; 384 wells
INFO [2025-10-17 09:18:48] File done
INFO [2025-10-17 09:18:48] Reading file /home/biocbuild/R/R-4.5.0/site-library/gDRimport/extdata/data4/H1109269D01.csv, sheet 0
INFO [2025-10-17 09:18:48] Plate H1109269D01 read; 384 wells
INFO [2025-10-17 09:18:48] File done
INFO [2025-10-17 09:18:48] Reading file /home/biocbuild/R/R-4.5.0/site-library/gDRimport/extdata/data4/H1209269D00.csv, sheet 0
INFO [2025-10-17 09:18:48] Plate H1209269D00 read; 384 wells
INFO [2025-10-17 09:18:48] File done
INFO [2025-10-17 09:18:48] Reading file /home/biocbuild/R/R-4.5.0/site-library/gDRimport/extdata/data4/H1209269D01.csv, sheet 0
INFO [2025-10-17 09:18:48] Plate H1209269D01 read; 384 wells
INFO [2025-10-17 09:18:48] File done
INFO [2025-10-17 09:18:48] Reading file /home/biocbuild/R/R-4.5.0/site-library/gDRimport/extdata/data4/H1409269D00.csv, sheet 0
INFO [2025-10-17 09:18:48] Plate H1409269D00 read; 384 wells
INFO [2025-10-17 09:18:48] File done
INFO [2025-10-17 09:18:48] Reading file /home/biocbuild/R/R-4.5.0/site-library/gDRimport/extdata/data4/H1409269D01.csv, sheet 0
INFO [2025-10-17 09:18:48] Plate H1409269D01 read; 384 wells
INFO [2025-10-17 09:18:48] File done
INFO [2025-10-17 09:18:48] Reading file /home/biocbuild/R/R-4.5.0/site-library/gDRimport/extdata/data4/K0209269D00.csv, sheet 0
INFO [2025-10-17 09:18:48] Plate K0209269D00 read; 384 wells
INFO [2025-10-17 09:18:48] File done
INFO [2025-10-17 09:18:48] Reading file /home/biocbuild/R/R-4.5.0/site-library/gDRimport/extdata/data4/K0209269D01.csv, sheet 0
INFO [2025-10-17 09:18:48] Plate K0209269D01 read; 384 wells
INFO [2025-10-17 09:18:48] File done
INFO [2025-10-17 09:18:48] Reading file /home/biocbuild/R/R-4.5.0/site-library/gDRimport/extdata/data4/K0809269D00.csv, sheet 0
INFO [2025-10-17 09:18:48] Plate K0809269D00 read; 384 wells
INFO [2025-10-17 09:18:48] File done
INFO [2025-10-17 09:18:48] Reading file /home/biocbuild/R/R-4.5.0/site-library/gDRimport/extdata/data4/K0809269D01.csv, sheet 0
INFO [2025-10-17 09:18:48] Plate K0809269D01 read; 384 wells
INFO [2025-10-17 09:18:48] File done
INFO [2025-10-17 09:18:48] Reading file /home/biocbuild/R/R-4.5.0/site-library/gDRimport/extdata/data4/K1009269D00.csv, sheet 0
INFO [2025-10-17 09:18:48] Plate K1009269D00 read; 384 wells
INFO [2025-10-17 09:18:48] File done
INFO [2025-10-17 09:18:48] Reading file /home/biocbuild/R/R-4.5.0/site-library/gDRimport/extdata/data4/K1009269D01.csv, sheet 0
INFO [2025-10-17 09:18:48] Plate K1009269D01 read; 384 wells
INFO [2025-10-17 09:18:48] File done
INFO [2025-10-17 09:18:49] Manifest loaded successfully
INFO [2025-10-17 09:18:49] Reading Template_7daytreated.xlsx with load_templates_xlsx
INFO [2025-10-17 09:18:49] Loading Template_7daytreated.xlsx
INFO [2025-10-17 09:18:49] Loading Template_Untreated.xlsx
INFO [2025-10-17 09:18:49] Templates loaded successfully!
INFO [2025-10-17 09:18:49] Manifest loaded successfully
INFO [2025-10-17 09:18:49] Reading Template_7daytreated.xlsx with load_templates_xlsx
INFO [2025-10-17 09:18:49] Loading Template_7daytreated.xlsx
INFO [2025-10-17 09:18:49] Loading Template_Untreated.xlsx
INFO [2025-10-17 09:18:49] Templates loaded successfully!
INFO [2025-10-17 09:18:49] Manifest loaded successfully
INFO [2025-10-17 09:18:49] Reading Template_trt.tsv with load_templates_tsv
INFO [2025-10-17 09:18:50] Loading Template_trt.tsv
INFO [2025-10-17 09:18:50] Loading Template_untrt.tsv
INFO [2025-10-17 09:18:50] Templates loaded successfully!
INFO [2025-10-17 09:18:50] Reading file /home/biocbuild/R/R-4.5.0/site-library/gDRimport/extdata/data5/RawData.tsv
WARN [2025-10-17 09:18:52] Metadata field names for cannot contain spaces --> corrected to: Gnumber
WARN [2025-10-17 09:18:52] Header Gnumber in corrected to Gnumber
[ FAIL 0 | WARN 0 | SKIP 0 | PASS 156 ]
>
>
> proc.time()
user system elapsed
56.491 2.121 58.817
gDRimport.Rcheck/gDRimport-Ex.timings
| name | user | system | elapsed | |
| check_metadata_names | 0.088 | 0.020 | 0.108 | |
| convert_LEVEL5_prism_to_gDR_input | 0.027 | 0.004 | 0.032 | |
| convert_LEVEL6_prism_to_gDR_input | 0.027 | 0.000 | 0.029 | |
| convert_MAE_to_PSet | 8.153 | 0.239 | 8.421 | |
| convert_pset_to_df | 0.157 | 0.008 | 0.165 | |
| detect_file_format | 0.329 | 0.012 | 0.345 | |
| getPSet | 0.131 | 0.004 | 0.135 | |
| get_exception_data | 0.009 | 0.000 | 0.009 | |
| get_test_D300_data | 0.002 | 0.000 | 0.002 | |
| get_test_EnVision_data | 0.002 | 0.000 | 0.002 | |
| get_test_Tecan_data | 0.001 | 0.000 | 0.001 | |
| get_test_data | 0.003 | 0.000 | 0.003 | |
| get_test_tsv_data | 0.002 | 0.000 | 0.002 | |
| import_D300 | 3.474 | 0.224 | 3.713 | |
| is_readable_v | 0.001 | 0.000 | 0.002 | |
| load_data | 1.823 | 0.107 | 1.935 | |
| load_manifest | 0.100 | 0.000 | 0.101 | |
| load_results | 1.354 | 0.024 | 1.383 | |
| load_templates | 0.307 | 0.008 | 0.316 | |
| manifest_path-method | 0.002 | 0.000 | 0.002 | |
| parse_D300_xml | 1.596 | 0.036 | 1.636 | |
| read_excel_to_dt | 0.013 | 0.004 | 0.023 | |
| result_path-method | 0.002 | 0.000 | 0.003 | |
| setEnvForPSet | 0.001 | 0.000 | 0.001 | |
| standardize_record_values | 0.000 | 0.000 | 0.001 | |
| template_path-method | 0.002 | 0.000 | 0.002 | |