Back to Multiple platform build/check report for BioC 3.21:   simplified   long
ABCDEF[G]HIJKLMNOPQRSTUVWXYZ

This page was generated on 2025-01-28 11:47 -0500 (Tue, 28 Jan 2025).

HostnameOSArch (*)R versionInstalled pkgs
nebbiolo1Linux (Ubuntu 24.04.1 LTS)x86_64R Under development (unstable) (2025-01-20 r87609) -- "Unsuffered Consequences" 4659
palomino7Windows Server 2022 Datacenterx64R Under development (unstable) (2025-01-21 r87610 ucrt) -- "Unsuffered Consequences" 4454
lconwaymacOS 12.7.1 Montereyx86_64R Under development (unstable) (2025-01-22 r87618) -- "Unsuffered Consequences" 4465
kjohnson3macOS 13.7.1 Venturaarm64R Under development (unstable) (2025-01-20 r87609) -- "Unsuffered Consequences" 4419
kunpeng2Linux (openEuler 22.03 LTS-SP1)aarch64R Under development (unstable) (2024-11-24 r87369) -- "Unsuffered Consequences" 4409
Click on any hostname to see more info about the system (e.g. compilers)      (*) as reported by 'uname -p', except on Windows and Mac OS X

Package 775/2286HostnameOS / ArchINSTALLBUILDCHECKBUILD BIN
gDRimport 1.5.5  (landing page)
Arkadiusz Gladki
Snapshot Date: 2025-01-27 13:40 -0500 (Mon, 27 Jan 2025)
git_url: https://git.bioconductor.org/packages/gDRimport
git_branch: devel
git_last_commit: 8da3f28
git_last_commit_date: 2025-01-22 16:57:12 -0500 (Wed, 22 Jan 2025)
nebbiolo1Linux (Ubuntu 24.04.1 LTS) / x86_64  OK    OK    OK  UNNEEDED, same version is already published
palomino7Windows Server 2022 Datacenter / x64  OK    OK    OK    OK  UNNEEDED, same version is already published
lconwaymacOS 12.7.1 Monterey / x86_64  OK    OK    OK    OK  UNNEEDED, same version is already published
kjohnson3macOS 13.7.1 Ventura / arm64  OK    OK    OK    OK  UNNEEDED, same version is already published
kunpeng2Linux (openEuler 22.03 LTS-SP1) / aarch64  OK    OK    OK  


CHECK results for gDRimport on kunpeng2

To the developers/maintainers of the gDRimport package:
- Allow up to 24 hours (and sometimes 48 hours) for your latest push to git@git.bioconductor.org:packages/gDRimport.git to reflect on this report. See Troubleshooting Build Report for more information.
- Use the following Renviron settings to reproduce errors and warnings.
- If 'R CMD check' started to fail recently on the Linux builder(s) over a missing dependency, add the missing dependency to 'Suggests:' in your DESCRIPTION file. See Renviron.bioc for more information.
- See Martin Grigorov's blog post for how to debug Linux ARM64 related issues on a x86_64 host.

raw results


Summary

Package: gDRimport
Version: 1.5.5
Command: /home/biocbuild/R/R/bin/R CMD check --install=check:gDRimport.install-out.txt --library=/home/biocbuild/R/R/site-library --no-vignettes --timings gDRimport_1.5.5.tar.gz
StartedAt: 2025-01-28 10:47:13 -0000 (Tue, 28 Jan 2025)
EndedAt: 2025-01-28 10:51:03 -0000 (Tue, 28 Jan 2025)
EllapsedTime: 230.2 seconds
RetCode: 0
Status:   OK  
CheckDir: gDRimport.Rcheck
Warnings: 0

Command output

##############################################################################
##############################################################################
###
### Running command:
###
###   /home/biocbuild/R/R/bin/R CMD check --install=check:gDRimport.install-out.txt --library=/home/biocbuild/R/R/site-library --no-vignettes --timings gDRimport_1.5.5.tar.gz
###
##############################################################################
##############################################################################


* using log directory ‘/home/biocbuild/bbs-3.21-bioc/meat/gDRimport.Rcheck’
* using R Under development (unstable) (2024-11-24 r87369)
* using platform: aarch64-unknown-linux-gnu
* R was compiled by
    aarch64-unknown-linux-gnu-gcc (GCC) 14.2.0
    GNU Fortran (GCC) 14.2.0
* running under: openEuler 24.03 (LTS)
* using session charset: UTF-8
* using option ‘--no-vignettes’
* checking for file ‘gDRimport/DESCRIPTION’ ... OK
* checking extension type ... Package
* this is package ‘gDRimport’ version ‘1.5.5’
* package encoding: UTF-8
* checking package namespace information ... OK
* checking package dependencies ... OK
* checking if this is a source package ... OK
* checking if there is a namespace ... OK
* checking for hidden files and directories ... OK
* checking for portable file names ... OK
* checking for sufficient/correct file permissions ... OK
* checking whether package ‘gDRimport’ can be installed ... OK
* checking installed package size ... OK
* checking package directory ... OK
* checking ‘build’ directory ... OK
* checking DESCRIPTION meta-information ... OK
* checking top-level files ... OK
* checking for left-over files ... OK
* checking index information ... OK
* checking package subdirectories ...Warning: program compiled against libxml 212 using older 211
 OK
* checking code files for non-ASCII characters ... OK
* checking R files for syntax errors ... OK
* checking whether the package can be loaded ... OK
* checking whether the package can be loaded with stated dependencies ... OK
* checking whether the package can be unloaded cleanly ... OK
* checking whether the namespace can be loaded with stated dependencies ... OK
* checking whether the namespace can be unloaded cleanly ... OK
* checking loading without being on the library search path ... OK
* checking dependencies in R code ... OK
* checking S3 generic/method consistency ... OK
* checking replacement functions ... OK
* checking foreign function calls ... OK
* checking R code for possible problems ... OK
* checking Rd files ... OK
* checking Rd metadata ... OK
* checking Rd cross-references ... OK
* checking for missing documentation entries ... OK
* checking for code/documentation mismatches ... OK
* checking Rd \usage sections ... OK
* checking Rd contents ... OK
* checking for unstated dependencies in examples ... OK
* checking files in ‘vignettes’ ... OK
* checking examples ... OK
Examples with CPU (user + system) or elapsed time > 5s
                     user system elapsed
convert_MAE_to_PSet 9.245  0.287   9.552
* checking for unstated dependencies in ‘tests’ ... OK
* checking tests ...
  Running ‘testthat.R’
 OK
* checking for unstated dependencies in vignettes ... OK
* checking package vignettes ... OK
* checking running R code from vignettes ... SKIPPED
* checking re-building of vignette outputs ... SKIPPED
* checking PDF version of manual ... OK
* DONE

Status: OK


Installation output

gDRimport.Rcheck/00install.out

##############################################################################
##############################################################################
###
### Running command:
###
###   /home/biocbuild/R/R/bin/R CMD INSTALL gDRimport
###
##############################################################################
##############################################################################


* installing to library ‘/home/biocbuild/R/R-4.5.0-devel_2024-11-24/site-library’
* installing *source* package ‘gDRimport’ ...
** using staged installation
** R
** inst
** byte-compile and prepare package for lazy loading
** help
*** installing help indices
** building package indices
** installing vignettes
** testing if installed package can be loaded from temporary location
** testing if installed package can be loaded from final location
** testing if installed package keeps a record of temporary installation path
* DONE (gDRimport)

Tests output

gDRimport.Rcheck/tests/testthat.Rout


R Under development (unstable) (2024-11-24 r87369) -- "Unsuffered Consequences"
Copyright (C) 2024 The R Foundation for Statistical Computing
Platform: aarch64-unknown-linux-gnu

R is free software and comes with ABSOLUTELY NO WARRANTY.
You are welcome to redistribute it under certain conditions.
Type 'license()' or 'licence()' for distribution details.

R is a collaborative project with many contributors.
Type 'contributors()' for more information and
'citation()' on how to cite R or R packages in publications.

Type 'demo()' for some demos, 'help()' for on-line help, or
'help.start()' for an HTML browser interface to help.
Type 'q()' to quit R.

> library(testthat)
> library(gDRimport)
> 
> test_check("gDRimport")
2025-01-28 10:50:34 Building assay index...
2025-01-28 10:50:34 Joining rowData to assayIndex...
2025-01-28 10:50:35 Joining colData to assayIndex...
2025-01-28 10:50:36 Joining assays to assayIndex...
2025-01-28 10:50:38 Setting assayIndex key...
2025-01-28 10:50:38 Building LongTable...
2025-01-28 10:50:40 Building assay index...
2025-01-28 10:50:40 Joining rowData to assayIndex...
2025-01-28 10:50:41 Joining colData to assayIndex...
2025-01-28 10:50:42 Joining assays to assayIndex...
2025-01-28 10:50:44 Setting assayIndex key...
2025-01-28 10:50:44 Building LongTable...
INFO [2025-01-28 10:50:45] Manifest loaded successfully
INFO [2025-01-28 10:50:45] Manifest loaded successfully
INFO [2025-01-28 10:50:45] Reading file /home/biocbuild/R/R-4.5.0-devel_2024-11-24/site-library/gDRimport/extdata/data1/RawData_day0.xlsx, sheet Readout_0077vs0068_day7
INFO [2025-01-28 10:50:46] Plate 201904190a read; 384 wells
INFO [2025-01-28 10:50:46] Plate 201904190b read; 384 wells
INFO [2025-01-28 10:50:46] Plate 201904190c read; 384 wells
INFO [2025-01-28 10:50:46] Plate 201904190d read; 384 wells
INFO [2025-01-28 10:50:46] Plate 201904190e read; 384 wells
INFO [2025-01-28 10:50:46] Plate 201904190f read; 384 wells
INFO [2025-01-28 10:50:46] File done
INFO [2025-01-28 10:50:46] Reading file /home/biocbuild/R/R-4.5.0-devel_2024-11-24/site-library/gDRimport/extdata/data1/RawData_day7.xlsx, sheet Readout_0077vs0068_day7
INFO [2025-01-28 10:50:46] Plate 201904197a read; 384 wells
INFO [2025-01-28 10:50:46] Plate 201904197b read; 384 wells
INFO [2025-01-28 10:50:46] Plate 201904197c read; 384 wells
INFO [2025-01-28 10:50:46] Plate 201904197d read; 384 wells
INFO [2025-01-28 10:50:46] Plate 201904197e read; 384 wells
INFO [2025-01-28 10:50:46] Plate 201904197f read; 384 wells
INFO [2025-01-28 10:50:46] File done
INFO [2025-01-28 10:50:46] Reading file /home/biocbuild/R/R-4.5.0-devel_2024-11-24/site-library/gDRimport/extdata/data1/RawData_day0.xlsx, sheet Readout_0077vs0068_day7
INFO [2025-01-28 10:50:47] Plate 201904190a read; 384 wells
INFO [2025-01-28 10:50:47] Plate 201904190b read; 384 wells
INFO [2025-01-28 10:50:47] Plate 201904190c read; 384 wells
INFO [2025-01-28 10:50:47] Plate 201904190d read; 384 wells
INFO [2025-01-28 10:50:47] Plate 201904190e read; 384 wells
INFO [2025-01-28 10:50:47] Plate 201904190f read; 384 wells
INFO [2025-01-28 10:50:47] File done
INFO [2025-01-28 10:50:47] Reading file /home/biocbuild/R/R-4.5.0-devel_2024-11-24/site-library/gDRimport/extdata/data1/RawData_day7.xlsx, sheet Readout_0077vs0068_day7
INFO [2025-01-28 10:50:47] Plate 201904197a read; 384 wells
INFO [2025-01-28 10:50:47] Plate 201904197b read; 384 wells
INFO [2025-01-28 10:50:47] Plate 201904197c read; 384 wells
INFO [2025-01-28 10:50:47] Plate 201904197d read; 384 wells
INFO [2025-01-28 10:50:47] Plate 201904197e read; 384 wells
INFO [2025-01-28 10:50:47] Plate 201904197f read; 384 wells
INFO [2025-01-28 10:50:47] File done
INFO [2025-01-28 10:50:47] Reading file /home/biocbuild/R/R-4.5.0-devel_2024-11-24/site-library/gDRimport/extdata/data1/RawData_day0.xlsx, sheet Readout_0077vs0068_day7
INFO [2025-01-28 10:50:48] Plate 201904190a read; 384 wells
INFO [2025-01-28 10:50:48] Plate 201904190b read; 384 wells
INFO [2025-01-28 10:50:48] Plate 201904190c read; 384 wells
INFO [2025-01-28 10:50:48] Plate 201904190d read; 384 wells
INFO [2025-01-28 10:50:48] Plate 201904190e read; 384 wells
INFO [2025-01-28 10:50:48] Plate 201904190f read; 384 wells
INFO [2025-01-28 10:50:48] File done
INFO [2025-01-28 10:50:48] Reading file /home/biocbuild/R/R-4.5.0-devel_2024-11-24/site-library/gDRimport/extdata/data2/RawData_Tecan_96_well_plates.xlsx, sheet H2122-2
INFO [2025-01-28 10:50:48] Reading file /home/biocbuild/R/R-4.5.0-devel_2024-11-24/site-library/gDRimport/extdata/data2/RawData_Tecan_96_well_plates.xlsx, sheet H358-2
INFO [2025-01-28 10:50:48] Reading file /home/biocbuild/R/R-4.5.0-devel_2024-11-24/site-library/gDRimport/extdata/data2/RawData_Tecan_96_well_plates.xlsx, sheet H358-1
INFO [2025-01-28 10:50:48] Reading file /home/biocbuild/R/R-4.5.0-devel_2024-11-24/site-library/gDRimport/extdata/data2/RawData_Tecan_96_well_plates.xlsx, sheet H2122-1
INFO [2025-01-28 10:50:49] Reading Template_7daytreated.xlsx with load_templates_xlsx
INFO [2025-01-28 10:50:49] Loading Template_7daytreated.xlsx
INFO [2025-01-28 10:50:49] Loading Template_Untreated.xlsx
INFO [2025-01-28 10:50:49] Templates loaded successfully!
INFO [2025-01-28 10:50:49] Reading Template_7daytreated.xlsx with load_templates_xlsx
INFO [2025-01-28 10:50:49] Loading Template_7daytreated.xlsx
INFO [2025-01-28 10:50:49] Loading Template_Untreated.xlsx
INFO [2025-01-28 10:50:49] Templates loaded successfully!
INFO [2025-01-28 10:50:49] Reading D300_trt_Tecan_96_well_plates.xlsx with load_templates_xlsx
INFO [2025-01-28 10:50:49] Loading D300_trt_Tecan_96_well_plates.xlsx
INFO [2025-01-28 10:50:49] Templates loaded successfully!
INFO [2025-01-28 10:50:49] Reading Template_7daytreated.xlsx with load_templates_xlsx
INFO [2025-01-28 10:50:49] Loading Template_7daytreated.xlsx
INFO [2025-01-28 10:50:50] Templates loaded successfully!
INFO [2025-01-28 10:50:50] Manifest loaded successfully
INFO [2025-01-28 10:50:50] Reading Template_7daytreated.xlsx with load_templates_xlsx
INFO [2025-01-28 10:50:50] Loading Template_7daytreated.xlsx
INFO [2025-01-28 10:50:50] Loading Template_Untreated.xlsx
INFO [2025-01-28 10:50:50] Templates loaded successfully!
INFO [2025-01-28 10:50:50] Reading file /home/biocbuild/R/R-4.5.0-devel_2024-11-24/site-library/gDRimport/extdata/data1/RawData_day0.xlsx, sheet Readout_0077vs0068_day7
INFO [2025-01-28 10:50:50] Plate 201904190a read; 384 wells
INFO [2025-01-28 10:50:50] Plate 201904190b read; 384 wells
INFO [2025-01-28 10:50:50] Plate 201904190c read; 384 wells
INFO [2025-01-28 10:50:50] Plate 201904190d read; 384 wells
INFO [2025-01-28 10:50:50] Plate 201904190e read; 384 wells
INFO [2025-01-28 10:50:50] Plate 201904190f read; 384 wells
INFO [2025-01-28 10:50:51] File done
INFO [2025-01-28 10:50:51] Reading file /home/biocbuild/R/R-4.5.0-devel_2024-11-24/site-library/gDRimport/extdata/data1/RawData_day7.xlsx, sheet Readout_0077vs0068_day7
INFO [2025-01-28 10:50:51] Plate 201904197a read; 384 wells
INFO [2025-01-28 10:50:51] Plate 201904197b read; 384 wells
INFO [2025-01-28 10:50:51] Plate 201904197c read; 384 wells
INFO [2025-01-28 10:50:51] Plate 201904197d read; 384 wells
INFO [2025-01-28 10:50:51] Plate 201904197e read; 384 wells
INFO [2025-01-28 10:50:51] Plate 201904197f read; 384 wells
INFO [2025-01-28 10:50:51] File done
INFO [2025-01-28 10:50:51] Manifest loaded successfully
INFO [2025-01-28 10:50:51] Reading D300_trt_Tecan_96_well_plates.xlsx with load_templates_xlsx
INFO [2025-01-28 10:50:51] Loading D300_trt_Tecan_96_well_plates.xlsx
INFO [2025-01-28 10:50:51] Templates loaded successfully!
INFO [2025-01-28 10:50:51] Reading file /home/biocbuild/R/R-4.5.0-devel_2024-11-24/site-library/gDRimport/extdata/data2/RawData_Tecan_96_well_plates.xlsx, sheet H2122-2
INFO [2025-01-28 10:50:51] Reading file /home/biocbuild/R/R-4.5.0-devel_2024-11-24/site-library/gDRimport/extdata/data2/RawData_Tecan_96_well_plates.xlsx, sheet H358-2
INFO [2025-01-28 10:50:52] Reading file /home/biocbuild/R/R-4.5.0-devel_2024-11-24/site-library/gDRimport/extdata/data2/RawData_Tecan_96_well_plates.xlsx, sheet H358-1
INFO [2025-01-28 10:50:52] Reading file /home/biocbuild/R/R-4.5.0-devel_2024-11-24/site-library/gDRimport/extdata/data2/RawData_Tecan_96_well_plates.xlsx, sheet H2122-1
INFO [2025-01-28 10:50:52] Manifest loaded successfully
INFO [2025-01-28 10:50:52] Reading Project40.treated.template.xlsx with load_templates_xlsx
INFO [2025-01-28 10:50:52] Loading Project40.treated.template.xlsx
INFO [2025-01-28 10:50:52] Loading Project40.untreated.template.xlsx
INFO [2025-01-28 10:50:52] Templates loaded successfully!
INFO [2025-01-28 10:50:52] Reading file /home/biocbuild/R/R-4.5.0-devel_2024-11-24/site-library/gDRimport/extdata/data4/H0109269D00.csv, sheet 0
INFO [2025-01-28 10:50:52] Plate H0109269D00 read; 384 wells
INFO [2025-01-28 10:50:52] File done
INFO [2025-01-28 10:50:52] Reading file /home/biocbuild/R/R-4.5.0-devel_2024-11-24/site-library/gDRimport/extdata/data4/H0109269D01.csv, sheet 0
INFO [2025-01-28 10:50:52] Plate H0109269D01 read; 384 wells
INFO [2025-01-28 10:50:52] File done
INFO [2025-01-28 10:50:52] Reading file /home/biocbuild/R/R-4.5.0-devel_2024-11-24/site-library/gDRimport/extdata/data4/H0309269D00.csv, sheet 0
INFO [2025-01-28 10:50:53] Plate H0309269D00 read; 384 wells
INFO [2025-01-28 10:50:53] File done
INFO [2025-01-28 10:50:53] Reading file /home/biocbuild/R/R-4.5.0-devel_2024-11-24/site-library/gDRimport/extdata/data4/H0309269D01.csv, sheet 0
INFO [2025-01-28 10:50:53] Plate H0309269D01 read; 384 wells
INFO [2025-01-28 10:50:53] File done
INFO [2025-01-28 10:50:53] Reading file /home/biocbuild/R/R-4.5.0-devel_2024-11-24/site-library/gDRimport/extdata/data4/H0409269D00.csv, sheet 0
INFO [2025-01-28 10:50:53] Plate H0409269D00 read; 384 wells
INFO [2025-01-28 10:50:53] File done
INFO [2025-01-28 10:50:53] Reading file /home/biocbuild/R/R-4.5.0-devel_2024-11-24/site-library/gDRimport/extdata/data4/H0409269D01.csv, sheet 0
INFO [2025-01-28 10:50:53] Plate H0409269D01 read; 384 wells
INFO [2025-01-28 10:50:53] File done
INFO [2025-01-28 10:50:53] Reading file /home/biocbuild/R/R-4.5.0-devel_2024-11-24/site-library/gDRimport/extdata/data4/H0509269D00.csv, sheet 0
INFO [2025-01-28 10:50:53] Plate H0509269D00 read; 384 wells
INFO [2025-01-28 10:50:53] File done
INFO [2025-01-28 10:50:53] Reading file /home/biocbuild/R/R-4.5.0-devel_2024-11-24/site-library/gDRimport/extdata/data4/H0509269D01.csv, sheet 0
INFO [2025-01-28 10:50:53] Plate H0509269D01 read; 384 wells
INFO [2025-01-28 10:50:53] File done
INFO [2025-01-28 10:50:53] Reading file /home/biocbuild/R/R-4.5.0-devel_2024-11-24/site-library/gDRimport/extdata/data4/H0609269D00.csv, sheet 0
INFO [2025-01-28 10:50:53] Plate H0609269D00 read; 384 wells
INFO [2025-01-28 10:50:53] File done
INFO [2025-01-28 10:50:53] Reading file /home/biocbuild/R/R-4.5.0-devel_2024-11-24/site-library/gDRimport/extdata/data4/H0609269D01.csv, sheet 0
INFO [2025-01-28 10:50:53] Plate H0609269D01 read; 384 wells
INFO [2025-01-28 10:50:53] File done
INFO [2025-01-28 10:50:53] Reading file /home/biocbuild/R/R-4.5.0-devel_2024-11-24/site-library/gDRimport/extdata/data4/H0709269D00.csv, sheet 0
INFO [2025-01-28 10:50:53] Plate H0709269D00 read; 384 wells
INFO [2025-01-28 10:50:53] File done
INFO [2025-01-28 10:50:53] Reading file /home/biocbuild/R/R-4.5.0-devel_2024-11-24/site-library/gDRimport/extdata/data4/H0709269D01.csv, sheet 0
INFO [2025-01-28 10:50:53] Plate H0709269D01 read; 384 wells
INFO [2025-01-28 10:50:53] File done
INFO [2025-01-28 10:50:53] Reading file /home/biocbuild/R/R-4.5.0-devel_2024-11-24/site-library/gDRimport/extdata/data4/H0809269D00.csv, sheet 0
INFO [2025-01-28 10:50:53] Plate H0809269D00 read; 384 wells
INFO [2025-01-28 10:50:53] File done
INFO [2025-01-28 10:50:53] Reading file /home/biocbuild/R/R-4.5.0-devel_2024-11-24/site-library/gDRimport/extdata/data4/H0809269D01.csv, sheet 0
INFO [2025-01-28 10:50:53] Plate H0809269D01 read; 384 wells
INFO [2025-01-28 10:50:53] File done
INFO [2025-01-28 10:50:53] Reading file /home/biocbuild/R/R-4.5.0-devel_2024-11-24/site-library/gDRimport/extdata/data4/H0909269D00.csv, sheet 0
INFO [2025-01-28 10:50:53] Plate H0909269D00 read; 384 wells
INFO [2025-01-28 10:50:53] File done
INFO [2025-01-28 10:50:53] Reading file /home/biocbuild/R/R-4.5.0-devel_2024-11-24/site-library/gDRimport/extdata/data4/H0909269D01.csv, sheet 0
INFO [2025-01-28 10:50:53] Plate H0909269D01 read; 384 wells
INFO [2025-01-28 10:50:53] File done
INFO [2025-01-28 10:50:53] Reading file /home/biocbuild/R/R-4.5.0-devel_2024-11-24/site-library/gDRimport/extdata/data4/H1109269D00.csv, sheet 0
INFO [2025-01-28 10:50:53] Plate H1109269D00 read; 384 wells
INFO [2025-01-28 10:50:53] File done
INFO [2025-01-28 10:50:53] Reading file /home/biocbuild/R/R-4.5.0-devel_2024-11-24/site-library/gDRimport/extdata/data4/H1109269D01.csv, sheet 0
INFO [2025-01-28 10:50:53] Plate H1109269D01 read; 384 wells
INFO [2025-01-28 10:50:53] File done
INFO [2025-01-28 10:50:53] Reading file /home/biocbuild/R/R-4.5.0-devel_2024-11-24/site-library/gDRimport/extdata/data4/H1209269D00.csv, sheet 0
INFO [2025-01-28 10:50:53] Plate H1209269D00 read; 384 wells
INFO [2025-01-28 10:50:53] File done
INFO [2025-01-28 10:50:53] Reading file /home/biocbuild/R/R-4.5.0-devel_2024-11-24/site-library/gDRimport/extdata/data4/H1209269D01.csv, sheet 0
INFO [2025-01-28 10:50:53] Plate H1209269D01 read; 384 wells
INFO [2025-01-28 10:50:53] File done
INFO [2025-01-28 10:50:53] Reading file /home/biocbuild/R/R-4.5.0-devel_2024-11-24/site-library/gDRimport/extdata/data4/H1409269D00.csv, sheet 0
INFO [2025-01-28 10:50:53] Plate H1409269D00 read; 384 wells
INFO [2025-01-28 10:50:53] File done
INFO [2025-01-28 10:50:53] Reading file /home/biocbuild/R/R-4.5.0-devel_2024-11-24/site-library/gDRimport/extdata/data4/H1409269D01.csv, sheet 0
INFO [2025-01-28 10:50:53] Plate H1409269D01 read; 384 wells
INFO [2025-01-28 10:50:53] File done
INFO [2025-01-28 10:50:53] Reading file /home/biocbuild/R/R-4.5.0-devel_2024-11-24/site-library/gDRimport/extdata/data4/K0209269D00.csv, sheet 0
INFO [2025-01-28 10:50:53] Plate K0209269D00 read; 384 wells
INFO [2025-01-28 10:50:53] File done
INFO [2025-01-28 10:50:53] Reading file /home/biocbuild/R/R-4.5.0-devel_2024-11-24/site-library/gDRimport/extdata/data4/K0209269D01.csv, sheet 0
INFO [2025-01-28 10:50:53] Plate K0209269D01 read; 384 wells
INFO [2025-01-28 10:50:53] File done
INFO [2025-01-28 10:50:53] Reading file /home/biocbuild/R/R-4.5.0-devel_2024-11-24/site-library/gDRimport/extdata/data4/K0809269D00.csv, sheet 0
INFO [2025-01-28 10:50:53] Plate K0809269D00 read; 384 wells
INFO [2025-01-28 10:50:53] File done
INFO [2025-01-28 10:50:53] Reading file /home/biocbuild/R/R-4.5.0-devel_2024-11-24/site-library/gDRimport/extdata/data4/K0809269D01.csv, sheet 0
INFO [2025-01-28 10:50:53] Plate K0809269D01 read; 384 wells
INFO [2025-01-28 10:50:53] File done
INFO [2025-01-28 10:50:53] Reading file /home/biocbuild/R/R-4.5.0-devel_2024-11-24/site-library/gDRimport/extdata/data4/K1009269D00.csv, sheet 0
INFO [2025-01-28 10:50:53] Plate K1009269D00 read; 384 wells
INFO [2025-01-28 10:50:53] File done
INFO [2025-01-28 10:50:53] Reading file /home/biocbuild/R/R-4.5.0-devel_2024-11-24/site-library/gDRimport/extdata/data4/K1009269D01.csv, sheet 0
INFO [2025-01-28 10:50:53] Plate K1009269D01 read; 384 wells
INFO [2025-01-28 10:50:53] File done
INFO [2025-01-28 10:50:53] Manifest loaded successfully
INFO [2025-01-28 10:50:53] Reading Template_7daytreated.xlsx with load_templates_xlsx
INFO [2025-01-28 10:50:54] Loading Template_7daytreated.xlsx
INFO [2025-01-28 10:50:54] Loading Template_Untreated.xlsx
INFO [2025-01-28 10:50:54] Templates loaded successfully!
INFO [2025-01-28 10:50:54] Manifest loaded successfully
INFO [2025-01-28 10:50:54] Reading Template_7daytreated.xlsx with load_templates_xlsx
INFO [2025-01-28 10:50:54] Loading Template_7daytreated.xlsx
INFO [2025-01-28 10:50:54] Loading Template_Untreated.xlsx
INFO [2025-01-28 10:50:54] Templates loaded successfully!
INFO [2025-01-28 10:50:54] Manifest loaded successfully
INFO [2025-01-28 10:50:54] Reading Template_trt.tsv with load_templates_tsv
INFO [2025-01-28 10:50:54] Loading Template_trt.tsv
INFO [2025-01-28 10:50:54] Loading Template_untrt.tsv
INFO [2025-01-28 10:50:54] Templates loaded successfully!
INFO [2025-01-28 10:50:54] Reading file /home/biocbuild/R/R-4.5.0-devel_2024-11-24/site-library/gDRimport/extdata/data5/RawData.tsv
WARN [2025-01-28 10:50:56] Metadata field names for  cannot contain spaces --> corrected to: Gnumber
WARN [2025-01-28 10:50:56] Header Gnumber in  corrected to Gnumber
[ FAIL 0 | WARN 1 | SKIP 0 | PASS 143 ]

[ FAIL 0 | WARN 1 | SKIP 0 | PASS 143 ]
> 
> 
> proc.time()
   user  system elapsed 
 58.600   1.707  60.465 

Example timings

gDRimport.Rcheck/gDRimport-Ex.timings

nameusersystemelapsed
check_metadata_names0.0770.0040.081
convert_LEVEL5_prism_to_gDR_input0.0170.0000.018
convert_LEVEL6_prism_to_gDR_input0.0180.0040.024
convert_MAE_to_PSet9.2450.2879.552
convert_pset_to_df0.1530.0280.177
detect_file_format0.3680.0070.378
getPSet0.1480.0080.157
get_exception_data0.0080.0000.008
get_test_D300_data0.0020.0000.001
get_test_EnVision_data0.0030.0000.002
get_test_Tecan_data0.0010.0000.001
get_test_data0.0030.0000.004
get_test_tsv_data0.0010.0000.002
import_D3003.5460.2393.800
is_readable_v0.0020.0000.001
load_data1.6610.0881.752
load_manifest0.0600.0040.064
load_results1.4210.0441.467
load_templates0.2450.0280.274
manifest_path-method0.0020.0000.003
parse_D300_xml1.5060.0441.554
read_excel_to_dt0.0180.0040.027
result_path-method0.0030.0000.002
setEnvForPSet0.0010.0000.001
standardize_record_values000
template_path-method0.0030.0000.002