Back to Multiple platform build/check report for BioC 3.23:   simplified   long
ABCDE[F]GHIJKLMNOPQRSTUVWXYZ

This page was generated on 2025-11-27 11:38 -0500 (Thu, 27 Nov 2025).

HostnameOSArch (*)R versionInstalled pkgs
nebbiolo1Linux (Ubuntu 24.04.3 LTS)x86_64R Under development (unstable) (2025-10-20 r88955) -- "Unsuffered Consequences" 4865
lconwaymacOS 12.7.6 Montereyx86_64R Under development (unstable) (2025-10-21 r88958) -- "Unsuffered Consequences" 4614
kjohnson3macOS 13.7.7 Venturaarm64R Under development (unstable) (2025-11-04 r88984) -- "Unsuffered Consequences" 4571
Click on any hostname to see more info about the system (e.g. compilers)      (*) as reported by 'uname -p', except on Windows and Mac OS X

Package 740/2328HostnameOS / ArchINSTALLBUILDCHECKBUILD BIN
flowcatchR 1.45.0  (landing page)
Federico Marini
Snapshot Date: 2025-11-26 13:40 -0500 (Wed, 26 Nov 2025)
git_url: https://git.bioconductor.org/packages/flowcatchR
git_branch: devel
git_last_commit: 1168ab0
git_last_commit_date: 2025-10-29 10:22:08 -0500 (Wed, 29 Oct 2025)
nebbiolo1Linux (Ubuntu 24.04.3 LTS) / x86_64  OK    OK    OK  UNNEEDED, same version is already published
lconwaymacOS 12.7.6 Monterey / x86_64  OK    OK    OK    OK  UNNEEDED, same version is already published
kjohnson3macOS 13.7.7 Ventura / arm64  OK    OK    OK    OK  UNNEEDED, same version is already published


CHECK results for flowcatchR on lconway

To the developers/maintainers of the flowcatchR package:
- Allow up to 24 hours (and sometimes 48 hours) for your latest push to git@git.bioconductor.org:packages/flowcatchR.git to reflect on this report. See Troubleshooting Build Report for more information.
- Use the following Renviron settings to reproduce errors and warnings.
- If 'R CMD check' started to fail recently on the Linux builder(s) over a missing dependency, add the missing dependency to 'Suggests:' in your DESCRIPTION file. See Renviron.bioc for more information.

raw results


Summary

Package: flowcatchR
Version: 1.45.0
Command: /Library/Frameworks/R.framework/Resources/bin/R CMD check --install=check:flowcatchR.install-out.txt --library=/Library/Frameworks/R.framework/Resources/library --no-vignettes --timings flowcatchR_1.45.0.tar.gz
StartedAt: 2025-11-26 21:09:23 -0500 (Wed, 26 Nov 2025)
EndedAt: 2025-11-26 21:10:53 -0500 (Wed, 26 Nov 2025)
EllapsedTime: 90.0 seconds
RetCode: 0
Status:   OK  
CheckDir: flowcatchR.Rcheck
Warnings: 0

Command output

##############################################################################
##############################################################################
###
### Running command:
###
###   /Library/Frameworks/R.framework/Resources/bin/R CMD check --install=check:flowcatchR.install-out.txt --library=/Library/Frameworks/R.framework/Resources/library --no-vignettes --timings flowcatchR_1.45.0.tar.gz
###
##############################################################################
##############################################################################


* using log directory ‘/Users/biocbuild/bbs-3.23-bioc/meat/flowcatchR.Rcheck’
* using R Under development (unstable) (2025-10-21 r88958)
* using platform: x86_64-apple-darwin20
* R was compiled by
    Apple clang version 14.0.0 (clang-1400.0.29.202)
    GNU Fortran (GCC) 14.2.0
* running under: macOS Ventura 13.7.8
* using session charset: UTF-8
* using option ‘--no-vignettes’
* checking for file ‘flowcatchR/DESCRIPTION’ ... OK
* checking extension type ... Package
* this is package ‘flowcatchR’ version ‘1.45.0’
* package encoding: UTF-8
* checking package namespace information ... OK
* checking package dependencies ... OK
* checking if this is a source package ... OK
* checking if there is a namespace ... OK
* checking for hidden files and directories ... OK
* checking for portable file names ... OK
* checking for sufficient/correct file permissions ... OK
* checking whether package ‘flowcatchR’ can be installed ... OK
* checking installed package size ... OK
* checking package directory ... OK
* checking ‘build’ directory ... OK
* checking DESCRIPTION meta-information ... OK
* checking top-level files ... OK
* checking for left-over files ... OK
* checking index information ... OK
* checking package subdirectories ... OK
* checking code files for non-ASCII characters ... OK
* checking R files for syntax errors ... OK
* checking whether the package can be loaded ... OK
* checking whether the package can be loaded with stated dependencies ... OK
* checking whether the package can be unloaded cleanly ... OK
* checking whether the namespace can be loaded with stated dependencies ... OK
* checking whether the namespace can be unloaded cleanly ... OK
* checking dependencies in R code ... NOTE
'library' or 'require' call to ‘EBImage’ which was already attached by Depends.
  Please remove these calls from your code.
* checking S3 generic/method consistency ... OK
* checking replacement functions ... OK
* checking foreign function calls ... OK
* checking R code for possible problems ... OK
* checking Rd files ... OK
* checking Rd metadata ... OK
* checking Rd cross-references ... NOTE
Non-topic package-anchored link(s) in Rd file 'preprocess.Frames.Rd':
  ‘[EBImage:morphology]{EBImage::opening()}’
  ‘[EBImage:morphology]{EBImage::closing()}’

See section 'Cross-references' in the 'Writing R Extensions' manual.
* checking for missing documentation entries ... OK
* checking for code/documentation mismatches ... OK
* checking Rd \usage sections ... OK
* checking Rd contents ... OK
* checking for unstated dependencies in examples ... OK
* checking contents of ‘data’ directory ... OK
* checking data for non-ASCII characters ... OK
* checking LazyData ... OK
* checking data for ASCII and uncompressed saves ... OK
* checking files in ‘vignettes’ ... OK
* checking examples ... OK
* checking for unstated dependencies in vignettes ... OK
* checking package vignettes ... OK
* checking running R code from vignettes ... SKIPPED
* checking re-building of vignette outputs ... SKIPPED
* checking PDF version of manual ... OK
* DONE

Status: 2 NOTEs
See
  ‘/Users/biocbuild/bbs-3.23-bioc/meat/flowcatchR.Rcheck/00check.log’
for details.


Installation output

flowcatchR.Rcheck/00install.out

##############################################################################
##############################################################################
###
### Running command:
###
###   /Library/Frameworks/R.framework/Resources/bin/R CMD INSTALL flowcatchR
###
##############################################################################
##############################################################################


* installing to library ‘/Library/Frameworks/R.framework/Versions/4.6-x86_64/Resources/library’
* installing *source* package ‘flowcatchR’ ...
** this is package ‘flowcatchR’ version ‘1.45.0’
** using staged installation
** R
** data
*** moving datasets to lazyload DB
** inst
** byte-compile and prepare package for lazy loading
** help
*** installing help indices
** building package indices
** installing vignettes
** testing if installed package can be loaded from temporary location
** testing if installed package can be loaded from final location
** testing if installed package keeps a record of temporary installation path
* DONE (flowcatchR)

Tests output


Example timings

flowcatchR.Rcheck/flowcatchR-Ex.timings

nameusersystemelapsed
Frames0.2860.0280.316
add.contours0.0010.0030.003
channel.Frames0.2380.0130.251
crop.Frames0.0860.0050.091
export.Frames0.0010.0030.005
export.particles0.0010.0030.004
inspect.Frames0.0010.0020.003
kinematics0.4200.0100.432
length.Frames0.0370.0030.039
link.particles0.110.010.12
matchTrajToParticles0.2080.0110.223
normalizeFrames1.5600.1861.764
particles0.0010.0010.002
penaltyFunctionGenerator000
plot.TrajectorySet0.1600.0070.168
plot2D.TrajectorySet0.2660.0190.291
preprocess.Frames0.4760.0970.581
read.Frames000
read.particles000
rotate.Frames0.2820.0790.370
select.Frames0.5060.0880.599
select.particles0.0190.0020.020
shinyFlow0.0000.0000.001
show-Frames-method0.0600.0160.077
show-KinematicsFeatures-method0.1660.0070.175
show-KinematicsFeaturesSet-method0.2070.0090.217
show-LinkedParticleSet-method0.1370.0060.143
show-ParticleSet-method0.0060.0030.008
show-TrajectorySet-method0.1880.0070.198
snap000
trajectories0.2020.0050.209