Back to Multiple platform build/check report for BioC 3.22:   simplified   long
ABCDE[F]GHIJKLMNOPQRSTUVWXYZ

This page was generated on 2025-07-24 12:06 -0400 (Thu, 24 Jul 2025).

HostnameOSArch (*)R versionInstalled pkgs
nebbiolo2Linux (Ubuntu 24.04.2 LTS)x86_644.5.1 (2025-06-13) -- "Great Square Root" 4792
palomino8Windows Server 2022 Datacenterx644.5.1 (2025-06-13 ucrt) -- "Great Square Root" 4530
lconwaymacOS 12.7.1 Montereyx86_644.5.1 (2025-06-13) -- "Great Square Root" 4573
kjohnson3macOS 13.7.1 Venturaarm644.5.1 Patched (2025-06-14 r88325) -- "Great Square Root" 4514
taishanLinux (openEuler 24.03 LTS)aarch644.5.0 (2025-04-11) -- "How About a Twenty-Six" 4510
Click on any hostname to see more info about the system (e.g. compilers)      (*) as reported by 'uname -p', except on Windows and Mac OS X

Package 741/2311HostnameOS / ArchINSTALLBUILDCHECKBUILD BIN
flowGraph 1.17.0  (landing page)
Alice Yue
Snapshot Date: 2025-07-23 13:25 -0400 (Wed, 23 Jul 2025)
git_url: https://git.bioconductor.org/packages/flowGraph
git_branch: devel
git_last_commit: 16b2487
git_last_commit_date: 2025-04-15 12:15:54 -0400 (Tue, 15 Apr 2025)
nebbiolo2Linux (Ubuntu 24.04.2 LTS) / x86_64  OK    OK    OK  UNNEEDED, same version is already published
palomino8Windows Server 2022 Datacenter / x64  OK    OK    OK    OK  UNNEEDED, same version is already published
lconwaymacOS 12.7.1 Monterey / x86_64  OK    OK    OK    OK  UNNEEDED, same version is already published
kjohnson3macOS 13.7.1 Ventura / arm64  OK    OK    OK    OK  UNNEEDED, same version is already published
taishanLinux (openEuler 24.03 LTS) / aarch64  OK    OK    OK  


CHECK results for flowGraph on nebbiolo2

To the developers/maintainers of the flowGraph package:
- Allow up to 24 hours (and sometimes 48 hours) for your latest push to git@git.bioconductor.org:packages/flowGraph.git to reflect on this report. See Troubleshooting Build Report for more information.
- Use the following Renviron settings to reproduce errors and warnings.
- If 'R CMD check' started to fail recently on the Linux builder(s) over a missing dependency, add the missing dependency to 'Suggests:' in your DESCRIPTION file. See Renviron.bioc for more information.

raw results


Summary

Package: flowGraph
Version: 1.17.0
Command: /home/biocbuild/bbs-3.22-bioc/R/bin/R CMD check --install=check:flowGraph.install-out.txt --library=/home/biocbuild/bbs-3.22-bioc/R/site-library --timings flowGraph_1.17.0.tar.gz
StartedAt: 2025-07-23 22:41:02 -0400 (Wed, 23 Jul 2025)
EndedAt: 2025-07-23 22:44:57 -0400 (Wed, 23 Jul 2025)
EllapsedTime: 234.4 seconds
RetCode: 0
Status:   OK  
CheckDir: flowGraph.Rcheck
Warnings: 0

Command output

##############################################################################
##############################################################################
###
### Running command:
###
###   /home/biocbuild/bbs-3.22-bioc/R/bin/R CMD check --install=check:flowGraph.install-out.txt --library=/home/biocbuild/bbs-3.22-bioc/R/site-library --timings flowGraph_1.17.0.tar.gz
###
##############################################################################
##############################################################################


* using log directory ‘/home/biocbuild/bbs-3.22-bioc/meat/flowGraph.Rcheck’
* using R version 4.5.1 (2025-06-13)
* using platform: x86_64-pc-linux-gnu
* R was compiled by
    gcc (Ubuntu 13.3.0-6ubuntu2~24.04) 13.3.0
    GNU Fortran (Ubuntu 13.3.0-6ubuntu2~24.04) 13.3.0
* running under: Ubuntu 24.04.2 LTS
* using session charset: UTF-8
* checking for file ‘flowGraph/DESCRIPTION’ ... OK
* checking extension type ... Package
* this is package ‘flowGraph’ version ‘1.17.0’
* checking package namespace information ... OK
* checking package dependencies ... OK
* checking if this is a source package ... OK
* checking if there is a namespace ... OK
* checking for hidden files and directories ... OK
* checking for portable file names ... OK
* checking for sufficient/correct file permissions ... OK
* checking whether package ‘flowGraph’ can be installed ... OK
* checking installed package size ... OK
* checking package directory ... OK
* checking ‘build’ directory ... OK
* checking DESCRIPTION meta-information ... OK
* checking top-level files ... OK
* checking for left-over files ... OK
* checking index information ... OK
* checking package subdirectories ... OK
* checking code files for non-ASCII characters ... OK
* checking R files for syntax errors ... OK
* checking whether the package can be loaded ... OK
* checking whether the package can be loaded with stated dependencies ... OK
* checking whether the package can be unloaded cleanly ... OK
* checking whether the namespace can be loaded with stated dependencies ... OK
* checking whether the namespace can be unloaded cleanly ... OK
* checking loading without being on the library search path ... OK
* checking dependencies in R code ... OK
* checking S3 generic/method consistency ... OK
* checking replacement functions ... OK
* checking foreign function calls ... OK
* checking R code for possible problems ... NOTE
get_child: no visible binding for global variable ‘no_cores’
get_paren: no visible binding for global variable ‘no_cores’
ms_psig: no visible binding for global variable ‘meta’
Undefined global functions or variables:
  meta no_cores
* checking Rd files ... NOTE
checkRd: (-1) fg_get_graph.Rd:13: Lost braces
    13 | A list containing two data frames (\code{v} and ]code{e})
       |                                                      ^
checkRd: (-1) ggdf.Rd:22: Lost braces
    22 | code{ggdf} adds to the data frames \code{v} and \code{e} in slot
       |     ^
* checking Rd metadata ... OK
* checking Rd cross-references ... OK
* checking for missing documentation entries ... OK
* checking for code/documentation mismatches ... OK
* checking Rd \usage sections ... OK
* checking Rd contents ... OK
* checking for unstated dependencies in examples ... OK
* checking contents of ‘data’ directory ... OK
* checking data for non-ASCII characters ... OK
* checking data for ASCII and uncompressed saves ... OK
* checking files in ‘vignettes’ ... OK
* checking examples ... OK
Examples with CPU (user + system) or elapsed time > 5s
                user system elapsed
fg_save       38.884  0.825  39.712
fg_load       38.751  0.868  39.576
fg_save_plots 38.461  0.775  39.240
* checking for unstated dependencies in ‘tests’ ... OK
* checking tests ...
  Running ‘testthat.R’
 OK
* checking for unstated dependencies in vignettes ... OK
* checking package vignettes ... OK
* checking re-building of vignette outputs ... OK
* checking PDF version of manual ... OK
* DONE

Status: 2 NOTEs
See
  ‘/home/biocbuild/bbs-3.22-bioc/meat/flowGraph.Rcheck/00check.log’
for details.


Installation output

flowGraph.Rcheck/00install.out

##############################################################################
##############################################################################
###
### Running command:
###
###   /home/biocbuild/bbs-3.22-bioc/R/bin/R CMD INSTALL flowGraph
###
##############################################################################
##############################################################################


* installing to library ‘/home/biocbuild/bbs-3.22-bioc/R/site-library’
* installing *source* package ‘flowGraph’ ...
** this is package ‘flowGraph’ version ‘1.17.0’
** using staged installation
** R
** data
** inst
** byte-compile and prepare package for lazy loading
** help
Loading required namespace: flowGraph
*** installing help indices
** building package indices
** installing vignettes
** testing if installed package can be loaded from temporary location
** testing if installed package can be loaded from final location
** testing if installed package keeps a record of temporary installation path
* DONE (flowGraph)

Tests output

flowGraph.Rcheck/tests/testthat.Rout


R version 4.5.1 (2025-06-13) -- "Great Square Root"
Copyright (C) 2025 The R Foundation for Statistical Computing
Platform: x86_64-pc-linux-gnu

R is free software and comes with ABSOLUTELY NO WARRANTY.
You are welcome to redistribute it under certain conditions.
Type 'license()' or 'licence()' for distribution details.

R is a collaborative project with many contributors.
Type 'contributors()' for more information and
'citation()' on how to cite R or R packages in publications.

Type 'demo()' for some demos, 'help()' for on-line help, or
'help.start()' for an HTML browser interface to help.
Type 'q()' to quit R.

> library(testthat)
> library(flowGraph)
> 
> test_check("flowGraph")
[ FAIL 0 | WARN 1 | SKIP 0 | PASS 34 ]

[ FAIL 0 | WARN 1 | SKIP 0 | PASS 34 ]
> 
> proc.time()
   user  system elapsed 
  5.113   0.295   5.398 

Example timings

flowGraph.Rcheck/flowGraph-Ex.timings

nameusersystemelapsed
cell_type_layers0.0030.0000.004
fg_add_feature0.3370.0060.343
fg_add_summary0.7540.0030.757
fg_clean_phen000
fg_clear_features0.7510.0030.753
fg_clear_summary0.3360.0010.337
fg_extract_phenotypes0.2550.0010.256
fg_extract_raw0.7050.0020.707
fg_extract_samples0.2430.0000.243
fg_feat_cumsum0.2530.0000.252
fg_feat_edge_specenr0.3710.0400.411
fg_feat_mean_class0.2500.0020.252
fg_feat_node_prop0.2490.0000.250
fg_feat_node_specenr0.3810.0030.384
fg_feat_prop_edge0.2560.0010.257
fg_get_feature0.2620.0000.262
fg_get_feature_desc0.7270.0030.731
fg_get_feature_means1.0810.0351.117
fg_get_graph0.2530.0010.254
fg_get_markers0.2450.0020.248
fg_get_meta0.2590.0010.261
fg_get_summary1.5400.0001.541
fg_get_summary_desc0.7350.0010.736
fg_get_summary_index1.6570.0281.686
fg_get_summary_tables1.0230.0151.039
fg_gsub_ids0.240.000.24
fg_gsub_markers0.2890.0000.289
fg_load38.751 0.86839.576
fg_merge0.2520.0010.253
fg_merge_samples0.2610.0000.261
fg_plot0.3510.0000.351
fg_plot_box0.5480.0000.548
fg_plot_pVSdiff0.3650.0040.369
fg_plot_qq0.8630.0060.872
fg_replace_meta0.2570.0000.257
fg_rm_feature0.7190.0010.720
fg_rm_summary0.3210.0000.321
fg_save38.884 0.82539.712
fg_save_plots38.461 0.77539.240
fg_set_layout0.2550.0030.258
fg_summary0.3300.0020.332
flowGraph-class0.0010.0000.001
flowGraph1.1010.0041.105
flowGraphSubset000
flowGraphSubset_summary_adjust0.0010.0000.001
flowGraphSubset_summary_pars000
get_phen_list0.0130.0000.013
get_phen_meta0.0020.0000.002
ggdf0.2890.0000.289
loop_ind_f0.0000.0010.000
meandiff0.0010.0000.001
plot_gr1.3410.0081.355
set_layout_graph0.2650.0040.269
summary_table0.0030.0000.003
time_output0.0010.0000.001
tstr000