Back to Multiple platform build/check report for BioC 3.22:   simplified   long
ABCDE[F]GHIJKLMNOPQRSTUVWXYZ

This page was generated on 2025-05-16 12:04 -0400 (Fri, 16 May 2025).

HostnameOSArch (*)R versionInstalled pkgs
nebbiolo2Linux (Ubuntu 24.04.1 LTS)x86_644.5.0 (2025-04-11) -- "How About a Twenty-Six" 4749
palomino8Windows Server 2022 Datacenterx644.5.0 (2025-04-11 ucrt) -- "How About a Twenty-Six" 4510
lconwaymacOS 12.7.1 Montereyx86_644.5.0 Patched (2025-04-21 r88169) -- "How About a Twenty-Six" 4548
taishanLinux (openEuler 24.03 LTS)aarch644.5.0 (2025-04-11) -- "How About a Twenty-Six" 4453
Click on any hostname to see more info about the system (e.g. compilers)      (*) as reported by 'uname -p', except on Windows and Mac OS X

Package 725/2304HostnameOS / ArchINSTALLBUILDCHECKBUILD BIN
flagme 1.65.0  (landing page)
Mark Robinson , Riccardo Romoli
Snapshot Date: 2025-05-15 13:00 -0400 (Thu, 15 May 2025)
git_url: https://git.bioconductor.org/packages/flagme
git_branch: devel
git_last_commit: 2a39fc4
git_last_commit_date: 2025-04-15 09:43:46 -0400 (Tue, 15 Apr 2025)
nebbiolo2Linux (Ubuntu 24.04.1 LTS) / x86_64  OK    OK    WARNINGS  UNNEEDED, same version is already published
palomino8Windows Server 2022 Datacenter / x64  OK    OK    WARNINGS    OK  UNNEEDED, same version is already published
lconwaymacOS 12.7.1 Monterey / x86_64  ERROR    ERROR  skippedskipped
taishanLinux (openEuler 24.03 LTS) / aarch64  OK    OK    WARNINGS  


BUILD results for flagme on lconway

To the developers/maintainers of the flagme package:
- Allow up to 24 hours (and sometimes 48 hours) for your latest push to git@git.bioconductor.org:packages/flagme.git to reflect on this report. See Troubleshooting Build Report for more information.
- Use the following Renviron settings to reproduce errors and warnings.
- If 'R CMD check' started to fail recently on the Linux builder(s) over a missing dependency, add the missing dependency to 'Suggests:' in your DESCRIPTION file. See Renviron.bioc for more information.

raw results


Summary

Package: flagme
Version: 1.65.0
Command: /Library/Frameworks/R.framework/Resources/bin/R CMD build --keep-empty-dirs --no-resave-data flagme
StartedAt: 2025-05-15 16:51:26 -0400 (Thu, 15 May 2025)
EndedAt: 2025-05-15 16:51:27 -0400 (Thu, 15 May 2025)
EllapsedTime: 1.2 seconds
RetCode: 1
Status:   ERROR  
PackageFile: None
PackageFileSize: NA

Command output

##############################################################################
##############################################################################
###
### Running command:
###
###   /Library/Frameworks/R.framework/Resources/bin/R CMD build --keep-empty-dirs --no-resave-data flagme
###
##############################################################################
##############################################################################


* checking for file ‘flagme/DESCRIPTION’ ... OK
* preparing ‘flagme’:
* checking DESCRIPTION meta-information ... OK
* cleaning src
* installing the package to build vignettes
      -----------------------------------
ERROR: dependencies ‘xcms’, ‘CAMERA’ are not available for package ‘flagme’
Perhaps try a variation of:
install.packages(c('xcms', 'CAMERA'))
* removing ‘/private/tmp/RtmpjnJpyD/Rinst131fea9629f5/flagme’
      -----------------------------------
ERROR: package installation failed