| Back to Build/check report for BioC 3.23: simplified long |
|
This page was generated on 2025-11-06 11:32 -0500 (Thu, 06 Nov 2025).
| Hostname | OS | Arch (*) | R version | Installed pkgs |
|---|---|---|---|---|
| nebbiolo1 | Linux (Ubuntu 24.04.3 LTS) | x86_64 | R Under development (unstable) (2025-10-20 r88955) -- "Unsuffered Consequences" | 4818 |
| Click on any hostname to see more info about the system (e.g. compilers) (*) as reported by 'uname -p', except on Windows and Mac OS X | ||||
| Package 721/2323 | Hostname | OS / Arch | INSTALL | BUILD | CHECK | BUILD BIN | ||||||||
| fenr 1.9.0 (landing page) Marek Gierlinski
| nebbiolo1 | Linux (Ubuntu 24.04.3 LTS) / x86_64 | OK | OK | ERROR | |||||||||
|
To the developers/maintainers of the fenr package: - Allow up to 24 hours (and sometimes 48 hours) for your latest push to git@git.bioconductor.org:packages/fenr.git to reflect on this report. See Troubleshooting Build Report for more information. - Use the following Renviron settings to reproduce errors and warnings. - If 'R CMD check' started to fail recently on the Linux builder(s) over a missing dependency, add the missing dependency to 'Suggests:' in your DESCRIPTION file. See Renviron.bioc for more information. |
| Package: fenr |
| Version: 1.9.0 |
| Command: /home/biocbuild/bbs-3.23-bioc/R/bin/R CMD check --install=check:fenr.install-out.txt --library=/home/biocbuild/bbs-3.23-bioc/R/site-library --timings fenr_1.9.0.tar.gz |
| StartedAt: 2025-11-05 23:30:03 -0500 (Wed, 05 Nov 2025) |
| EndedAt: 2025-11-05 23:33:36 -0500 (Wed, 05 Nov 2025) |
| EllapsedTime: 213.3 seconds |
| RetCode: 1 |
| Status: ERROR |
| CheckDir: fenr.Rcheck |
| Warnings: NA |
##############################################################################
##############################################################################
###
### Running command:
###
### /home/biocbuild/bbs-3.23-bioc/R/bin/R CMD check --install=check:fenr.install-out.txt --library=/home/biocbuild/bbs-3.23-bioc/R/site-library --timings fenr_1.9.0.tar.gz
###
##############################################################################
##############################################################################
* using log directory ‘/home/biocbuild/bbs-3.23-bioc/meat/fenr.Rcheck’
* using R Under development (unstable) (2025-10-20 r88955)
* using platform: x86_64-pc-linux-gnu
* R was compiled by
gcc (Ubuntu 13.3.0-6ubuntu2~24.04) 13.3.0
GNU Fortran (Ubuntu 13.3.0-6ubuntu2~24.04) 13.3.0
* running under: Ubuntu 24.04.3 LTS
* using session charset: UTF-8
* checking for file ‘fenr/DESCRIPTION’ ... OK
* this is package ‘fenr’ version ‘1.9.0’
* package encoding: UTF-8
* checking package namespace information ... OK
* checking package dependencies ... OK
* checking if this is a source package ... OK
* checking if there is a namespace ... OK
* checking for hidden files and directories ... OK
* checking for portable file names ... OK
* checking for sufficient/correct file permissions ... OK
* checking whether package ‘fenr’ can be installed ... OK
* checking installed package size ... OK
* checking package directory ... OK
* checking ‘build’ directory ... OK
* checking DESCRIPTION meta-information ... OK
* checking top-level files ... OK
* checking for left-over files ... OK
* checking index information ... OK
* checking package subdirectories ... OK
* checking code files for non-ASCII characters ... OK
* checking R files for syntax errors ... OK
* checking whether the package can be loaded ... OK
* checking whether the package can be loaded with stated dependencies ... OK
* checking whether the package can be unloaded cleanly ... OK
* checking whether the namespace can be loaded with stated dependencies ... OK
* checking whether the namespace can be unloaded cleanly ... OK
* checking loading without being on the library search path ... OK
* checking dependencies in R code ... OK
* checking S3 generic/method consistency ... OK
* checking replacement functions ... OK
* checking foreign function calls ... OK
* checking R code for possible problems ... OK
* checking Rd files ... OK
* checking Rd metadata ... OK
* checking Rd cross-references ... OK
* checking for missing documentation entries ... OK
* checking for code/documentation mismatches ... OK
* checking Rd \usage sections ... OK
* checking Rd contents ... OK
* checking for unstated dependencies in examples ... OK
* checking contents of ‘data’ directory ... OK
* checking data for non-ASCII characters ... OK
* checking data for ASCII and uncompressed saves ... OK
* checking files in ‘vignettes’ ... OK
* checking examples ... OK
Examples with CPU (user + system) or elapsed time > 5s
user system elapsed
fetch_go 24.898 1.187 31.086
fetch_reactome 9.728 10.453 12.801
fetch_kegg 1.564 0.060 21.432
fetch_wiki 0.209 0.001 11.771
* checking for unstated dependencies in ‘tests’ ... OK
* checking tests ...
Running ‘testthat.R’
ERROR
Running the tests in ‘tests/testthat.R’ failed.
Last 13 lines of output:
1. ├─fenr::fetch_reactome(...) at test_reactome.R:92:3
2. │ └─fenr:::fetch_reactome_gene_association(...)
3. │ ├─dplyr::distinct(...)
4. │ ├─dplyr::select(...)
5. │ ├─dplyr::filter(...)
6. │ ├─dplyr::mutate(...)
7. │ └─readr::read_tsv(...)
8. │ └─vroom::vroom(...)
9. │ └─vroom:::vroom_(...)
10. ├─base (local) `<fn>`(`<gzcon>`, `<raw>`, 131071L)
11. └─curl:::raise_libcurl_error(...)
[ FAIL 1 | WARN 0 | SKIP 1 | PASS 314 ]
Error: Test failures
Execution halted
* checking for unstated dependencies in vignettes ... OK
* checking package vignettes ... OK
* checking re-building of vignette outputs ... OK
* checking PDF version of manual ... OK
* DONE
Status: 1 ERROR
See
‘/home/biocbuild/bbs-3.23-bioc/meat/fenr.Rcheck/00check.log’
for details.
fenr.Rcheck/00install.out
############################################################################## ############################################################################## ### ### Running command: ### ### /home/biocbuild/bbs-3.23-bioc/R/bin/R CMD INSTALL fenr ### ############################################################################## ############################################################################## * installing to library ‘/home/biocbuild/bbs-3.23-bioc/R/site-library’ * installing *source* package ‘fenr’ ... ** this is package ‘fenr’ version ‘1.9.0’ ** using staged installation ** R ** data ** byte-compile and prepare package for lazy loading ** help *** installing help indices ** building package indices ** installing vignettes ** testing if installed package can be loaded from temporary location ** testing if installed package can be loaded from final location ** testing if installed package keeps a record of temporary installation path * DONE (fenr)
fenr.Rcheck/tests/testthat.Rout.fail
R Under development (unstable) (2025-10-20 r88955) -- "Unsuffered Consequences"
Copyright (C) 2025 The R Foundation for Statistical Computing
Platform: x86_64-pc-linux-gnu
R is free software and comes with ABSOLUTELY NO WARRANTY.
You are welcome to redistribute it under certain conditions.
Type 'license()' or 'licence()' for distribution details.
R is a collaborative project with many contributors.
Type 'contributors()' for more information and
'citation()' on how to cite R or R packages in publications.
Type 'demo()' for some demos, 'help()' for on-line help, or
'help.start()' for an HTML browser interface to help.
Type 'q()' to quit R.
> library(testthat)
> library(fenr)
>
> test_check("fenr")
[ FAIL 1 | WARN 0 | SKIP 1 | PASS 314 ]
══ Skipped tests (1) ═══════════════════════════════════════════════════════════
• empty test (1): 'test_bp.R:9:1'
══ Failed tests ════════════════════════════════════════════════════════════════
── Error ('test_reactome.R:92:3'): Correct Reactome gene association from yeast ──
<curl_error_partial_file/curl_error/error/condition>
Error in `(function (con, what, n = 1L, size = NA_integer_, signed = TRUE,
endian = .Platform$endian)
{
if (!endian %in% c("big", "little", "swap"))
stop("invalid 'endian' argument")
if (is.character(con)) {
con <- file(con, "rb")
on.exit(close(con))
}
swap <- endian != .Platform$endian
if (!is.character(what) || is.na(what) || length(what) !=
1L || !any(what == c("numeric", "double", "integer",
"int", "logical", "complex", "character", "raw")))
what <- typeof(what)
.Internal(readBin(con, what, n, size, signed, swap))
})(structure(4L, class = c("gzcon", "connection"), conn_id = <pointer: 0x54f>),
raw(0), 131071L)`: Transferred a partial file [reactome.org]:
transfer closed with 717414 bytes remaining to read
Backtrace:
▆
1. ├─fenr::fetch_reactome(...) at test_reactome.R:92:3
2. │ └─fenr:::fetch_reactome_gene_association(...)
3. │ ├─dplyr::distinct(...)
4. │ ├─dplyr::select(...)
5. │ ├─dplyr::filter(...)
6. │ ├─dplyr::mutate(...)
7. │ └─readr::read_tsv(...)
8. │ └─vroom::vroom(...)
9. │ └─vroom:::vroom_(...)
10. ├─base (local) `<fn>`(`<gzcon>`, `<raw>`, 131071L)
11. └─curl:::raise_libcurl_error(...)
[ FAIL 1 | WARN 0 | SKIP 1 | PASS 314 ]
Error: Test failures
Execution halted
fenr.Rcheck/fenr-Ex.timings
| name | user | system | elapsed | |
| enrichment_interactive | 0 | 0 | 0 | |
| fetch_bp | 0.273 | 0.019 | 0.601 | |
| fetch_go | 24.898 | 1.187 | 31.086 | |
| fetch_go_species | 0.019 | 0.000 | 0.057 | |
| fetch_kegg | 1.564 | 0.060 | 21.432 | |
| fetch_kegg_species | 0.168 | 0.008 | 3.876 | |
| fetch_reactome | 9.728 | 10.453 | 12.801 | |
| fetch_reactome_species | 0.058 | 0.001 | 0.388 | |
| fetch_terms_for_example | 0.000 | 0.000 | 0.001 | |
| fetch_wiki | 0.209 | 0.001 | 11.771 | |
| fetch_wiki_species | 0.012 | 0.000 | 0.095 | |
| functional_enrichment | 0 | 0 | 0 | |
| get_feature_terms | 0 | 0 | 0 | |
| get_term_features | 0 | 0 | 0 | |
| prepare_for_enrichment | 0 | 0 | 0 | |
| remove_cache | 0 | 0 | 0 | |