Back to Multiple platform build/check report for BioC 3.23:   simplified   long
ABCD[E]FGHIJKLMNOPQRSTUVWXYZ

This page was generated on 2025-11-17 11:39 -0500 (Mon, 17 Nov 2025).

HostnameOSArch (*)R versionInstalled pkgs
nebbiolo1Linux (Ubuntu 24.04.3 LTS)x86_64R Under development (unstable) (2025-10-20 r88955) -- "Unsuffered Consequences" 4826
lconwaymacOS 12.7.6 Montereyx86_64R Under development (unstable) (2025-10-21 r88958) -- "Unsuffered Consequences" 4491
kjohnson3macOS 13.7.7 Venturaarm64R Under development (unstable) (2025-11-04 r88984) -- "Unsuffered Consequences" 4562
Click on any hostname to see more info about the system (e.g. compilers)      (*) as reported by 'uname -p', except on Windows and Mac OS X

Package 664/2325HostnameOS / ArchINSTALLBUILDCHECKBUILD BIN
ensembldb 2.35.0  (landing page)
Johannes Rainer
Snapshot Date: 2025-11-16 13:40 -0500 (Sun, 16 Nov 2025)
git_url: https://git.bioconductor.org/packages/ensembldb
git_branch: devel
git_last_commit: a74ca18
git_last_commit_date: 2025-10-29 10:24:50 -0500 (Wed, 29 Oct 2025)
nebbiolo1Linux (Ubuntu 24.04.3 LTS) / x86_64  OK    OK    OK  UNNEEDED, same version is already published
lconwaymacOS 12.7.6 Monterey / x86_64  OK    OK    OK    OK  NO, package depends on 'GenomicRanges' which is only available as a source package that needs compilation
kjohnson3macOS 13.7.7 Ventura / arm64  OK    OK    OK    OK  NO, package depends on 'GenomicRanges' which is only available as a source package that needs compilation


CHECK results for ensembldb on lconway

To the developers/maintainers of the ensembldb package:
- Allow up to 24 hours (and sometimes 48 hours) for your latest push to git@git.bioconductor.org:packages/ensembldb.git to reflect on this report. See Troubleshooting Build Report for more information.
- Use the following Renviron settings to reproduce errors and warnings.
- If 'R CMD check' started to fail recently on the Linux builder(s) over a missing dependency, add the missing dependency to 'Suggests:' in your DESCRIPTION file. See Renviron.bioc for more information.

raw results


Summary

Package: ensembldb
Version: 2.35.0
Command: /Library/Frameworks/R.framework/Resources/bin/R CMD check --install=check:ensembldb.install-out.txt --library=/Library/Frameworks/R.framework/Resources/library --no-vignettes --timings ensembldb_2.35.0.tar.gz
StartedAt: 2025-11-17 02:38:56 -0500 (Mon, 17 Nov 2025)
EndedAt: 2025-11-17 03:01:44 -0500 (Mon, 17 Nov 2025)
EllapsedTime: 1368.0 seconds
RetCode: 0
Status:   OK  
CheckDir: ensembldb.Rcheck
Warnings: 0

Command output

##############################################################################
##############################################################################
###
### Running command:
###
###   /Library/Frameworks/R.framework/Resources/bin/R CMD check --install=check:ensembldb.install-out.txt --library=/Library/Frameworks/R.framework/Resources/library --no-vignettes --timings ensembldb_2.35.0.tar.gz
###
##############################################################################
##############################################################################


* using log directory ‘/Users/biocbuild/bbs-3.23-bioc/meat/ensembldb.Rcheck’
* using R Under development (unstable) (2025-10-21 r88958)
* using platform: x86_64-apple-darwin20
* R was compiled by
    Apple clang version 14.0.0 (clang-1400.0.29.202)
    GNU Fortran (GCC) 14.2.0
* running under: macOS Ventura 13.7.8
* using session charset: UTF-8
* using option ‘--no-vignettes’
* checking for file ‘ensembldb/DESCRIPTION’ ... OK
* checking extension type ... Package
* this is package ‘ensembldb’ version ‘2.35.0’
* checking package namespace information ... OK
* checking package dependencies ... OK
* checking if this is a source package ... OK
* checking if there is a namespace ... OK
* checking for hidden files and directories ... OK
* checking for portable file names ... OK
* checking for sufficient/correct file permissions ... OK
* checking whether package ‘ensembldb’ can be installed ... OK
* checking installed package size ... OK
* checking package directory ... OK
* checking ‘build’ directory ... OK
* checking DESCRIPTION meta-information ... OK
* checking top-level files ... OK
* checking for left-over files ... OK
* checking index information ... OK
* checking package subdirectories ... OK
* checking code files for non-ASCII characters ... OK
* checking R files for syntax errors ... OK
* checking whether the package can be loaded ... OK
* checking whether the package can be loaded with stated dependencies ... OK
* checking whether the package can be unloaded cleanly ... OK
* checking whether the namespace can be loaded with stated dependencies ... OK
* checking whether the namespace can be unloaded cleanly ... OK
* checking whether startup messages can be suppressed ... OK
* checking dependencies in R code ... OK
* checking S3 generic/method consistency ... OK
* checking replacement functions ... OK
* checking foreign function calls ... OK
* checking R code for possible problems ... OK
* checking Rd files ... OK
* checking Rd metadata ... OK
* checking Rd cross-references ... NOTE
Found the following Rd file(s) with Rd \link{} targets missing package
anchors:
  EnsDb-exonsBy.Rd: supportedFilters, GRangesFilter
  EnsDb-sequences.Rd: TwoBitFile-class
  Filter-classes.Rd: AnnotationFilter, supportedFilters, GeneIdFilter
  ProteinFunctionality.Rd: supportedFilters
  proteinToTranscript.Rd: fiveUTRsByTranscript
Please provide package anchors for all Rd \link{} targets not in the
package itself and the base packages.
* checking for missing documentation entries ... OK
* checking for code/documentation mismatches ... OK
* checking Rd \usage sections ... OK
* checking Rd contents ... OK
* checking for unstated dependencies in examples ... OK
* checking files in ‘vignettes’ ... OK
* checking examples ... OK
Examples with CPU (user + system) or elapsed time > 5s
                      user system elapsed
transcriptToGenome  32.361 12.294 258.012
cdsToTranscript     23.405 11.008  37.190
transcriptToCds     18.310 10.225  30.119
genomeToTranscript  17.231  9.769 202.212
proteinToGenome      6.119  1.168   7.658
Filter-classes       3.105  2.619   8.336
transcriptToProtein  3.674  1.966   6.108
* checking for unstated dependencies in ‘tests’ ... OK
* checking tests ...
  Running ‘testthat.R’
 OK
* checking for unstated dependencies in vignettes ... OK
* checking package vignettes ... OK
* checking running R code from vignettes ... SKIPPED
* checking re-building of vignette outputs ... SKIPPED
* checking PDF version of manual ... OK
* DONE

Status: 1 NOTE
See
  ‘/Users/biocbuild/bbs-3.23-bioc/meat/ensembldb.Rcheck/00check.log’
for details.


Installation output

ensembldb.Rcheck/00install.out

##############################################################################
##############################################################################
###
### Running command:
###
###   /Library/Frameworks/R.framework/Resources/bin/R CMD INSTALL ensembldb
###
##############################################################################
##############################################################################


* installing to library ‘/Library/Frameworks/R.framework/Versions/4.6-x86_64/Resources/library’
* installing *source* package ‘ensembldb’ ...
** this is package ‘ensembldb’ version ‘2.35.0’
** using staged installation
** R
** inst
** byte-compile and prepare package for lazy loading
Creating a generic function from function ‘.cds_for_id2’ in package ‘ensembldb’
** help
*** installing help indices
** building package indices
** installing vignettes
** testing if installed package can be loaded from temporary location
** testing if installed package can be loaded from final location
** testing if installed package keeps a record of temporary installation path
* DONE (ensembldb)

Tests output

ensembldb.Rcheck/tests/testthat.Rout


R Under development (unstable) (2025-10-21 r88958) -- "Unsuffered Consequences"
Copyright (C) 2025 The R Foundation for Statistical Computing
Platform: x86_64-apple-darwin20

R is free software and comes with ABSOLUTELY NO WARRANTY.
You are welcome to redistribute it under certain conditions.
Type 'license()' or 'licence()' for distribution details.

R is a collaborative project with many contributors.
Type 'contributors()' for more information and
'citation()' on how to cite R or R packages in publications.

Type 'demo()' for some demos, 'help()' for on-line help, or
'help.start()' for an HTML browser interface to help.
Type 'q()' to quit R.

> library(testthat)
> library(ensembldb)
Loading required package: BiocGenerics
Loading required package: generics

Attaching package: 'generics'

The following objects are masked from 'package:base':

    as.difftime, as.factor, as.ordered, intersect, is.element, setdiff,
    setequal, union


Attaching package: 'BiocGenerics'

The following objects are masked from 'package:stats':

    IQR, mad, sd, var, xtabs

The following objects are masked from 'package:base':

    Filter, Find, Map, Position, Reduce, anyDuplicated, aperm, append,
    as.data.frame, basename, cbind, colnames, dirname, do.call,
    duplicated, eval, evalq, get, grep, grepl, is.unsorted, lapply,
    mapply, match, mget, order, paste, pmax, pmax.int, pmin, pmin.int,
    rank, rbind, rownames, sapply, saveRDS, table, tapply, unique,
    unsplit, which.max, which.min

Loading required package: GenomicRanges
Loading required package: stats4
Loading required package: S4Vectors

Attaching package: 'S4Vectors'

The following object is masked from 'package:utils':

    findMatches

The following objects are masked from 'package:base':

    I, expand.grid, unname

Loading required package: IRanges
Loading required package: Seqinfo
Loading required package: GenomicFeatures
Loading required package: AnnotationDbi
Loading required package: Biobase
Welcome to Bioconductor

    Vignettes contain introductory material; view with
    'browseVignettes()'. To cite Bioconductor, see
    'citation("Biobase")', and for packages 'citation("pkgname")'.

Loading required package: AnnotationFilter

Attaching package: 'AnnotationFilter'

The following object is masked from 'package:testthat':

    not


Attaching package: 'ensembldb'

The following object is masked from 'package:stats':

    filter

> library(EnsDb.Hsapiens.v86)
> edb <- EnsDb.Hsapiens.v86
> 
> test_check("ensembldb")
Creating package in /var/folders/db/4tvgx8jx4z3fm1gzlnlzw9rc0000gq/T//Rtmpo5mGJf/EnsDb.Hsapiens.v75 

Comparing chromosome data:
 Sequence names: (180) common, (0) only in x, (0) only in y.
 Sequence lengths: (180) identical, (0) different.
Done. Result: OK

Comparing gene data:
 gene IDs: (4045) common, (0) only in x, (0) only in y.
 Sequence names: (4045) identical, (0) different.
 Gene start coordinates: (4045) identical, (0) different.
 Gene end coordinates: (4045) identical, (0) different.
 Gene strand: (4045) identical, (0) different.
 Gene names: (132) identical, (3913) different.
 Entrezgene IDs: (4045) identical, (0) different.
 Gene biotypes: (4045) identical, (0) different.
Done. Result: WARN

Comparing transcript data:
 transcript IDs: (4045) common, (0) only in x, (0) only in y.
 Transcript start coordinates: (4045) identical, (0) different.
 Transcript end coordinates: (4045) identical, (0) different.
 Transcript biotypes: (4045) identical, (0) different.
 Common transcripts with defined CDS: (3996) common, (0) only in x, (0) only in y.
 CDS start coordinates: (3996) identical, (0) different.
 CDS end coordinates: (3996) identical, (0) different.
 Associated gene IDs: (4045) identical, (0) different.
Done. Result: OK

Comparing exon data:
 exon IDs: (4045) common, (0) only in x, (0) only in y.
 Exon start coordinates: (4045) identical, (0) different.
 Exon end coordinates: (4045) identical, (0) different.
 Exon index in transcript models: (4045) identical, (0) different.
Done. Result: OK

Comparing metadata:
 Ensembl versions match.
 Genome builds match.
 All differences: <name>: <value x> != <value y>
  -  Creation time : Mon Nov 17 02:54:23 2025  !=  Mon Nov 17 02:54:16 2025 
  -  source_file : Devosia_geojensis.ASM96941v1.32.gtf.gz  !=  Devosia_geojensis.ASM96941v1.32.gff3.gz 
Done. Result: NOTE

Comparing chromosome data:
 Sequence names: (180) common, (0) only in x, (0) only in y.
 Sequence lengths: (180) identical, (0) different.
Done. Result: OK

Comparing gene data:
 gene IDs: (4045) common, (0) only in x, (0) only in y.
 Sequence names: (4045) identical, (0) different.
 Gene start coordinates: (4045) identical, (0) different.
 Gene end coordinates: (4045) identical, (0) different.
 Gene strand: (4045) identical, (0) different.
 Gene names: (132) identical, (3913) different.
 Entrezgene IDs: (4045) identical, (0) different.
 Gene biotypes: (4045) identical, (0) different.
Done. Result: WARN

Comparing transcript data:
 transcript IDs: (4045) common, (0) only in x, (0) only in y.
 Transcript start coordinates: (4045) identical, (0) different.
 Transcript end coordinates: (4045) identical, (0) different.
 Transcript biotypes: (4045) identical, (0) different.
 Common transcripts with defined CDS: (3996) common, (0) only in x, (0) only in y.
 CDS start coordinates: (3996) identical, (0) different.
 CDS end coordinates: (3996) identical, (0) different.
 Associated gene IDs: (4045) identical, (0) different.
Done. Result: OK

Comparing exon data:
 exon IDs: (4045) common, (0) only in x, (0) only in y.
 Exon start coordinates: (4045) identical, (0) different.
 Exon end coordinates: (4045) identical, (0) different.
 Exon index in transcript models: (4045) identical, (0) different.
Done. Result: OK

Comparing protein data:
 protein IDs: (103725) common, (0) only in x, (0) only in y.
 Transcript IDs: (103725) identical, (0) different.
 Protein sequence: (103725) identical, (0) different.
Done. Result: OK
[ FAIL 0 | WARN 75 | SKIP 3 | PASS 1632 ]

══ Skipped tests (3) ═══════════════════════════════════════════════════════════
• empty test (3): 'test_Methods.R:129:1', 'test_Methods.R:273:1',
  'test_seqLevelStyle.R:40:1'

[ FAIL 0 | WARN 75 | SKIP 3 | PASS 1632 ]
Warning message:
call dbDisconnect() when finished working with a connection 
> 
> proc.time()
   user  system elapsed 
366.768  98.691 513.998 

Example timings

ensembldb.Rcheck/ensembldb-Ex.timings

nameusersystemelapsed
EnsDb-AnnotationDbi3.2580.6494.446
EnsDb-class0.8480.1220.996
EnsDb-exonsBy2.3460.7553.981
EnsDb-lengths1.0070.1481.175
EnsDb-seqlevels0.0640.0190.084
EnsDb-sequences0.0170.0020.019
EnsDb-utils0.2370.0050.242
EnsDb1.0930.1181.228
Filter-classes3.1052.6198.336
ProteinFunctionality0.0800.0230.107
cdsToTranscript23.40511.00837.190
convertFilter0.0300.0020.032
genomeToProtein4.1250.3064.473
genomeToTranscript 17.231 9.769202.212
global-filters0.1630.2230.549
hasProteinData-EnsDb-method0.0220.0060.031
listEnsDbs000
makeEnsemblDbPackage0.8140.2791.144
proteinToGenome6.1191.1687.658
proteinToTranscript2.6750.6093.485
transcriptToCds18.31010.22530.119
transcriptToGenome 32.361 12.294258.012
transcriptToProtein3.6741.9666.108
useMySQL-EnsDb-method0.0190.0040.027