| Back to Build/check report for BioC 3.23: simplified long |
|
This page was generated on 2025-11-06 11:32 -0500 (Thu, 06 Nov 2025).
| Hostname | OS | Arch (*) | R version | Installed pkgs |
|---|---|---|---|---|
| nebbiolo1 | Linux (Ubuntu 24.04.3 LTS) | x86_64 | R Under development (unstable) (2025-10-20 r88955) -- "Unsuffered Consequences" | 4818 |
| Click on any hostname to see more info about the system (e.g. compilers) (*) as reported by 'uname -p', except on Windows and Mac OS X | ||||
| Package 612/2323 | Hostname | OS / Arch | INSTALL | BUILD | CHECK | BUILD BIN | ||||||||
| doseR 1.27.0 (landing page) ake.vastermark
| nebbiolo1 | Linux (Ubuntu 24.04.3 LTS) / x86_64 | OK | OK | OK | |||||||||
|
To the developers/maintainers of the doseR package: - Allow up to 24 hours (and sometimes 48 hours) for your latest push to git@git.bioconductor.org:packages/doseR.git to reflect on this report. See Troubleshooting Build Report for more information. - Use the following Renviron settings to reproduce errors and warnings. - If 'R CMD check' started to fail recently on the Linux builder(s) over a missing dependency, add the missing dependency to 'Suggests:' in your DESCRIPTION file. See Renviron.bioc for more information. |
| Package: doseR |
| Version: 1.27.0 |
| Command: /home/biocbuild/bbs-3.23-bioc/R/bin/R CMD check --install=check:doseR.install-out.txt --library=/home/biocbuild/bbs-3.23-bioc/R/site-library --timings doseR_1.27.0.tar.gz |
| StartedAt: 2025-11-05 23:05:19 -0500 (Wed, 05 Nov 2025) |
| EndedAt: 2025-11-05 23:08:09 -0500 (Wed, 05 Nov 2025) |
| EllapsedTime: 170.2 seconds |
| RetCode: 0 |
| Status: OK |
| CheckDir: doseR.Rcheck |
| Warnings: 0 |
##############################################################################
##############################################################################
###
### Running command:
###
### /home/biocbuild/bbs-3.23-bioc/R/bin/R CMD check --install=check:doseR.install-out.txt --library=/home/biocbuild/bbs-3.23-bioc/R/site-library --timings doseR_1.27.0.tar.gz
###
##############################################################################
##############################################################################
* using log directory ‘/home/biocbuild/bbs-3.23-bioc/meat/doseR.Rcheck’
* using R Under development (unstable) (2025-10-20 r88955)
* using platform: x86_64-pc-linux-gnu
* R was compiled by
gcc (Ubuntu 13.3.0-6ubuntu2~24.04) 13.3.0
GNU Fortran (Ubuntu 13.3.0-6ubuntu2~24.04) 13.3.0
* running under: Ubuntu 24.04.3 LTS
* using session charset: UTF-8
* checking for file ‘doseR/DESCRIPTION’ ... OK
* checking extension type ... Package
* this is package ‘doseR’ version ‘1.27.0’
* package encoding: UTF-8
* checking package namespace information ... OK
* checking package dependencies ... OK
* checking if this is a source package ... OK
* checking if there is a namespace ... OK
* checking for hidden files and directories ... OK
* checking for portable file names ... OK
* checking for sufficient/correct file permissions ... OK
* checking whether package ‘doseR’ can be installed ... OK
* checking installed package size ... OK
* checking package directory ... OK
* checking ‘build’ directory ... OK
* checking DESCRIPTION meta-information ... OK
* checking top-level files ... OK
* checking for left-over files ... OK
* checking index information ... OK
* checking package subdirectories ... OK
* checking code files for non-ASCII characters ... OK
* checking R files for syntax errors ... OK
* checking whether the package can be loaded ... OK
* checking whether the package can be loaded with stated dependencies ... OK
* checking whether the package can be unloaded cleanly ... OK
* checking whether the namespace can be loaded with stated dependencies ... OK
* checking whether the namespace can be unloaded cleanly ... OK
* checking loading without being on the library search path ... OK
* checking dependencies in R code ... OK
* checking S3 generic/method consistency ... OK
* checking replacement functions ... OK
* checking foreign function calls ... OK
* checking R code for possible problems ... OK
* checking Rd files ... OK
* checking Rd metadata ... OK
* checking Rd cross-references ... OK
* checking for missing documentation entries ... OK
* checking for code/documentation mismatches ... OK
* checking Rd \usage sections ... OK
* checking Rd contents ... OK
* checking for unstated dependencies in examples ... OK
* checking contents of ‘data’ directory ... OK
* checking data for non-ASCII characters ... OK
* checking data for ASCII and uncompressed saves ... OK
* checking files in ‘vignettes’ ... OK
* checking examples ... OK
* checking for unstated dependencies in ‘tests’ ... OK
* checking tests ...
Running ‘1.R’
OK
* checking for unstated dependencies in vignettes ... OK
* checking package vignettes ... OK
* checking re-building of vignette outputs ... OK
* checking PDF version of manual ... OK
* DONE
Status: OK
doseR.Rcheck/00install.out
############################################################################## ############################################################################## ### ### Running command: ### ### /home/biocbuild/bbs-3.23-bioc/R/bin/R CMD INSTALL doseR ### ############################################################################## ############################################################################## * installing to library ‘/home/biocbuild/bbs-3.23-bioc/R/site-library’ * installing *source* package ‘doseR’ ... ** this is package ‘doseR’ version ‘1.27.0’ ** using staged installation ** R ** data ** inst ** byte-compile and prepare package for lazy loading ** help *** installing help indices ** building package indices ** installing vignettes ** testing if installed package can be loaded from temporary location ** testing if installed package can be loaded from final location ** testing if installed package keeps a record of temporary installation path * DONE (doseR)
doseR.Rcheck/tests/1.Rout
R Under development (unstable) (2025-10-20 r88955) -- "Unsuffered Consequences" Copyright (C) 2025 The R Foundation for Statistical Computing Platform: x86_64-pc-linux-gnu R is free software and comes with ABSOLUTELY NO WARRANTY. You are welcome to redistribute it under certain conditions. Type 'license()' or 'licence()' for distribution details. R is a collaborative project with many contributors. Type 'contributors()' for more information and 'citation()' on how to cite R or R packages in publications. Type 'demo()' for some demos, 'help()' for on-line help, or 'help.start()' for an HTML browser interface to help. Type 'q()' to quit R. > > library(doseR) > > data(hmel.se) > f_se <- quantFilter(se, lo.bound = 0.4, hi.bound = 0.5) Filtering removed 12660 (92.96%) of 13619 total loci. > dm <- se.DM(f_se) > temp <- glSeq(dm, "-1 + replicate") > > RUnit::checkEqualsNumeric(round(temp@optinfo$val[4], 1), round(6.008, 1)) [1] TRUE > RUnit::checkEqualsNumeric(round(temp@optinfo$val[5], 1), round(5.840, 1)) [1] TRUE > > proc.time() user system elapsed 9.471 0.361 9.823
doseR.Rcheck/doseR-Ex.timings
| name | user | system | elapsed | |
| dafs | 3.343 | 0.051 | 3.396 | |
| dafsFilter | 2.360 | 0.035 | 2.395 | |
| generateStats | 0.109 | 0.004 | 0.113 | |
| getLibsizes3 | 0.085 | 0.004 | 0.089 | |
| glSeq | 2.438 | 0.048 | 2.487 | |
| iqrxFilter | 0.107 | 0.002 | 0.109 | |
| make_RPKM | 0.100 | 0.006 | 0.106 | |
| plotExpr | 0.114 | 0.005 | 0.119 | |
| plotMA.se | 0.211 | 0.010 | 0.221 | |
| plotRatioBoxes | 0.293 | 0.003 | 0.296 | |
| plotRatioDensity | 0.124 | 0.005 | 0.129 | |
| quantFilter | 0.086 | 0.004 | 0.089 | |
| se.DM | 0.235 | 0.002 | 0.236 | |
| simpleFilter | 0.208 | 0.005 | 0.213 | |
| test_diffs | 0.124 | 0.003 | 0.127 | |