| Back to Multiple platform build/check report for BioC 3.22: simplified long |
|
This page was generated on 2025-10-23 12:07 -0400 (Thu, 23 Oct 2025).
| Hostname | OS | Arch (*) | R version | Installed pkgs |
|---|---|---|---|---|
| nebbiolo2 | Linux (Ubuntu 24.04.3 LTS) | x86_64 | 4.5.1 Patched (2025-08-23 r88802) -- "Great Square Root" | 4894 |
| lconway | macOS 12.7.6 Monterey | x86_64 | 4.5.1 Patched (2025-09-10 r88807) -- "Great Square Root" | 4684 |
| kjohnson3 | macOS 13.7.7 Ventura | arm64 | 4.5.1 Patched (2025-09-10 r88807) -- "Great Square Root" | 4629 |
| taishan | Linux (openEuler 24.03 LTS) | aarch64 | 4.5.0 (2025-04-11) -- "How About a Twenty-Six" | 4642 |
| Click on any hostname to see more info about the system (e.g. compilers) (*) as reported by 'uname -p', except on Windows and Mac OS X | ||||
| Package 574/2355 | Hostname | OS / Arch | INSTALL | BUILD | CHECK | BUILD BIN | ||||||||
| destiny 3.23.0 (landing page) Philipp Angerer
| nebbiolo2 | Linux (Ubuntu 24.04.3 LTS) / x86_64 | OK | OK | ERROR | |||||||||
| lconway | macOS 12.7.6 Monterey / x86_64 | OK | OK | ERROR | OK | |||||||||
| kjohnson3 | macOS 13.7.7 Ventura / arm64 | OK | OK | ERROR | OK | |||||||||
| taishan | Linux (openEuler 24.03 LTS) / aarch64 | OK | OK | ERROR | ||||||||||
|
To the developers/maintainers of the destiny package: - Allow up to 24 hours (and sometimes 48 hours) for your latest push to git@git.bioconductor.org:packages/destiny.git to reflect on this report. See Troubleshooting Build Report for more information. - Use the following Renviron settings to reproduce errors and warnings. - If 'R CMD check' started to fail recently on the Linux builder(s) over a missing dependency, add the missing dependency to 'Suggests:' in your DESCRIPTION file. See Renviron.bioc for more information. - See Martin Grigorov's blog post for how to debug Linux ARM64 related issues on a x86_64 host. |
| Package: destiny |
| Version: 3.23.0 |
| Command: /home/biocbuild/R/R/bin/R CMD INSTALL destiny |
| StartedAt: 2025-10-20 20:34:37 -0000 (Mon, 20 Oct 2025) |
| EndedAt: 2025-10-20 20:35:48 -0000 (Mon, 20 Oct 2025) |
| EllapsedTime: 70.9 seconds |
| RetCode: 0 |
| Status: OK |
##############################################################################
##############################################################################
###
### Running command:
###
### /home/biocbuild/R/R/bin/R CMD INSTALL destiny
###
##############################################################################
##############################################################################
* installing to library ‘/home/biocbuild/R/R-4.5.0/site-library’
* installing *source* package ‘destiny’ ...
** this is package ‘destiny’ version ‘3.23.0’
** using staged installation
** libs
using C++ compiler: ‘aarch64-unknown-linux-gnu-g++ (GCC) 14.2.0’
using C++11
/opt/ohpc/pub/compiler/gcc/14.2.0/bin/aarch64-unknown-linux-gnu-g++ -std=gnu++11 -I"/home/biocbuild/R/R-4.5.0/include" -DNDEBUG -I'/home/biocbuild/R/R-4.5.0/site-library/Rcpp/include' -I'/home/biocbuild/R/R-4.5.0/site-library/RcppEigen/include' -I'/home/biocbuild/R/R-4.5.0/library/grDevices/include' -I/usr/local/include -ggdb -fPIC -g -O2 -Wall -Werror=format-security -c RcppExports.cpp -o RcppExports.o
In file included from /home/biocbuild/R/R-4.5.0/site-library/RcppEigen/include/Eigen/Core:214,
from /home/biocbuild/R/R-4.5.0/site-library/RcppEigen/include/Eigen/Dense:1,
from /home/biocbuild/R/R-4.5.0/site-library/RcppEigen/include/RcppEigenForward.h:28,
from /home/biocbuild/R/R-4.5.0/site-library/RcppEigen/include/RcppEigen.h:25,
from RcppExports.cpp:4:
/home/biocbuild/R/R-4.5.0/site-library/RcppEigen/include/Eigen/src/Core/arch/NEON/PacketMath.h: In function ‘Packet Eigen::internal::pload(const typename unpacket_traits<T>::type*) [with Packet = eigen_packet_wrapper<int, 2>; typename unpacket_traits<T>::type = signed char]’:
/home/biocbuild/R/R-4.5.0/site-library/RcppEigen/include/Eigen/src/Core/arch/NEON/PacketMath.h:1671:9: warning: ‘void* memcpy(void*, const void*, size_t)’ copying an object of non-trivial type ‘Eigen::internal::Packet4c’ {aka ‘struct Eigen::internal::eigen_packet_wrapper<int, 2>’} from an array of ‘const int8_t’ {aka ‘const signed char’} [-Wclass-memaccess]
1671 | memcpy(&res, from, sizeof(Packet4c));
| ~~~~~~^~~~~~~~~~~~~~~~~~~~~~~~~~~~~~
In file included from /home/biocbuild/R/R-4.5.0/site-library/RcppEigen/include/Eigen/Core:172:
/home/biocbuild/R/R-4.5.0/site-library/RcppEigen/include/Eigen/src/Core/GenericPacketMath.h:159:8: note: ‘Eigen::internal::Packet4c’ {aka ‘struct Eigen::internal::eigen_packet_wrapper<int, 2>’} declared here
159 | struct eigen_packet_wrapper
| ^~~~~~~~~~~~~~~~~~~~
/home/biocbuild/R/R-4.5.0/site-library/RcppEigen/include/Eigen/src/Core/arch/NEON/PacketMath.h: In function ‘Packet Eigen::internal::ploadu(const typename unpacket_traits<T>::type*) [with Packet = eigen_packet_wrapper<int, 2>; typename unpacket_traits<T>::type = signed char]’:
/home/biocbuild/R/R-4.5.0/site-library/RcppEigen/include/Eigen/src/Core/arch/NEON/PacketMath.h:1716:9: warning: ‘void* memcpy(void*, const void*, size_t)’ copying an object of non-trivial type ‘Eigen::internal::Packet4c’ {aka ‘struct Eigen::internal::eigen_packet_wrapper<int, 2>’} from an array of ‘const int8_t’ {aka ‘const signed char’} [-Wclass-memaccess]
1716 | memcpy(&res, from, sizeof(Packet4c));
| ~~~~~~^~~~~~~~~~~~~~~~~~~~~~~~~~~~~~
/home/biocbuild/R/R-4.5.0/site-library/RcppEigen/include/Eigen/src/Core/GenericPacketMath.h:159:8: note: ‘Eigen::internal::Packet4c’ {aka ‘struct Eigen::internal::eigen_packet_wrapper<int, 2>’} declared here
159 | struct eigen_packet_wrapper
| ^~~~~~~~~~~~~~~~~~~~
/opt/ohpc/pub/compiler/gcc/14.2.0/bin/aarch64-unknown-linux-gnu-g++ -std=gnu++11 -I"/home/biocbuild/R/R-4.5.0/include" -DNDEBUG -I'/home/biocbuild/R/R-4.5.0/site-library/Rcpp/include' -I'/home/biocbuild/R/R-4.5.0/site-library/RcppEigen/include' -I'/home/biocbuild/R/R-4.5.0/library/grDevices/include' -I/usr/local/include -ggdb -fPIC -g -O2 -Wall -Werror=format-security -c censoring.cpp -o censoring.o
In file included from /home/biocbuild/R/R-4.5.0/site-library/RcppEigen/include/Eigen/Core:214,
from /home/biocbuild/R/R-4.5.0/site-library/RcppEigen/include/Eigen/Dense:1,
from /home/biocbuild/R/R-4.5.0/site-library/RcppEigen/include/RcppEigenForward.h:28,
from /home/biocbuild/R/R-4.5.0/site-library/RcppEigen/include/RcppEigen.h:25,
from censoring.cpp:7:
/home/biocbuild/R/R-4.5.0/site-library/RcppEigen/include/Eigen/src/Core/arch/NEON/PacketMath.h: In function ‘Packet Eigen::internal::pload(const typename unpacket_traits<T>::type*) [with Packet = eigen_packet_wrapper<int, 2>; typename unpacket_traits<T>::type = signed char]’:
/home/biocbuild/R/R-4.5.0/site-library/RcppEigen/include/Eigen/src/Core/arch/NEON/PacketMath.h:1671:9: warning: ‘void* memcpy(void*, const void*, size_t)’ copying an object of non-trivial type ‘Eigen::internal::Packet4c’ {aka ‘struct Eigen::internal::eigen_packet_wrapper<int, 2>’} from an array of ‘const int8_t’ {aka ‘const signed char’} [-Wclass-memaccess]
1671 | memcpy(&res, from, sizeof(Packet4c));
| ~~~~~~^~~~~~~~~~~~~~~~~~~~~~~~~~~~~~
In file included from /home/biocbuild/R/R-4.5.0/site-library/RcppEigen/include/Eigen/Core:172:
/home/biocbuild/R/R-4.5.0/site-library/RcppEigen/include/Eigen/src/Core/GenericPacketMath.h:159:8: note: ‘Eigen::internal::Packet4c’ {aka ‘struct Eigen::internal::eigen_packet_wrapper<int, 2>’} declared here
159 | struct eigen_packet_wrapper
| ^~~~~~~~~~~~~~~~~~~~
/home/biocbuild/R/R-4.5.0/site-library/RcppEigen/include/Eigen/src/Core/arch/NEON/PacketMath.h: In function ‘Packet Eigen::internal::ploadu(const typename unpacket_traits<T>::type*) [with Packet = eigen_packet_wrapper<int, 2>; typename unpacket_traits<T>::type = signed char]’:
/home/biocbuild/R/R-4.5.0/site-library/RcppEigen/include/Eigen/src/Core/arch/NEON/PacketMath.h:1716:9: warning: ‘void* memcpy(void*, const void*, size_t)’ copying an object of non-trivial type ‘Eigen::internal::Packet4c’ {aka ‘struct Eigen::internal::eigen_packet_wrapper<int, 2>’} from an array of ‘const int8_t’ {aka ‘const signed char’} [-Wclass-memaccess]
1716 | memcpy(&res, from, sizeof(Packet4c));
| ~~~~~~^~~~~~~~~~~~~~~~~~~~~~~~~~~~~~
/home/biocbuild/R/R-4.5.0/site-library/RcppEigen/include/Eigen/src/Core/GenericPacketMath.h:159:8: note: ‘Eigen::internal::Packet4c’ {aka ‘struct Eigen::internal::eigen_packet_wrapper<int, 2>’} declared here
159 | struct eigen_packet_wrapper
| ^~~~~~~~~~~~~~~~~~~~
/opt/ohpc/pub/compiler/gcc/14.2.0/bin/aarch64-unknown-linux-gnu-g++ -std=gnu++11 -I"/home/biocbuild/R/R-4.5.0/include" -DNDEBUG -I'/home/biocbuild/R/R-4.5.0/site-library/Rcpp/include' -I'/home/biocbuild/R/R-4.5.0/site-library/RcppEigen/include' -I'/home/biocbuild/R/R-4.5.0/library/grDevices/include' -I/usr/local/include -ggdb -fPIC -g -O2 -Wall -Werror=format-security -c utils.cpp -o utils.o
/opt/ohpc/pub/compiler/gcc/14.2.0/bin/aarch64-unknown-linux-gnu-g++ -std=gnu++11 -shared -L/home/biocbuild/R/R-4.5.0/lib -L/usr/local/lib -o destiny.so RcppExports.o censoring.o utils.o -L/home/biocbuild/R/R-4.5.0/lib -lR
installing to /home/biocbuild/R/R-4.5.0/site-library/00LOCK-destiny/00new/destiny/libs
** R
** data
** demo
** inst
** byte-compile and prepare package for lazy loading
** help
*** installing help indices
** building package indices
** installing vignettes
** testing if installed package can be loaded from temporary location
** checking absolute paths in shared objects and dynamic libraries
** testing if installed package can be loaded from final location
** testing if installed package keeps a record of temporary installation path
* DONE (destiny)