Back to Multiple platform build/check report for BioC 3.23:   simplified   long
ABC[D]EFGHIJKLMNOPQRSTUVWXYZ

This page was generated on 2025-11-22 11:37 -0500 (Sat, 22 Nov 2025).

HostnameOSArch (*)R versionInstalled pkgs
nebbiolo1Linux (Ubuntu 24.04.3 LTS)x86_64R Under development (unstable) (2025-10-20 r88955) -- "Unsuffered Consequences" 4829
lconwaymacOS 12.7.6 Montereyx86_64R Under development (unstable) (2025-10-21 r88958) -- "Unsuffered Consequences" 4603
kjohnson3macOS 13.7.7 Venturaarm64R Under development (unstable) (2025-11-04 r88984) -- "Unsuffered Consequences" 4567
Click on any hostname to see more info about the system (e.g. compilers)      (*) as reported by 'uname -p', except on Windows and Mac OS X

Package 527/2327HostnameOS / ArchINSTALLBUILDCHECKBUILD BIN
decompTumor2Sig 2.27.0  (landing page)
Rosario M. Piro
Snapshot Date: 2025-11-21 13:40 -0500 (Fri, 21 Nov 2025)
git_url: https://git.bioconductor.org/packages/decompTumor2Sig
git_branch: devel
git_last_commit: d30b743
git_last_commit_date: 2025-10-29 10:49:06 -0500 (Wed, 29 Oct 2025)
nebbiolo1Linux (Ubuntu 24.04.3 LTS) / x86_64  OK    OK    OK  UNNEEDED, same version is already published
lconwaymacOS 12.7.6 Monterey / x86_64  OK    OK    OK    OK  NO, package depends on 'GenomicRanges' which is only available as a source package that needs compilation
kjohnson3macOS 13.7.7 Ventura / arm64  OK    TIMEOUT  skippedskipped


CHECK results for decompTumor2Sig on nebbiolo1

To the developers/maintainers of the decompTumor2Sig package:
- Allow up to 24 hours (and sometimes 48 hours) for your latest push to git@git.bioconductor.org:packages/decompTumor2Sig.git to reflect on this report. See Troubleshooting Build Report for more information.
- Use the following Renviron settings to reproduce errors and warnings.
- If 'R CMD check' started to fail recently on the Linux builder(s) over a missing dependency, add the missing dependency to 'Suggests:' in your DESCRIPTION file. See Renviron.bioc for more information.

raw results


Summary

Package: decompTumor2Sig
Version: 2.27.0
Command: /home/biocbuild/bbs-3.23-bioc/R/bin/R CMD check --install=check:decompTumor2Sig.install-out.txt --library=/home/biocbuild/bbs-3.23-bioc/R/site-library --timings decompTumor2Sig_2.27.0.tar.gz
StartedAt: 2025-11-21 22:43:11 -0500 (Fri, 21 Nov 2025)
EndedAt: 2025-11-21 22:54:07 -0500 (Fri, 21 Nov 2025)
EllapsedTime: 655.8 seconds
RetCode: 0
Status:   OK  
CheckDir: decompTumor2Sig.Rcheck
Warnings: 0

Command output

##############################################################################
##############################################################################
###
### Running command:
###
###   /home/biocbuild/bbs-3.23-bioc/R/bin/R CMD check --install=check:decompTumor2Sig.install-out.txt --library=/home/biocbuild/bbs-3.23-bioc/R/site-library --timings decompTumor2Sig_2.27.0.tar.gz
###
##############################################################################
##############################################################################


* using log directory ‘/home/biocbuild/bbs-3.23-bioc/meat/decompTumor2Sig.Rcheck’
* using R Under development (unstable) (2025-10-20 r88955)
* using platform: x86_64-pc-linux-gnu
* R was compiled by
    gcc (Ubuntu 13.3.0-6ubuntu2~24.04) 13.3.0
    GNU Fortran (Ubuntu 13.3.0-6ubuntu2~24.04) 13.3.0
* running under: Ubuntu 24.04.3 LTS
* using session charset: UTF-8
* checking for file ‘decompTumor2Sig/DESCRIPTION’ ... OK
* checking extension type ... Package
* this is package ‘decompTumor2Sig’ version ‘2.27.0’
* package encoding: UTF-8
* checking package namespace information ... OK
* checking package dependencies ... OK
* checking if this is a source package ... OK
* checking if there is a namespace ... OK
* checking for hidden files and directories ... OK
* checking for portable file names ... OK
* checking for sufficient/correct file permissions ... OK
* checking whether package ‘decompTumor2Sig’ can be installed ... OK
* checking installed package size ... OK
* checking package directory ... OK
* checking ‘build’ directory ... OK
* checking DESCRIPTION meta-information ... OK
* checking top-level files ... OK
* checking for left-over files ... OK
* checking index information ... OK
* checking package subdirectories ... OK
* checking code files for non-ASCII characters ... OK
* checking R files for syntax errors ... OK
* checking whether the package can be loaded ... OK
* checking whether the package can be loaded with stated dependencies ... OK
* checking whether the package can be unloaded cleanly ... OK
* checking whether the namespace can be loaded with stated dependencies ... OK
* checking whether the namespace can be unloaded cleanly ... OK
* checking loading without being on the library search path ... OK
* checking whether startup messages can be suppressed ... OK
* checking dependencies in R code ... OK
* checking S3 generic/method consistency ... OK
* checking replacement functions ... OK
* checking foreign function calls ... OK
* checking R code for possible problems ... OK
* checking Rd files ... OK
* checking Rd metadata ... OK
* checking Rd cross-references ... OK
* checking for missing documentation entries ... OK
* checking for code/documentation mismatches ... OK
* checking Rd \usage sections ... OK
* checking Rd contents ... OK
* checking for unstated dependencies in examples ... OK
* checking files in ‘vignettes’ ... OK
* checking examples ... OK
Examples with CPU (user + system) or elapsed time > 5s
                               user system elapsed
plotExplainedVariance        63.463  1.159  64.636
convertGenomesFromVRanges     6.558  1.016   7.575
adjustSignaturesForRegionSet  5.038  0.624   6.994
isExposureSet                 4.073  1.099   5.796
* checking for unstated dependencies in vignettes ... OK
* checking package vignettes ... OK
* checking re-building of vignette outputs ... OK
* checking PDF version of manual ... OK
* DONE

Status: OK


Installation output

decompTumor2Sig.Rcheck/00install.out

##############################################################################
##############################################################################
###
### Running command:
###
###   /home/biocbuild/bbs-3.23-bioc/R/bin/R CMD INSTALL decompTumor2Sig
###
##############################################################################
##############################################################################


* installing to library ‘/home/biocbuild/bbs-3.23-bioc/R/site-library’
* installing *source* package ‘decompTumor2Sig’ ...
** this is package ‘decompTumor2Sig’ version ‘2.27.0’
** using staged installation
** R
** inst
** byte-compile and prepare package for lazy loading
** help
*** installing help indices
** building package indices
** installing vignettes
** testing if installed package can be loaded from temporary location
** testing if installed package can be loaded from final location
** testing if installed package keeps a record of temporary installation path
* DONE (decompTumor2Sig)

Tests output


Example timings

decompTumor2Sig.Rcheck/decompTumor2Sig-Ex.timings

nameusersystemelapsed
adjustSignaturesForRegionSet5.0380.6246.994
composeGenomesFromExposures0.2750.0341.332
computeExplainedVariance0.2930.0551.173
convertAlexandrov2Shiraishi0.1320.0050.943
convertGenomesFromVRanges6.5581.0167.575
decomposeTumorGenomes2.9140.8484.394
determineSignatureDistances0.1300.0370.785
downgradeShiraishiSignatures0.0060.0040.009
evaluateDecompositionQuality0.2400.0991.159
getGenomesFromMutFeatData0.4040.0730.479
getSignaturesFromEstParam0.1220.0040.127
isAlexandrovSet0.0980.0270.947
isExposureSet4.0731.0995.796
isShiraishiSet0.1350.0380.816
isSignatureSet0.0800.0040.721
mapSignatureSets0.1630.0110.804
plotDecomposedContribution0.6750.1401.445
plotExplainedVariance63.463 1.15964.636
plotMutationDistribution3.0630.2024.216
readAlexandrovSignatures0.1010.0260.765
readGenomesFromMPF3.2721.0464.319
readGenomesFromVCF3.6620.5964.258
readShiraishiSignatures0.0050.0000.005
sameSignatureFormat0.1320.0430.819