| Back to Build/check report for BioC 3.23: simplified long |
|
This page was generated on 2025-11-06 11:32 -0500 (Thu, 06 Nov 2025).
| Hostname | OS | Arch (*) | R version | Installed pkgs |
|---|---|---|---|---|
| nebbiolo1 | Linux (Ubuntu 24.04.3 LTS) | x86_64 | R Under development (unstable) (2025-10-20 r88955) -- "Unsuffered Consequences" | 4818 |
| Click on any hostname to see more info about the system (e.g. compilers) (*) as reported by 'uname -p', except on Windows and Mac OS X | ||||
| Package 521/2323 | Hostname | OS / Arch | INSTALL | BUILD | CHECK | BUILD BIN | ||||||||
| dearseq 1.23.0 (landing page) Boris P. Hejblum
| nebbiolo1 | Linux (Ubuntu 24.04.3 LTS) / x86_64 | OK | OK | OK | |||||||||
|
To the developers/maintainers of the dearseq package: - Allow up to 24 hours (and sometimes 48 hours) for your latest push to git@git.bioconductor.org:packages/dearseq.git to reflect on this report. See Troubleshooting Build Report for more information. - Use the following Renviron settings to reproduce errors and warnings. - If 'R CMD check' started to fail recently on the Linux builder(s) over a missing dependency, add the missing dependency to 'Suggests:' in your DESCRIPTION file. See Renviron.bioc for more information. |
| Package: dearseq |
| Version: 1.23.0 |
| Command: /home/biocbuild/bbs-3.23-bioc/R/bin/R CMD check --install=check:dearseq.install-out.txt --library=/home/biocbuild/bbs-3.23-bioc/R/site-library --timings dearseq_1.23.0.tar.gz |
| StartedAt: 2025-11-05 22:37:36 -0500 (Wed, 05 Nov 2025) |
| EndedAt: 2025-11-05 22:45:47 -0500 (Wed, 05 Nov 2025) |
| EllapsedTime: 491.5 seconds |
| RetCode: 0 |
| Status: OK |
| CheckDir: dearseq.Rcheck |
| Warnings: 0 |
##############################################################################
##############################################################################
###
### Running command:
###
### /home/biocbuild/bbs-3.23-bioc/R/bin/R CMD check --install=check:dearseq.install-out.txt --library=/home/biocbuild/bbs-3.23-bioc/R/site-library --timings dearseq_1.23.0.tar.gz
###
##############################################################################
##############################################################################
* using log directory ‘/home/biocbuild/bbs-3.23-bioc/meat/dearseq.Rcheck’
* using R Under development (unstable) (2025-10-20 r88955)
* using platform: x86_64-pc-linux-gnu
* R was compiled by
gcc (Ubuntu 13.3.0-6ubuntu2~24.04) 13.3.0
GNU Fortran (Ubuntu 13.3.0-6ubuntu2~24.04) 13.3.0
* running under: Ubuntu 24.04.3 LTS
* using session charset: UTF-8
* checking for file ‘dearseq/DESCRIPTION’ ... OK
* checking extension type ... Package
* this is package ‘dearseq’ version ‘1.23.0’
* package encoding: UTF-8
* checking package namespace information ... OK
* checking package dependencies ... OK
* checking if this is a source package ... OK
* checking if there is a namespace ... OK
* checking for hidden files and directories ... OK
* checking for portable file names ... OK
* checking for sufficient/correct file permissions ... OK
* checking whether package ‘dearseq’ can be installed ... OK
* checking installed package size ... OK
* checking package directory ... OK
* checking ‘build’ directory ... OK
* checking DESCRIPTION meta-information ... OK
* checking top-level files ... OK
* checking for left-over files ... OK
* checking index information ... OK
* checking package subdirectories ... OK
* checking code files for non-ASCII characters ... OK
* checking R files for syntax errors ... OK
* checking whether the package can be loaded ... OK
* checking whether the package can be loaded with stated dependencies ... OK
* checking whether the package can be unloaded cleanly ... OK
* checking whether the namespace can be loaded with stated dependencies ... OK
* checking whether the namespace can be unloaded cleanly ... OK
* checking loading without being on the library search path ... OK
* checking dependencies in R code ... OK
* checking S3 generic/method consistency ... OK
* checking replacement functions ... OK
* checking foreign function calls ... OK
* checking R code for possible problems ... OK
* checking Rd files ... NOTE
checkRd: (-1) plot.dearseq.Rd:12: Lost braces; missing escapes or markup?
12 | \item{signif_threshold}{a value between \code{0} and {1} specifying the
| ^
checkRd: (-1) plot_ord_pvals.Rd:13: Lost braces; missing escapes or markup?
13 | \item{signif_threshold}{a value between \code{0} and {1} specifying the
| ^
checkRd: (-1) summary.dearseq.Rd:15: Lost braces; missing escapes or markup?
15 | \item{signif_threshold}{a value between \code{0} and {1} specifying the
| ^
* checking Rd metadata ... OK
* checking Rd cross-references ... NOTE
Non-topic package-anchored link(s) in Rd file 'dear_seq.Rd':
‘[Biobase:class.ExpressionSet]{ExpressionSet}’ ‘[stats]{bandwidth}’
Non-topic package-anchored link(s) in Rd file 'dgsa_seq.Rd':
‘[Biobase:class.ExpressionSet]{ExpressionSet}’ ‘[stats]{bandwidth}’
Non-topic package-anchored link(s) in Rd file 'sp_weights.Rd':
‘[stats]{bandwidth}’
See section 'Cross-references' in the 'Writing R Extensions' manual.
* checking for missing documentation entries ... OK
* checking for code/documentation mismatches ... OK
* checking Rd \usage sections ... OK
* checking Rd contents ... OK
* checking for unstated dependencies in examples ... OK
* checking contents of ‘data’ directory ... OK
* checking data for non-ASCII characters ... OK
* checking data for ASCII and uncompressed saves ... OK
* checking files in ‘vignettes’ ... OK
* checking examples ... OK
* checking for unstated dependencies in ‘tests’ ... OK
* checking tests ...
Running ‘testthat.R’
OK
* checking for unstated dependencies in vignettes ... OK
* checking package vignettes ... OK
* checking re-building of vignette outputs ... OK
* checking PDF version of manual ... OK
* DONE
Status: 2 NOTEs
See
‘/home/biocbuild/bbs-3.23-bioc/meat/dearseq.Rcheck/00check.log’
for details.
dearseq.Rcheck/00install.out
############################################################################## ############################################################################## ### ### Running command: ### ### /home/biocbuild/bbs-3.23-bioc/R/bin/R CMD INSTALL dearseq ### ############################################################################## ############################################################################## * installing to library ‘/home/biocbuild/bbs-3.23-bioc/R/site-library’ * installing *source* package ‘dearseq’ ... ** this is package ‘dearseq’ version ‘1.23.0’ ** using staged installation ** R ** data ** inst ** byte-compile and prepare package for lazy loading ** help *** installing help indices *** copying figures ** building package indices ** installing vignettes ** testing if installed package can be loaded from temporary location ** testing if installed package can be loaded from final location ** testing if installed package keeps a record of temporary installation path * DONE (dearseq)
dearseq.Rcheck/tests/testthat.Rout
R Under development (unstable) (2025-10-20 r88955) -- "Unsuffered Consequences"
Copyright (C) 2025 The R Foundation for Statistical Computing
Platform: x86_64-pc-linux-gnu
R is free software and comes with ABSOLUTELY NO WARRANTY.
You are welcome to redistribute it under certain conditions.
Type 'license()' or 'licence()' for distribution details.
R is a collaborative project with many contributors.
Type 'contributors()' for more information and
'citation()' on how to cite R or R packages in publications.
Type 'demo()' for some demos, 'help()' for on-line help, or
'help.start()' for an HTML browser interface to help.
Type 'q()' to quit R.
> library(testthat)
> library(dearseq)
>
> test_check("dearseq")
[ FAIL 0 | WARN 0 | SKIP 0 | PASS 5 ]
>
> proc.time()
user system elapsed
4.750 0.396 5.134
dearseq.Rcheck/dearseq-Ex.timings
| name | user | system | elapsed | |
| PBT_gmt | 0.002 | 0.006 | 0.008 | |
| baduel_5gs | 0.001 | 0.000 | 0.001 | |
| dear_seq | 0.48 | 0.04 | 0.52 | |
| dgsa_seq | 0.192 | 0.000 | 0.191 | |
| permPvals | 0.002 | 0.000 | 0.002 | |
| plot_hist_pvals | 1.267 | 0.012 | 1.279 | |
| plot_ord_pvals | 0.865 | 0.144 | 1.009 | |
| plot_weights | 0.025 | 0.000 | 0.025 | |
| sp_weights | 0.093 | 0.015 | 0.108 | |
| spaghettiPlot1GS | 1.695 | 0.017 | 1.712 | |
| vc_score | 0.004 | 0.000 | 0.004 | |
| vc_score_h | 0.035 | 0.000 | 0.035 | |
| vc_score_h_perm | 0.103 | 0.021 | 0.124 | |
| vc_score_perm | 0.291 | 0.003 | 0.294 | |
| vc_test_asym | 0.079 | 0.001 | 0.080 | |
| vc_test_perm | 0.018 | 0.000 | 0.018 | |
| voom_weights | 1.871 | 0.088 | 1.960 | |