Back to Multiple platform build/check report for BioC 3.23:   simplified   long
ABC[D]EFGHIJKLMNOPQRSTUVWXYZ

This page was generated on 2025-11-17 11:38 -0500 (Mon, 17 Nov 2025).

HostnameOSArch (*)R versionInstalled pkgs
nebbiolo1Linux (Ubuntu 24.04.3 LTS)x86_64R Under development (unstable) (2025-10-20 r88955) -- "Unsuffered Consequences" 4826
lconwaymacOS 12.7.6 Montereyx86_64R Under development (unstable) (2025-10-21 r88958) -- "Unsuffered Consequences" 4491
kjohnson3macOS 13.7.7 Venturaarm64R Under development (unstable) (2025-11-04 r88984) -- "Unsuffered Consequences" 4562
Click on any hostname to see more info about the system (e.g. compilers)      (*) as reported by 'uname -p', except on Windows and Mac OS X

Package 514/2325HostnameOS / ArchINSTALLBUILDCHECKBUILD BIN
dar 1.7.0  (landing page)
Francesc Catala-Moll
Snapshot Date: 2025-11-16 13:40 -0500 (Sun, 16 Nov 2025)
git_url: https://git.bioconductor.org/packages/dar
git_branch: devel
git_last_commit: 6a93481
git_last_commit_date: 2025-10-29 11:27:31 -0500 (Wed, 29 Oct 2025)
nebbiolo1Linux (Ubuntu 24.04.3 LTS) / x86_64  OK    OK    OK  UNNEEDED, same version is already published
lconwaymacOS 12.7.6 Monterey / x86_64  OK    OK    OK    OK  NO, package depends on 'mia' which is only available as a source package that needs compilation
kjohnson3macOS 13.7.7 Ventura / arm64  OK    OK    OK    OK  NO, package depends on 'mia' which is only available as a source package that needs compilation


CHECK results for dar on nebbiolo1

To the developers/maintainers of the dar package:
- Allow up to 24 hours (and sometimes 48 hours) for your latest push to git@git.bioconductor.org:packages/dar.git to reflect on this report. See Troubleshooting Build Report for more information.
- Use the following Renviron settings to reproduce errors and warnings.
- If 'R CMD check' started to fail recently on the Linux builder(s) over a missing dependency, add the missing dependency to 'Suggests:' in your DESCRIPTION file. See Renviron.bioc for more information.

raw results


Summary

Package: dar
Version: 1.7.0
Command: /home/biocbuild/bbs-3.23-bioc/R/bin/R CMD check --install=check:dar.install-out.txt --library=/home/biocbuild/bbs-3.23-bioc/R/site-library --timings dar_1.7.0.tar.gz
StartedAt: 2025-11-16 22:45:24 -0500 (Sun, 16 Nov 2025)
EndedAt: 2025-11-16 22:58:44 -0500 (Sun, 16 Nov 2025)
EllapsedTime: 800.9 seconds
RetCode: 0
Status:   OK  
CheckDir: dar.Rcheck
Warnings: 0

Command output

##############################################################################
##############################################################################
###
### Running command:
###
###   /home/biocbuild/bbs-3.23-bioc/R/bin/R CMD check --install=check:dar.install-out.txt --library=/home/biocbuild/bbs-3.23-bioc/R/site-library --timings dar_1.7.0.tar.gz
###
##############################################################################
##############################################################################


* using log directory ‘/home/biocbuild/bbs-3.23-bioc/meat/dar.Rcheck’
* using R Under development (unstable) (2025-10-20 r88955)
* using platform: x86_64-pc-linux-gnu
* R was compiled by
    gcc (Ubuntu 13.3.0-6ubuntu2~24.04) 13.3.0
    GNU Fortran (Ubuntu 13.3.0-6ubuntu2~24.04) 13.3.0
* running under: Ubuntu 24.04.3 LTS
* using session charset: UTF-8
* checking for file ‘dar/DESCRIPTION’ ... OK
* this is package ‘dar’ version ‘1.7.0’
* package encoding: UTF-8
* checking package namespace information ... OK
* checking package dependencies ... INFO
Imports includes 21 non-default packages.
Importing from so many packages makes the package vulnerable to any of
them becoming unavailable.  Move as many as possible to Suggests and
use conditionally.
* checking if this is a source package ... OK
* checking if there is a namespace ... OK
* checking for hidden files and directories ... OK
* checking for portable file names ... OK
* checking for sufficient/correct file permissions ... OK
* checking whether package ‘dar’ can be installed ... OK
* checking installed package size ... OK
* checking package directory ... OK
* checking ‘build’ directory ... OK
* checking DESCRIPTION meta-information ... OK
* checking top-level files ... OK
* checking for left-over files ... OK
* checking index information ... OK
* checking package subdirectories ... OK
* checking code files for non-ASCII characters ... OK
* checking R files for syntax errors ... OK
* checking whether the package can be loaded ... OK
* checking whether the package can be loaded with stated dependencies ... OK
* checking whether the package can be unloaded cleanly ... OK
* checking whether the namespace can be loaded with stated dependencies ... OK
* checking whether the namespace can be unloaded cleanly ... OK
* checking loading without being on the library search path ... OK
* checking dependencies in R code ... OK
* checking S3 generic/method consistency ... OK
* checking replacement functions ... OK
* checking foreign function calls ... OK
* checking R code for possible problems ... OK
* checking Rd files ... OK
* checking Rd metadata ... OK
* checking Rd cross-references ... OK
* checking for missing documentation entries ... OK
* checking for code/documentation mismatches ... OK
* checking Rd \usage sections ... OK
* checking Rd contents ... OK
* checking for unstated dependencies in examples ... OK
* checking contents of ‘data’ directory ... OK
* checking data for non-ASCII characters ... OK
* checking data for ASCII and uncompressed saves ... OK
* checking R/sysdata.rda ... OK
* checking files in ‘vignettes’ ... OK
* checking examples ... OK
Examples with CPU (user + system) or elapsed time > 5s
                     user system elapsed
step_aldex         14.649  0.547  15.199
prep                5.956  0.572  44.912
step_deseq          5.765  0.083   5.850
import_steps        3.982  0.383  40.575
step_metagenomeseq  3.261  0.014   9.233
export_steps        2.639  0.208  13.207
recipe              2.460  0.263  18.220
* checking for unstated dependencies in ‘tests’ ... OK
* checking tests ...
  Running ‘testthat.R’
 OK
* checking for unstated dependencies in vignettes ... OK
* checking package vignettes ... OK
* checking re-building of vignette outputs ... OK
* checking PDF version of manual ... OK
* DONE

Status: OK


Installation output

dar.Rcheck/00install.out

##############################################################################
##############################################################################
###
### Running command:
###
###   /home/biocbuild/bbs-3.23-bioc/R/bin/R CMD INSTALL dar
###
##############################################################################
##############################################################################


* installing to library ‘/home/biocbuild/bbs-3.23-bioc/R/site-library’
* installing *source* package ‘dar’ ...
** this is package ‘dar’ version ‘1.7.0’
** using staged installation
** R
** data
** inst
** byte-compile and prepare package for lazy loading
** help
*** installing help indices
*** copying figures
** building package indices
** installing vignettes
** testing if installed package can be loaded from temporary location
** testing if installed package can be loaded from final location
** testing if installed package keeps a record of temporary installation path
* DONE (dar)

Tests output

dar.Rcheck/tests/testthat.Rout


R Under development (unstable) (2025-10-20 r88955) -- "Unsuffered Consequences"
Copyright (C) 2025 The R Foundation for Statistical Computing
Platform: x86_64-pc-linux-gnu

R is free software and comes with ABSOLUTELY NO WARRANTY.
You are welcome to redistribute it under certain conditions.
Type 'license()' or 'licence()' for distribution details.

R is a collaborative project with many contributors.
Type 'contributors()' for more information and
'citation()' on how to cite R or R packages in publications.

Type 'demo()' for some demos, 'help()' for on-line help, or
'help.start()' for an HTML browser interface to help.
Type 'q()' to quit R.

> library(testthat)
> library(dar)
> 
> test_check("dar")
Starting 2 test processes.
> test-roxytest-tests-lefse.R: ! Run lefse without rarefaction is not recommended (id = lefse__Krempita)
> test-roxytest-tests-recipe-class.R: Loading required namespace: TreeSummarizedExperiment
> test-roxytest-tests-recipe-class.R: Found more than one class "phylo" in cache; using the first, from namespace 'phyloseq'
> test-roxytest-tests-recipe-class.R: Also defined by 'tidytree'
> test-roxytest-tests-recipe-class.R: Found more than one class "phylo" in cache; using the first, from namespace 'phyloseq'
> test-roxytest-tests-recipe-class.R: Also defined by 'tidytree'
> test-roxytest-tests-recipe-class.R: Found more than one class "phylo" in cache; using the first, from namespace 'phyloseq'
> test-roxytest-tests-recipe-class.R: Also defined by 'tidytree'
> test-roxytest-tests-recipe-class.R: Found more than one class "phylo" in cache; using the first, from namespace 'phyloseq'
> test-roxytest-tests-recipe-class.R: Also defined by 'tidytree'
> test-roxytest-tests-recipe-class.R: Found more than one class "phylo" in cache; using the first, from namespace 'phyloseq'
> test-roxytest-tests-recipe-class.R: Also defined by 'tidytree'
> test-roxytest-tests-recipe-class.R: Found more than one class "phylo" in cache; using the first, from namespace 'phyloseq'
> test-roxytest-tests-recipe-class.R: Also defined by 'tidytree'
> test-roxytest-tests-recipe-class.R: Found more than one class "phylo" in cache; using the first, from namespace 'phyloseq'
> test-roxytest-tests-recipe-class.R: Also defined by 'tidytree'
> test-roxytest-tests-recipe-class.R: Found more than one class "phylo" in cache; using the first, from namespace 'phyloseq'
> test-roxytest-tests-recipe-class.R: Also defined by 'tidytree'
> test-roxytest-tests-recipe-class.R: Found more than one class "phylo" in cache; using the first, from namespace 'phyloseq'
> test-roxytest-tests-recipe-class.R: Also defined by 'tidytree'
> test-roxytest-tests-recipe-class.R: Found more than one class "phylo" in cache; using the first, from namespace 'phyloseq'
> test-roxytest-tests-recipe-class.R: Also defined by 'tidytree'
> test-roxytest-tests-recipe-class.R: Found more than one class "phylo" in cache; using the first, from namespace 'phyloseq'
> test-roxytest-tests-recipe-class.R: Also defined by 'tidytree'
> test-roxytest-tests-recipe-class.R: Found more than one class "phylo" in cache; using the first, from namespace 'phyloseq'
> test-roxytest-tests-recipe-class.R: Also defined by 'tidytree'
> test-roxytest-tests-recipe-class.R: Found more than one class "phylo" in cache; using the first, from namespace 'phyloseq'
> test-roxytest-tests-recipe-class.R: Also defined by 'tidytree'
> test-roxytest-tests-recipe-class.R: Found more than one class "phylo" in cache; using the first, from namespace 'phyloseq'
> test-roxytest-tests-recipe-class.R: Also defined by 'tidytree'
> test-roxytest-tests-recipe-class.R: Found more than one class "phylo" in cache; using the first, from namespace 'phyloseq'
> test-roxytest-tests-recipe-class.R: Also defined by 'tidytree'
[ FAIL 0 | WARN 3 | SKIP 10 | PASS 97 ]

══ Skipped tests (10) ══════════════════════════════════════════════════════════
• On CRAN (9): 'test-roxytest-tests-bake.R:5:1',
  'test-roxytest-tests-maaslin2.R:5:1', 'test-roxytest-tests-lefse.R:5:1',
  'test-roxytest-tests-pkg_check.R:5:1', 'test-roxytest-tests-misc.R:71:1',
  'test-roxytest-tests-misc.R:97:1', 'test-roxytest-tests-misc.R:106:1',
  'test-roxytest-tests-read_data.R:11:1',
  'test-roxytest-tests-steps_and_checks.R:5:1'
• Temporary disabling due to problems with the ANCOM package (1):
  'test-roxytest-tests-ancom.R:6:3'

[ FAIL 0 | WARN 3 | SKIP 10 | PASS 97 ]
> 
> proc.time()
   user  system elapsed 
138.354   7.136 162.776 

Example timings

dar.Rcheck/dar-Ex.timings

nameusersystemelapsed
abundance_plt2.2900.1442.434
add_tax0.1760.0030.180
add_var0.1460.0020.148
bake0.4310.0020.433
contains_rarefaction0.8590.0960.957
cool0.2660.0010.267
corr_heatmap4.4340.1924.627
exclusion_plt1.0590.0051.064
export_steps 2.639 0.20813.207
find_intersections0.1540.0160.171
get_comparisons0.0180.0020.021
get_phy0.0190.0020.021
get_tax0.0240.0020.025
get_var0.0250.0010.026
import_steps 3.982 0.38340.575
intersection_df0.1410.0000.141
intersection_plt2.0360.0322.067
mutual_plt2.3190.0792.398
otu_table0.3700.0040.375
overlap_df0.2170.0060.223
phy_qc1.0530.0391.093
prep 5.956 0.57244.912
rand_id0.0000.0010.000
read_data1.3070.5701.689
recipe 2.460 0.26318.220
required_deps0.0390.0010.040
sample_data0.0310.0010.033
step_aldex14.649 0.54715.199
step_ancom000
step_corncob1.8480.0441.893
step_deseq5.7650.0835.850
step_filter_by_abundance0.0360.0010.038
step_filter_by_prevalence0.0380.0010.038
step_filter_by_rarity0.0380.0000.038
step_filter_by_variance0.0390.0000.038
step_filter_taxa0.0370.0010.038
step_lefse0.0620.0010.064
step_maaslin2.9090.0412.950
step_metagenomeseq3.2610.0149.233
step_rarefaction0.0520.0020.054
step_subset_taxa0.0390.0010.040
step_wilcox1.8370.0201.856
steps_ids0.0100.0020.012
tax_table0.0470.0010.049
tidyeval0.0150.0000.015
to_tibble0.3730.0110.385
use_rarefy0.0150.0000.015
zero_otu0.3910.0060.397