Back to Build/check report for BioC 3.23:   simplified   long
AB[C]DEFGHIJKLMNOPQRSTUVWXYZ

This page was generated on 2025-11-06 11:32 -0500 (Thu, 06 Nov 2025).

HostnameOSArch (*)R versionInstalled pkgs
nebbiolo1Linux (Ubuntu 24.04.3 LTS)x86_64R Under development (unstable) (2025-10-20 r88955) -- "Unsuffered Consequences" 4818
Click on any hostname to see more info about the system (e.g. compilers)      (*) as reported by 'uname -p', except on Windows and Mac OS X

Package 489/2323HostnameOS / ArchINSTALLBUILDCHECKBUILD BIN
cyanoFilter 1.19.0  (landing page)
Oluwafemi Olusoji
Snapshot Date: 2025-11-05 13:40 -0500 (Wed, 05 Nov 2025)
git_url: https://git.bioconductor.org/packages/cyanoFilter
git_branch: devel
git_last_commit: 8ca42f1
git_last_commit_date: 2025-10-29 11:07:55 -0500 (Wed, 29 Oct 2025)
nebbiolo1Linux (Ubuntu 24.04.3 LTS) / x86_64  OK    OK    OK  UNNEEDED, same version is already published


CHECK results for cyanoFilter on nebbiolo1

To the developers/maintainers of the cyanoFilter package:
- Allow up to 24 hours (and sometimes 48 hours) for your latest push to git@git.bioconductor.org:packages/cyanoFilter.git to reflect on this report. See Troubleshooting Build Report for more information.
- Use the following Renviron settings to reproduce errors and warnings.
- If 'R CMD check' started to fail recently on the Linux builder(s) over a missing dependency, add the missing dependency to 'Suggests:' in your DESCRIPTION file. See Renviron.bioc for more information.

raw results


Summary

Package: cyanoFilter
Version: 1.19.0
Command: /home/biocbuild/bbs-3.23-bioc/R/bin/R CMD check --install=check:cyanoFilter.install-out.txt --library=/home/biocbuild/bbs-3.23-bioc/R/site-library --timings cyanoFilter_1.19.0.tar.gz
StartedAt: 2025-11-05 22:29:51 -0500 (Wed, 05 Nov 2025)
EndedAt: 2025-11-05 22:32:41 -0500 (Wed, 05 Nov 2025)
EllapsedTime: 169.3 seconds
RetCode: 0
Status:   OK  
CheckDir: cyanoFilter.Rcheck
Warnings: 0

Command output

##############################################################################
##############################################################################
###
### Running command:
###
###   /home/biocbuild/bbs-3.23-bioc/R/bin/R CMD check --install=check:cyanoFilter.install-out.txt --library=/home/biocbuild/bbs-3.23-bioc/R/site-library --timings cyanoFilter_1.19.0.tar.gz
###
##############################################################################
##############################################################################


* using log directory ‘/home/biocbuild/bbs-3.23-bioc/meat/cyanoFilter.Rcheck’
* using R Under development (unstable) (2025-10-20 r88955)
* using platform: x86_64-pc-linux-gnu
* R was compiled by
    gcc (Ubuntu 13.3.0-6ubuntu2~24.04) 13.3.0
    GNU Fortran (Ubuntu 13.3.0-6ubuntu2~24.04) 13.3.0
* running under: Ubuntu 24.04.3 LTS
* using session charset: UTF-8
* checking for file ‘cyanoFilter/DESCRIPTION’ ... OK
* checking extension type ... Package
* this is package ‘cyanoFilter’ version ‘1.19.0’
* package encoding: UTF-8
* checking package namespace information ... OK
* checking package dependencies ... OK
* checking if this is a source package ... OK
* checking if there is a namespace ... OK
* checking for hidden files and directories ... OK
* checking for portable file names ... OK
* checking for sufficient/correct file permissions ... OK
* checking whether package ‘cyanoFilter’ can be installed ... OK
* checking installed package size ... OK
* checking package directory ... OK
* checking ‘build’ directory ... OK
* checking DESCRIPTION meta-information ... OK
* checking top-level files ... OK
* checking for left-over files ... OK
* checking index information ... OK
* checking package subdirectories ... OK
* checking code files for non-ASCII characters ... OK
* checking R files for syntax errors ... OK
* checking whether the package can be loaded ... OK
* checking whether the package can be loaded with stated dependencies ... OK
* checking whether the package can be unloaded cleanly ... OK
* checking whether the namespace can be loaded with stated dependencies ... OK
* checking whether the namespace can be unloaded cleanly ... OK
* checking loading without being on the library search path ... OK
* checking dependencies in R code ... OK
* checking S3 generic/method consistency ... OK
* checking replacement functions ... OK
* checking foreign function calls ... OK
* checking R code for possible problems ... OK
* checking Rd files ... OK
* checking Rd metadata ... OK
* checking Rd cross-references ... OK
* checking for missing documentation entries ... OK
* checking for code/documentation mismatches ... OK
* checking Rd \usage sections ... OK
* checking Rd contents ... OK
* checking for unstated dependencies in examples ... OK
* checking files in ‘vignettes’ ... OK
* checking examples ... OK
Examples with CPU (user + system) or elapsed time > 5s
          user system elapsed
gateFunc 8.362  0.371   6.986
* checking for unstated dependencies in vignettes ... OK
* checking package vignettes ... OK
* checking re-building of vignette outputs ... OK
* checking PDF version of manual ... OK
* DONE

Status: OK


Installation output

cyanoFilter.Rcheck/00install.out

##############################################################################
##############################################################################
###
### Running command:
###
###   /home/biocbuild/bbs-3.23-bioc/R/bin/R CMD INSTALL cyanoFilter
###
##############################################################################
##############################################################################


* installing to library ‘/home/biocbuild/bbs-3.23-bioc/R/site-library’
* installing *source* package ‘cyanoFilter’ ...
** this is package ‘cyanoFilter’ version ‘1.19.0’
** using staged installation
** R
** inst
** byte-compile and prepare package for lazy loading
** help
*** installing help indices
** building package indices
** installing vignettes
** testing if installed package can be loaded from temporary location
** testing if installed package can be loaded from final location
** testing if installed package keeps a record of temporary installation path
* DONE (cyanoFilter)

Tests output


Example timings

cyanoFilter.Rcheck/cyanoFilter-Ex.timings

nameusersystemelapsed
MarginEvents0.7080.0280.738
PhytoFilter0.7850.0330.817
PhytopFilter0.5680.0310.598
accTest0.5290.0050.533
accuracy0.3290.0240.353
cellmargin0.2720.0260.298
clusterExtract0.7020.0090.715
clusterExtractp0.7040.0110.716
debrisNc0.5870.0280.616
fullFlowframe-MarginEvents-method0.2550.0060.261
fullFlowframe-PhytopFilter-method0.5250.0420.567
fullFlowframe0.2520.0070.259
gateFunc8.3620.3716.986
ggpairsDens4.6650.0804.746
ggplotDens0.6440.0430.687
ggplotDens21.3780.0441.422
goodfcs0.0430.0030.046
is.DebrisFilter0.0010.0010.000
is.MarginEvents000
is.PhytopFilter0.0000.0000.001
is.flowFrame0.0000.0010.000
is.flowSet000
lnTrans0.1910.0020.193
newFlowframe0.1750.0450.219
nona0.0870.0160.103
noneg0.1380.0150.154
oneDgate0.1790.0450.225
pairsPlot1.8280.0321.860
pigmentGate0.2280.0420.270
reducedFlowframe-MarginEvents-method0.2550.0070.263
reducedFlowframe0.2580.0020.260
retain0.0130.0010.014
rowNumbers0.1850.0430.228
summaries-DebrisFilter-method0.2460.0020.248
summaries-MarginEvents-method0.2530.0040.257
summaries-PhytopFilter-method0.5120.0090.521
summaries0.2680.0070.275